BEGIN:VCALENDAR
VERSION:2.0
PRODID:-//Action Network Blog - ECPv6.2.9//NONSGML v1.0//EN
CALSCALE:GREGORIAN
METHOD:PUBLISH
X-ORIGINAL-URL:https://actionnetwork.blog
X-WR-CALDESC:Events for Action Network Blog
REFRESH-INTERVAL;VALUE=DURATION:PT1H
X-Robots-Tag:noindex
X-PUBLISHED-TTL:PT1H
BEGIN:VTIMEZONE
TZID:America/New_York
BEGIN:DAYLIGHT
TZOFFSETFROM:-0500
TZOFFSETTO:-0400
TZNAME:EDT
DTSTART:20240310T070000
END:DAYLIGHT
BEGIN:STANDARD
TZOFFSETFROM:-0400
TZOFFSETTO:-0500
TZNAME:EST
DTSTART:20241103T060000
END:STANDARD
END:VTIMEZONE
BEGIN:VEVENT
DTSTART;TZID=America/New_York:20240111T140000
DTEND;TZID=America/New_York:20240111T150000
DTSTAMP:20240111T150626
CREATED:20220805T160237Z
LAST-MODIFIED:20230906T145238Z
UID:10000565-1704981600-1704985200@actionnetwork.blog
SUMMARY:102 - Actions\, Mobilizing & Growing Your Activist List
DESCRIPTION:The essence of Action Network! Petitions\, letter campaigns\, events\, fundraisers and much more. Join us each month as we rotate through action types and talk through best practices in creating engaging actions.
URL:https://actionnetwork.blog/event/102-actions-mobilizing-growing-your-activist-list/2024-01-11/
END:VEVENT
BEGIN:VEVENT
DTSTART;TZID=America/New_York:20240111T150000
DTEND;TZID=America/New_York:20240111T160000
DTSTAMP:20240111T150626
CREATED:20230403T183656Z
LAST-MODIFIED:20230615T141526Z
UID:10000391-1704985200-1704988800@actionnetwork.blog
SUMMARY:AB 102 - Tasks
DESCRIPTION:Ready to get to work organizing? Join us for a live training where we will dig into our Tasks feature. Learn how Action Builder can make completing follow up tasks\, in the office or in the field\, quick and easy! From this training\, you can expect to learn how to: \n\nCreate\, edit\, and manage tasks\nAdd task due dates\, descriptions\, and To-Dos\nCreate targets for your tasks\nCreate turfs manually and with the Auto-create feature\nAssign turf to individuals and teams\nView and complete your own tasks
URL:https://actionnetwork.blog/event/ab-102-tasks/2024-01-11/
END:VEVENT
END:VCALENDAR