BEGIN:VCALENDAR
VERSION:2.0
PRODID:-//Action Network Blog - ECPv6.2.9//NONSGML v1.0//EN
CALSCALE:GREGORIAN
METHOD:PUBLISH
X-ORIGINAL-URL:https://actionnetwork.blog
X-WR-CALDESC:Events for Action Network Blog
REFRESH-INTERVAL;VALUE=DURATION:PT1H
X-Robots-Tag:noindex
X-PUBLISHED-TTL:PT1H
BEGIN:VTIMEZONE
TZID:America/New_York
BEGIN:DAYLIGHT
TZOFFSETFROM:-0500
TZOFFSETTO:-0400
TZNAME:EDT
DTSTART:20280312T070000
END:DAYLIGHT
BEGIN:STANDARD
TZOFFSETFROM:-0400
TZOFFSETTO:-0500
TZNAME:EST
DTSTART:20281105T060000
END:STANDARD
END:VTIMEZONE
BEGIN:VEVENT
DTSTART;TZID=America/New_York:20280203T140000
DTEND;TZID=America/New_York:20280203T150000
DTSTAMP:20240111T173106
CREATED:20230615T134903Z
LAST-MODIFIED:20230906T145146Z
UID:10000554-1833199200-1833202800@actionnetwork.blog
SUMMARY:101 - Data\, Understanding Your Activist List
DESCRIPTION:  \n\n\n\nLearn how to set up your data in Action Network. We’ll cover gathering activist data\, uploading\, segmenting\, and downloading your list\, as well as how to keep your data organized as you grow.
URL:https://actionnetwork.blog/event/101-data-understanding-your-activist-list-2-2/2028-02-03/
END:VEVENT
BEGIN:VEVENT
DTSTART;TZID=America/New_York:20280302T140000
DTEND;TZID=America/New_York:20280302T150000
DTSTAMP:20240111T173106
CREATED:20230615T134903Z
LAST-MODIFIED:20230906T145146Z
UID:10000555-1835618400-1835622000@actionnetwork.blog
SUMMARY:101 - Data\, Understanding Your Activist List
DESCRIPTION:  \n\n\n\nLearn how to set up your data in Action Network. We’ll cover gathering activist data\, uploading\, segmenting\, and downloading your list\, as well as how to keep your data organized as you grow.
URL:https://actionnetwork.blog/event/101-data-understanding-your-activist-list-2-2/2028-03-02/
END:VEVENT
BEGIN:VEVENT
DTSTART;TZID=America/New_York:20280406T140000
DTEND;TZID=America/New_York:20280406T150000
DTSTAMP:20240111T173106
CREATED:20230615T134903Z
LAST-MODIFIED:20230906T145146Z
UID:10000556-1838642400-1838646000@actionnetwork.blog
SUMMARY:101 - Data\, Understanding Your Activist List
DESCRIPTION:  \n\n\n\nLearn how to set up your data in Action Network. We’ll cover gathering activist data\, uploading\, segmenting\, and downloading your list\, as well as how to keep your data organized as you grow.
URL:https://actionnetwork.blog/event/101-data-understanding-your-activist-list-2-2/2028-04-06/
END:VEVENT
BEGIN:VEVENT
DTSTART;TZID=America/New_York:20280504T140000
DTEND;TZID=America/New_York:20280504T150000
DTSTAMP:20240111T173106
CREATED:20230615T134903Z
LAST-MODIFIED:20230906T145146Z
UID:10000557-1841061600-1841065200@actionnetwork.blog
SUMMARY:101 - Data\, Understanding Your Activist List
DESCRIPTION:  \n\n\n\nLearn how to set up your data in Action Network. We’ll cover gathering activist data\, uploading\, segmenting\, and downloading your list\, as well as how to keep your data organized as you grow.
URL:https://actionnetwork.blog/event/101-data-understanding-your-activist-list-2-2/2028-05-04/
END:VEVENT
BEGIN:VEVENT
DTSTART;TZID=America/New_York:20280601T140000
DTEND;TZID=America/New_York:20280601T150000
DTSTAMP:20240111T173106
CREATED:20230615T134903Z
LAST-MODIFIED:20230906T145146Z
UID:10000558-1843480800-1843484400@actionnetwork.blog
SUMMARY:101 - Data\, Understanding Your Activist List
DESCRIPTION:  \n\n\n\nLearn how to set up your data in Action Network. We’ll cover gathering activist data\, uploading\, segmenting\, and downloading your list\, as well as how to keep your data organized as you grow.
URL:https://actionnetwork.blog/event/101-data-understanding-your-activist-list-2-2/2028-06-01/
END:VEVENT
BEGIN:VEVENT
DTSTART;TZID=America/New_York:20280706T140000
DTEND;TZID=America/New_York:20280706T150000
DTSTAMP:20240111T173106
CREATED:20230615T134903Z
LAST-MODIFIED:20230906T145146Z
UID:10000559-1846504800-1846508400@actionnetwork.blog
SUMMARY:101 - Data\, Understanding Your Activist List
DESCRIPTION:  \n\n\n\nLearn how to set up your data in Action Network. We’ll cover gathering activist data\, uploading\, segmenting\, and downloading your list\, as well as how to keep your data organized as you grow.
URL:https://actionnetwork.blog/event/101-data-understanding-your-activist-list-2-2/2028-07-06/
END:VEVENT
BEGIN:VEVENT
DTSTART;TZID=America/New_York:20280803T140000
DTEND;TZID=America/New_York:20280803T150000
DTSTAMP:20240111T173106
CREATED:20230615T134903Z
LAST-MODIFIED:20230906T145146Z
UID:10000560-1848924000-1848927600@actionnetwork.blog
SUMMARY:101 - Data\, Understanding Your Activist List
DESCRIPTION:  \n\n\n\nLearn how to set up your data in Action Network. We’ll cover gathering activist data\, uploading\, segmenting\, and downloading your list\, as well as how to keep your data organized as you grow.
URL:https://actionnetwork.blog/event/101-data-understanding-your-activist-list-2-2/2028-08-03/
END:VEVENT
END:VCALENDAR