BEGIN:VCALENDAR
VERSION:2.0
PRODID:-//Action Network Blog - ECPv6.15.20//NONSGML v1.0//EN
CALSCALE:GREGORIAN
METHOD:PUBLISH
X-WR-CALNAME:Action Network Blog
X-ORIGINAL-URL:https://actionnetwork.blog
X-WR-CALDESC:Events for Action Network Blog
REFRESH-INTERVAL;VALUE=DURATION:PT1H
X-Robots-Tag:noindex
X-PUBLISHED-TTL:PT1H
BEGIN:VTIMEZONE
TZID:America/New_York
BEGIN:DAYLIGHT
TZOFFSETFROM:-0500
TZOFFSETTO:-0400
TZNAME:EDT
DTSTART:20270314T070000
END:DAYLIGHT
BEGIN:STANDARD
TZOFFSETFROM:-0400
TZOFFSETTO:-0500
TZNAME:EST
DTSTART:20271107T060000
END:STANDARD
BEGIN:DAYLIGHT
TZOFFSETFROM:-0500
TZOFFSETTO:-0400
TZNAME:EDT
DTSTART:20280312T070000
END:DAYLIGHT
BEGIN:STANDARD
TZOFFSETFROM:-0400
TZOFFSETTO:-0500
TZNAME:EST
DTSTART:20281105T060000
END:STANDARD
BEGIN:DAYLIGHT
TZOFFSETFROM:-0500
TZOFFSETTO:-0400
TZNAME:EDT
DTSTART:20290311T070000
END:DAYLIGHT
BEGIN:STANDARD
TZOFFSETFROM:-0400
TZOFFSETTO:-0500
TZNAME:EST
DTSTART:20291104T060000
END:STANDARD
BEGIN:DAYLIGHT
TZOFFSETFROM:-0500
TZOFFSETTO:-0400
TZNAME:EDT
DTSTART:20300310T070000
END:DAYLIGHT
BEGIN:STANDARD
TZOFFSETFROM:-0400
TZOFFSETTO:-0500
TZNAME:EST
DTSTART:20301103T060000
END:STANDARD
END:VTIMEZONE
BEGIN:VEVENT
DTSTART;TZID=America/New_York:20280518T140000
DTEND;TZID=America/New_York:20280518T150000
DTSTAMP:20260419T190006
CREATED:20220805T160600Z
LAST-MODIFIED:20240514T153816Z
UID:10000677-1842271200-1842274800@actionnetwork.blog
SUMMARY:103 - Email
DESCRIPTION:Learn how to write\, test\, and target your emails in this 1 hour training. We’ll cover the basics as well as some advanced topics\, including conditional content\, design\, and queries.
URL:https://actionnetwork.blog/event/103-email/2028-05-18/
END:VEVENT
BEGIN:VEVENT
DTSTART;TZID=America/New_York:20280615T140000
DTEND;TZID=America/New_York:20280615T150000
DTSTAMP:20260419T190006
CREATED:20220805T160600Z
LAST-MODIFIED:20240514T153816Z
UID:10000678-1844690400-1844694000@actionnetwork.blog
SUMMARY:103 - Email
DESCRIPTION:Learn how to write\, test\, and target your emails in this 1 hour training. We’ll cover the basics as well as some advanced topics\, including conditional content\, design\, and queries.
URL:https://actionnetwork.blog/event/103-email/2028-06-15/
END:VEVENT
BEGIN:VEVENT
DTSTART;TZID=America/New_York:20280720T140000
DTEND;TZID=America/New_York:20280720T150000
DTSTAMP:20260419T190006
CREATED:20220805T160600Z
LAST-MODIFIED:20240514T153816Z
UID:10000679-1847714400-1847718000@actionnetwork.blog
SUMMARY:103 - Email
DESCRIPTION:Learn how to write\, test\, and target your emails in this 1 hour training. We’ll cover the basics as well as some advanced topics\, including conditional content\, design\, and queries.
URL:https://actionnetwork.blog/event/103-email/2028-07-20/
END:VEVENT
BEGIN:VEVENT
DTSTART;TZID=America/New_York:20280817T140000
DTEND;TZID=America/New_York:20280817T150000
DTSTAMP:20260419T190006
CREATED:20220805T160600Z
LAST-MODIFIED:20240514T153816Z
UID:10000680-1850133600-1850137200@actionnetwork.blog
SUMMARY:103 - Email
DESCRIPTION:Learn how to write\, test\, and target your emails in this 1 hour training. We’ll cover the basics as well as some advanced topics\, including conditional content\, design\, and queries.
URL:https://actionnetwork.blog/event/103-email/2028-08-17/
END:VEVENT
BEGIN:VEVENT
DTSTART;TZID=America/New_York:20280921T140000
DTEND;TZID=America/New_York:20280921T150000
DTSTAMP:20260419T190006
CREATED:20220805T160600Z
LAST-MODIFIED:20240514T153816Z
UID:10000769-1853157600-1853161200@actionnetwork.blog
SUMMARY:103 - Email
DESCRIPTION:Learn how to write\, test\, and target your emails in this 1 hour training. We’ll cover the basics as well as some advanced topics\, including conditional content\, design\, and queries.
URL:https://actionnetwork.blog/event/103-email/2028-09-21/
END:VEVENT
BEGIN:VEVENT
DTSTART;TZID=America/New_York:20281019T140000
DTEND;TZID=America/New_York:20281019T150000
DTSTAMP:20260419T190006
CREATED:20220805T160600Z
LAST-MODIFIED:20240514T153816Z
UID:10000770-1855576800-1855580400@actionnetwork.blog
SUMMARY:103 - Email
DESCRIPTION:Learn how to write\, test\, and target your emails in this 1 hour training. We’ll cover the basics as well as some advanced topics\, including conditional content\, design\, and queries.
URL:https://actionnetwork.blog/event/103-email/2028-10-19/
END:VEVENT
BEGIN:VEVENT
DTSTART;TZID=America/New_York:20281116T140000
DTEND;TZID=America/New_York:20281116T150000
DTSTAMP:20260419T190006
CREATED:20220805T160600Z
LAST-MODIFIED:20240514T153816Z
UID:10000771-1857996000-1857999600@actionnetwork.blog
SUMMARY:103 - Email
DESCRIPTION:Learn how to write\, test\, and target your emails in this 1 hour training. We’ll cover the basics as well as some advanced topics\, including conditional content\, design\, and queries.
URL:https://actionnetwork.blog/event/103-email/2028-11-16/
END:VEVENT
BEGIN:VEVENT
DTSTART;TZID=America/New_York:20281221T140000
DTEND;TZID=America/New_York:20281221T150000
DTSTAMP:20260419T190006
CREATED:20220805T160600Z
LAST-MODIFIED:20240514T153816Z
UID:10000772-1861020000-1861023600@actionnetwork.blog
SUMMARY:103 - Email
DESCRIPTION:Learn how to write\, test\, and target your emails in this 1 hour training. We’ll cover the basics as well as some advanced topics\, including conditional content\, design\, and queries.
URL:https://actionnetwork.blog/event/103-email/2028-12-21/
END:VEVENT
BEGIN:VEVENT
DTSTART;TZID=America/New_York:20290118T140000
DTEND;TZID=America/New_York:20290118T150000
DTSTAMP:20260419T190006
CREATED:20220805T160600Z
LAST-MODIFIED:20240514T153816Z
UID:10000773-1863439200-1863442800@actionnetwork.blog
SUMMARY:103 - Email
DESCRIPTION:Learn how to write\, test\, and target your emails in this 1 hour training. We’ll cover the basics as well as some advanced topics\, including conditional content\, design\, and queries.
URL:https://actionnetwork.blog/event/103-email/2029-01-18/
END:VEVENT
BEGIN:VEVENT
DTSTART;TZID=America/New_York:20290215T140000
DTEND;TZID=America/New_York:20290215T150000
DTSTAMP:20260419T190006
CREATED:20220805T160600Z
LAST-MODIFIED:20240514T153816Z
UID:10000774-1865858400-1865862000@actionnetwork.blog
SUMMARY:103 - Email
DESCRIPTION:Learn how to write\, test\, and target your emails in this 1 hour training. We’ll cover the basics as well as some advanced topics\, including conditional content\, design\, and queries.
URL:https://actionnetwork.blog/event/103-email/2029-02-15/
END:VEVENT
BEGIN:VEVENT
DTSTART;TZID=America/New_York:20290315T140000
DTEND;TZID=America/New_York:20290315T150000
DTSTAMP:20260419T190006
CREATED:20220805T160600Z
LAST-MODIFIED:20240514T153816Z
UID:10000775-1868277600-1868281200@actionnetwork.blog
SUMMARY:103 - Email
DESCRIPTION:Learn how to write\, test\, and target your emails in this 1 hour training. We’ll cover the basics as well as some advanced topics\, including conditional content\, design\, and queries.
URL:https://actionnetwork.blog/event/103-email/2029-03-15/
END:VEVENT
BEGIN:VEVENT
DTSTART;TZID=America/New_York:20290419T140000
DTEND;TZID=America/New_York:20290419T150000
DTSTAMP:20260419T190006
CREATED:20220805T160600Z
LAST-MODIFIED:20240514T153816Z
UID:10000776-1871301600-1871305200@actionnetwork.blog
SUMMARY:103 - Email
DESCRIPTION:Learn how to write\, test\, and target your emails in this 1 hour training. We’ll cover the basics as well as some advanced topics\, including conditional content\, design\, and queries.
URL:https://actionnetwork.blog/event/103-email/2029-04-19/
END:VEVENT
END:VCALENDAR