BEGIN:VCALENDAR
VERSION:2.0
PRODID:-//Action Network Blog - ECPv6.15.20//NONSGML v1.0//EN
CALSCALE:GREGORIAN
METHOD:PUBLISH
X-WR-CALNAME:Action Network Blog
X-ORIGINAL-URL:https://actionnetwork.blog
X-WR-CALDESC:Events for Action Network Blog
REFRESH-INTERVAL;VALUE=DURATION:PT1H
X-Robots-Tag:noindex
X-PUBLISHED-TTL:PT1H
BEGIN:VTIMEZONE
TZID:America/New_York
BEGIN:DAYLIGHT
TZOFFSETFROM:-0500
TZOFFSETTO:-0400
TZNAME:EDT
DTSTART:20270314T070000
END:DAYLIGHT
BEGIN:STANDARD
TZOFFSETFROM:-0400
TZOFFSETTO:-0500
TZNAME:EST
DTSTART:20271107T060000
END:STANDARD
BEGIN:DAYLIGHT
TZOFFSETFROM:-0500
TZOFFSETTO:-0400
TZNAME:EDT
DTSTART:20280312T070000
END:DAYLIGHT
BEGIN:STANDARD
TZOFFSETFROM:-0400
TZOFFSETTO:-0500
TZNAME:EST
DTSTART:20281105T060000
END:STANDARD
BEGIN:DAYLIGHT
TZOFFSETFROM:-0500
TZOFFSETTO:-0400
TZNAME:EDT
DTSTART:20290311T070000
END:DAYLIGHT
BEGIN:STANDARD
TZOFFSETFROM:-0400
TZOFFSETTO:-0500
TZNAME:EST
DTSTART:20291104T060000
END:STANDARD
END:VTIMEZONE
BEGIN:VEVENT
DTSTART;TZID=America/New_York:20280511T140000
DTEND;TZID=America/New_York:20280511T150000
DTSTAMP:20260419T190018
CREATED:20220805T160237Z
LAST-MODIFIED:20230906T145238Z
UID:10000617-1841666400-1841670000@actionnetwork.blog
SUMMARY:102 - Actions\, Mobilizing & Growing Your Activist List
DESCRIPTION:The essence of Action Network! Petitions\, letter campaigns\, events\, fundraisers and much more. Join us each month as we rotate through action types and talk through best practices in creating engaging actions.
URL:https://actionnetwork.blog/event/102-actions-mobilizing-growing-your-activist-list/2028-05-11/
END:VEVENT
BEGIN:VEVENT
DTSTART;TZID=America/New_York:20280608T140000
DTEND;TZID=America/New_York:20280608T150000
DTSTAMP:20260419T190018
CREATED:20220805T160237Z
LAST-MODIFIED:20230906T145238Z
UID:10000618-1844085600-1844089200@actionnetwork.blog
SUMMARY:102 - Actions\, Mobilizing & Growing Your Activist List
DESCRIPTION:The essence of Action Network! Petitions\, letter campaigns\, events\, fundraisers and much more. Join us each month as we rotate through action types and talk through best practices in creating engaging actions.
URL:https://actionnetwork.blog/event/102-actions-mobilizing-growing-your-activist-list/2028-06-08/
END:VEVENT
BEGIN:VEVENT
DTSTART;TZID=America/New_York:20280713T140000
DTEND;TZID=America/New_York:20280713T150000
DTSTAMP:20260419T190018
CREATED:20220805T160237Z
LAST-MODIFIED:20230906T145238Z
UID:10000619-1847109600-1847113200@actionnetwork.blog
SUMMARY:102 - Actions\, Mobilizing & Growing Your Activist List
DESCRIPTION:The essence of Action Network! Petitions\, letter campaigns\, events\, fundraisers and much more. Join us each month as we rotate through action types and talk through best practices in creating engaging actions.
URL:https://actionnetwork.blog/event/102-actions-mobilizing-growing-your-activist-list/2028-07-13/
END:VEVENT
BEGIN:VEVENT
DTSTART;TZID=America/New_York:20280810T140000
DTEND;TZID=America/New_York:20280810T150000
DTSTAMP:20260419T190018
CREATED:20220805T160237Z
LAST-MODIFIED:20230906T145238Z
UID:10000620-1849528800-1849532400@actionnetwork.blog
SUMMARY:102 - Actions\, Mobilizing & Growing Your Activist List
DESCRIPTION:The essence of Action Network! Petitions\, letter campaigns\, events\, fundraisers and much more. Join us each month as we rotate through action types and talk through best practices in creating engaging actions.
URL:https://actionnetwork.blog/event/102-actions-mobilizing-growing-your-activist-list/2028-08-10/
END:VEVENT
END:VCALENDAR