BEGIN:VCALENDAR
VERSION:2.0
PRODID:-//Action Network Blog - ECPv6.2.9//NONSGML v1.0//EN
CALSCALE:GREGORIAN
METHOD:PUBLISH
X-WR-CALNAME:Action Network Blog
X-ORIGINAL-URL:https://actionnetwork.blog
X-WR-CALDESC:Events for Action Network Blog
REFRESH-INTERVAL;VALUE=DURATION:PT1H
X-Robots-Tag:noindex
X-PUBLISHED-TTL:PT1H
BEGIN:VTIMEZONE
TZID:America/New_York
BEGIN:DAYLIGHT
TZOFFSETFROM:-0500
TZOFFSETTO:-0400
TZNAME:EDT
DTSTART:20250309T070000
END:DAYLIGHT
BEGIN:STANDARD
TZOFFSETFROM:-0400
TZOFFSETTO:-0500
TZNAME:EST
DTSTART:20251102T060000
END:STANDARD
BEGIN:DAYLIGHT
TZOFFSETFROM:-0500
TZOFFSETTO:-0400
TZNAME:EDT
DTSTART:20260308T070000
END:DAYLIGHT
BEGIN:STANDARD
TZOFFSETFROM:-0400
TZOFFSETTO:-0500
TZNAME:EST
DTSTART:20261101T060000
END:STANDARD
BEGIN:DAYLIGHT
TZOFFSETFROM:-0500
TZOFFSETTO:-0400
TZNAME:EDT
DTSTART:20270314T070000
END:DAYLIGHT
BEGIN:STANDARD
TZOFFSETFROM:-0400
TZOFFSETTO:-0500
TZNAME:EST
DTSTART:20271107T060000
END:STANDARD
END:VTIMEZONE
BEGIN:VEVENT
DTSTART;TZID=America/New_York:20250123T140000
DTEND;TZID=America/New_York:20250123T150000
DTSTAMP:20240111T150839
CREATED:20220805T160729Z
LAST-MODIFIED:20230906T145306Z
UID:10000697-1737640800-1737644400@actionnetwork.blog
SUMMARY:104 - Mobile Messaging
DESCRIPTION:Action Network is making mass mobile messaging as easy as sending email. Learn how to get started with Mobile Messaging in this training where we will cover how to create a mobile message\, how to use ladders and how to set up a call campaign.
URL:https://actionnetwork.blog/event/104-mobile-messaging/2025-01-23/
END:VEVENT
BEGIN:VEVENT
DTSTART;TZID=America/New_York:20250227T140000
DTEND;TZID=America/New_York:20250227T150000
DTSTAMP:20240111T150839
CREATED:20220805T160729Z
LAST-MODIFIED:20230906T145306Z
UID:10000698-1740664800-1740668400@actionnetwork.blog
SUMMARY:104 - Mobile Messaging
DESCRIPTION:Action Network is making mass mobile messaging as easy as sending email. Learn how to get started with Mobile Messaging in this training where we will cover how to create a mobile message\, how to use ladders and how to set up a call campaign.
URL:https://actionnetwork.blog/event/104-mobile-messaging/2025-02-27/
END:VEVENT
BEGIN:VEVENT
DTSTART;TZID=America/New_York:20250327T140000
DTEND;TZID=America/New_York:20250327T150000
DTSTAMP:20240111T150839
CREATED:20220805T160729Z
LAST-MODIFIED:20230906T145306Z
UID:10000699-1743084000-1743087600@actionnetwork.blog
SUMMARY:104 - Mobile Messaging
DESCRIPTION:Action Network is making mass mobile messaging as easy as sending email. Learn how to get started with Mobile Messaging in this training where we will cover how to create a mobile message\, how to use ladders and how to set up a call campaign.
URL:https://actionnetwork.blog/event/104-mobile-messaging/2025-03-27/
END:VEVENT
BEGIN:VEVENT
DTSTART;TZID=America/New_York:20250424T140000
DTEND;TZID=America/New_York:20250424T150000
DTSTAMP:20240111T150839
CREATED:20220805T160729Z
LAST-MODIFIED:20230906T145306Z
UID:10000700-1745503200-1745506800@actionnetwork.blog
SUMMARY:104 - Mobile Messaging
DESCRIPTION:Action Network is making mass mobile messaging as easy as sending email. Learn how to get started with Mobile Messaging in this training where we will cover how to create a mobile message\, how to use ladders and how to set up a call campaign.
URL:https://actionnetwork.blog/event/104-mobile-messaging/2025-04-24/
END:VEVENT
BEGIN:VEVENT
DTSTART;TZID=America/New_York:20250522T140000
DTEND;TZID=America/New_York:20250522T150000
DTSTAMP:20240111T150839
CREATED:20220805T160729Z
LAST-MODIFIED:20230906T145306Z
UID:10000701-1747922400-1747926000@actionnetwork.blog
SUMMARY:104 - Mobile Messaging
DESCRIPTION:Action Network is making mass mobile messaging as easy as sending email. Learn how to get started with Mobile Messaging in this training where we will cover how to create a mobile message\, how to use ladders and how to set up a call campaign.
URL:https://actionnetwork.blog/event/104-mobile-messaging/2025-05-22/
END:VEVENT
BEGIN:VEVENT
DTSTART;TZID=America/New_York:20250626T140000
DTEND;TZID=America/New_York:20250626T150000
DTSTAMP:20240111T150839
CREATED:20220805T160729Z
LAST-MODIFIED:20230906T145306Z
UID:10000702-1750946400-1750950000@actionnetwork.blog
SUMMARY:104 - Mobile Messaging
DESCRIPTION:Action Network is making mass mobile messaging as easy as sending email. Learn how to get started with Mobile Messaging in this training where we will cover how to create a mobile message\, how to use ladders and how to set up a call campaign.
URL:https://actionnetwork.blog/event/104-mobile-messaging/2025-06-26/
END:VEVENT
BEGIN:VEVENT
DTSTART;TZID=America/New_York:20250724T140000
DTEND;TZID=America/New_York:20250724T150000
DTSTAMP:20240111T150839
CREATED:20220805T160729Z
LAST-MODIFIED:20230906T145306Z
UID:10000703-1753365600-1753369200@actionnetwork.blog
SUMMARY:104 - Mobile Messaging
DESCRIPTION:Action Network is making mass mobile messaging as easy as sending email. Learn how to get started with Mobile Messaging in this training where we will cover how to create a mobile message\, how to use ladders and how to set up a call campaign.
URL:https://actionnetwork.blog/event/104-mobile-messaging/2025-07-24/
END:VEVENT
BEGIN:VEVENT
DTSTART;TZID=America/New_York:20250828T140000
DTEND;TZID=America/New_York:20250828T150000
DTSTAMP:20240111T150839
CREATED:20220805T160729Z
LAST-MODIFIED:20230906T145306Z
UID:10000704-1756389600-1756393200@actionnetwork.blog
SUMMARY:104 - Mobile Messaging
DESCRIPTION:Action Network is making mass mobile messaging as easy as sending email. Learn how to get started with Mobile Messaging in this training where we will cover how to create a mobile message\, how to use ladders and how to set up a call campaign.
URL:https://actionnetwork.blog/event/104-mobile-messaging/2025-08-28/
END:VEVENT
BEGIN:VEVENT
DTSTART;TZID=America/New_York:20250925T140000
DTEND;TZID=America/New_York:20250925T150000
DTSTAMP:20240111T150839
CREATED:20220805T160729Z
LAST-MODIFIED:20230906T145306Z
UID:10000705-1758808800-1758812400@actionnetwork.blog
SUMMARY:104 - Mobile Messaging
DESCRIPTION:Action Network is making mass mobile messaging as easy as sending email. Learn how to get started with Mobile Messaging in this training where we will cover how to create a mobile message\, how to use ladders and how to set up a call campaign.
URL:https://actionnetwork.blog/event/104-mobile-messaging/2025-09-25/
END:VEVENT
BEGIN:VEVENT
DTSTART;TZID=America/New_York:20251023T140000
DTEND;TZID=America/New_York:20251023T150000
DTSTAMP:20240111T150839
CREATED:20220805T160729Z
LAST-MODIFIED:20230906T145306Z
UID:10000706-1761228000-1761231600@actionnetwork.blog
SUMMARY:104 - Mobile Messaging
DESCRIPTION:Action Network is making mass mobile messaging as easy as sending email. Learn how to get started with Mobile Messaging in this training where we will cover how to create a mobile message\, how to use ladders and how to set up a call campaign.
URL:https://actionnetwork.blog/event/104-mobile-messaging/2025-10-23/
END:VEVENT
BEGIN:VEVENT
DTSTART;TZID=America/New_York:20251127T140000
DTEND;TZID=America/New_York:20251127T150000
DTSTAMP:20240111T150839
CREATED:20220805T160729Z
LAST-MODIFIED:20230906T145306Z
UID:10000707-1764252000-1764255600@actionnetwork.blog
SUMMARY:104 - Mobile Messaging
DESCRIPTION:Action Network is making mass mobile messaging as easy as sending email. Learn how to get started with Mobile Messaging in this training where we will cover how to create a mobile message\, how to use ladders and how to set up a call campaign.
URL:https://actionnetwork.blog/event/104-mobile-messaging/2025-11-27/
END:VEVENT
BEGIN:VEVENT
DTSTART;TZID=America/New_York:20251225T140000
DTEND;TZID=America/New_York:20251225T150000
DTSTAMP:20240111T150839
CREATED:20220805T160729Z
LAST-MODIFIED:20230906T145306Z
UID:10000708-1766671200-1766674800@actionnetwork.blog
SUMMARY:104 - Mobile Messaging
DESCRIPTION:Action Network is making mass mobile messaging as easy as sending email. Learn how to get started with Mobile Messaging in this training where we will cover how to create a mobile message\, how to use ladders and how to set up a call campaign.
URL:https://actionnetwork.blog/event/104-mobile-messaging/2025-12-25/
END:VEVENT
BEGIN:VEVENT
DTSTART;TZID=America/New_York:20260122T140000
DTEND;TZID=America/New_York:20260122T150000
DTSTAMP:20240111T150839
CREATED:20220805T160729Z
LAST-MODIFIED:20230906T145306Z
UID:10000709-1769090400-1769094000@actionnetwork.blog
SUMMARY:104 - Mobile Messaging
DESCRIPTION:Action Network is making mass mobile messaging as easy as sending email. Learn how to get started with Mobile Messaging in this training where we will cover how to create a mobile message\, how to use ladders and how to set up a call campaign.
URL:https://actionnetwork.blog/event/104-mobile-messaging/2026-01-22/
END:VEVENT
BEGIN:VEVENT
DTSTART;TZID=America/New_York:20260226T140000
DTEND;TZID=America/New_York:20260226T150000
DTSTAMP:20240111T150839
CREATED:20220805T160729Z
LAST-MODIFIED:20230906T145306Z
UID:10000710-1772114400-1772118000@actionnetwork.blog
SUMMARY:104 - Mobile Messaging
DESCRIPTION:Action Network is making mass mobile messaging as easy as sending email. Learn how to get started with Mobile Messaging in this training where we will cover how to create a mobile message\, how to use ladders and how to set up a call campaign.
URL:https://actionnetwork.blog/event/104-mobile-messaging/2026-02-26/
END:VEVENT
BEGIN:VEVENT
DTSTART;TZID=America/New_York:20260326T140000
DTEND;TZID=America/New_York:20260326T150000
DTSTAMP:20240111T150839
CREATED:20220805T160729Z
LAST-MODIFIED:20230906T145306Z
UID:10000711-1774533600-1774537200@actionnetwork.blog
SUMMARY:104 - Mobile Messaging
DESCRIPTION:Action Network is making mass mobile messaging as easy as sending email. Learn how to get started with Mobile Messaging in this training where we will cover how to create a mobile message\, how to use ladders and how to set up a call campaign.
URL:https://actionnetwork.blog/event/104-mobile-messaging/2026-03-26/
END:VEVENT
BEGIN:VEVENT
DTSTART;TZID=America/New_York:20260423T140000
DTEND;TZID=America/New_York:20260423T150000
DTSTAMP:20240111T150839
CREATED:20220805T160729Z
LAST-MODIFIED:20230906T145306Z
UID:10000712-1776952800-1776956400@actionnetwork.blog
SUMMARY:104 - Mobile Messaging
DESCRIPTION:Action Network is making mass mobile messaging as easy as sending email. Learn how to get started with Mobile Messaging in this training where we will cover how to create a mobile message\, how to use ladders and how to set up a call campaign.
URL:https://actionnetwork.blog/event/104-mobile-messaging/2026-04-23/
END:VEVENT
BEGIN:VEVENT
DTSTART;TZID=America/New_York:20260528T140000
DTEND;TZID=America/New_York:20260528T150000
DTSTAMP:20240111T150839
CREATED:20220805T160729Z
LAST-MODIFIED:20230906T145306Z
UID:10000713-1779976800-1779980400@actionnetwork.blog
SUMMARY:104 - Mobile Messaging
DESCRIPTION:Action Network is making mass mobile messaging as easy as sending email. Learn how to get started with Mobile Messaging in this training where we will cover how to create a mobile message\, how to use ladders and how to set up a call campaign.
URL:https://actionnetwork.blog/event/104-mobile-messaging/2026-05-28/
END:VEVENT
BEGIN:VEVENT
DTSTART;TZID=America/New_York:20260625T140000
DTEND;TZID=America/New_York:20260625T150000
DTSTAMP:20240111T150839
CREATED:20220805T160729Z
LAST-MODIFIED:20230906T145306Z
UID:10000714-1782396000-1782399600@actionnetwork.blog
SUMMARY:104 - Mobile Messaging
DESCRIPTION:Action Network is making mass mobile messaging as easy as sending email. Learn how to get started with Mobile Messaging in this training where we will cover how to create a mobile message\, how to use ladders and how to set up a call campaign.
URL:https://actionnetwork.blog/event/104-mobile-messaging/2026-06-25/
END:VEVENT
BEGIN:VEVENT
DTSTART;TZID=America/New_York:20260723T140000
DTEND;TZID=America/New_York:20260723T150000
DTSTAMP:20240111T150839
CREATED:20220805T160729Z
LAST-MODIFIED:20230906T145306Z
UID:10000715-1784815200-1784818800@actionnetwork.blog
SUMMARY:104 - Mobile Messaging
DESCRIPTION:Action Network is making mass mobile messaging as easy as sending email. Learn how to get started with Mobile Messaging in this training where we will cover how to create a mobile message\, how to use ladders and how to set up a call campaign.
URL:https://actionnetwork.blog/event/104-mobile-messaging/2026-07-23/
END:VEVENT
BEGIN:VEVENT
DTSTART;TZID=America/New_York:20260827T140000
DTEND;TZID=America/New_York:20260827T150000
DTSTAMP:20240111T150839
CREATED:20220805T160729Z
LAST-MODIFIED:20230906T145306Z
UID:10000716-1787839200-1787842800@actionnetwork.blog
SUMMARY:104 - Mobile Messaging
DESCRIPTION:Action Network is making mass mobile messaging as easy as sending email. Learn how to get started with Mobile Messaging in this training where we will cover how to create a mobile message\, how to use ladders and how to set up a call campaign.
URL:https://actionnetwork.blog/event/104-mobile-messaging/2026-08-27/
END:VEVENT
BEGIN:VEVENT
DTSTART;TZID=America/New_York:20260924T140000
DTEND;TZID=America/New_York:20260924T150000
DTSTAMP:20240111T150839
CREATED:20220805T160729Z
LAST-MODIFIED:20230906T145306Z
UID:10000717-1790258400-1790262000@actionnetwork.blog
SUMMARY:104 - Mobile Messaging
DESCRIPTION:Action Network is making mass mobile messaging as easy as sending email. Learn how to get started with Mobile Messaging in this training where we will cover how to create a mobile message\, how to use ladders and how to set up a call campaign.
URL:https://actionnetwork.blog/event/104-mobile-messaging/2026-09-24/
END:VEVENT
BEGIN:VEVENT
DTSTART;TZID=America/New_York:20261022T140000
DTEND;TZID=America/New_York:20261022T150000
DTSTAMP:20240111T150839
CREATED:20220805T160729Z
LAST-MODIFIED:20230906T145306Z
UID:10000718-1792677600-1792681200@actionnetwork.blog
SUMMARY:104 - Mobile Messaging
DESCRIPTION:Action Network is making mass mobile messaging as easy as sending email. Learn how to get started with Mobile Messaging in this training where we will cover how to create a mobile message\, how to use ladders and how to set up a call campaign.
URL:https://actionnetwork.blog/event/104-mobile-messaging/2026-10-22/
END:VEVENT
BEGIN:VEVENT
DTSTART;TZID=America/New_York:20261126T140000
DTEND;TZID=America/New_York:20261126T150000
DTSTAMP:20240111T150839
CREATED:20220805T160729Z
LAST-MODIFIED:20230906T145306Z
UID:10000719-1795701600-1795705200@actionnetwork.blog
SUMMARY:104 - Mobile Messaging
DESCRIPTION:Action Network is making mass mobile messaging as easy as sending email. Learn how to get started with Mobile Messaging in this training where we will cover how to create a mobile message\, how to use ladders and how to set up a call campaign.
URL:https://actionnetwork.blog/event/104-mobile-messaging/2026-11-26/
END:VEVENT
BEGIN:VEVENT
DTSTART;TZID=America/New_York:20261224T140000
DTEND;TZID=America/New_York:20261224T150000
DTSTAMP:20240111T150839
CREATED:20220805T160729Z
LAST-MODIFIED:20230906T145306Z
UID:10000720-1798120800-1798124400@actionnetwork.blog
SUMMARY:104 - Mobile Messaging
DESCRIPTION:Action Network is making mass mobile messaging as easy as sending email. Learn how to get started with Mobile Messaging in this training where we will cover how to create a mobile message\, how to use ladders and how to set up a call campaign.
URL:https://actionnetwork.blog/event/104-mobile-messaging/2026-12-24/
END:VEVENT
BEGIN:VEVENT
DTSTART;TZID=America/New_York:20270128T140000
DTEND;TZID=America/New_York:20270128T150000
DTSTAMP:20240111T150839
CREATED:20220805T160729Z
LAST-MODIFIED:20230906T145306Z
UID:10000721-1801144800-1801148400@actionnetwork.blog
SUMMARY:104 - Mobile Messaging
DESCRIPTION:Action Network is making mass mobile messaging as easy as sending email. Learn how to get started with Mobile Messaging in this training where we will cover how to create a mobile message\, how to use ladders and how to set up a call campaign.
URL:https://actionnetwork.blog/event/104-mobile-messaging/2027-01-28/
END:VEVENT
BEGIN:VEVENT
DTSTART;TZID=America/New_York:20270225T140000
DTEND;TZID=America/New_York:20270225T150000
DTSTAMP:20240111T150839
CREATED:20220805T160729Z
LAST-MODIFIED:20230906T145306Z
UID:10000722-1803564000-1803567600@actionnetwork.blog
SUMMARY:104 - Mobile Messaging
DESCRIPTION:Action Network is making mass mobile messaging as easy as sending email. Learn how to get started with Mobile Messaging in this training where we will cover how to create a mobile message\, how to use ladders and how to set up a call campaign.
URL:https://actionnetwork.blog/event/104-mobile-messaging/2027-02-25/
END:VEVENT
BEGIN:VEVENT
DTSTART;TZID=America/New_York:20270325T140000
DTEND;TZID=America/New_York:20270325T150000
DTSTAMP:20240111T150839
CREATED:20220805T160729Z
LAST-MODIFIED:20230906T145306Z
UID:10000723-1805983200-1805986800@actionnetwork.blog
SUMMARY:104 - Mobile Messaging
DESCRIPTION:Action Network is making mass mobile messaging as easy as sending email. Learn how to get started with Mobile Messaging in this training where we will cover how to create a mobile message\, how to use ladders and how to set up a call campaign.
URL:https://actionnetwork.blog/event/104-mobile-messaging/2027-03-25/
END:VEVENT
BEGIN:VEVENT
DTSTART;TZID=America/New_York:20270422T140000
DTEND;TZID=America/New_York:20270422T150000
DTSTAMP:20240111T150839
CREATED:20220805T160729Z
LAST-MODIFIED:20230906T145306Z
UID:10000724-1808402400-1808406000@actionnetwork.blog
SUMMARY:104 - Mobile Messaging
DESCRIPTION:Action Network is making mass mobile messaging as easy as sending email. Learn how to get started with Mobile Messaging in this training where we will cover how to create a mobile message\, how to use ladders and how to set up a call campaign.
URL:https://actionnetwork.blog/event/104-mobile-messaging/2027-04-22/
END:VEVENT
BEGIN:VEVENT
DTSTART;TZID=America/New_York:20270527T140000
DTEND;TZID=America/New_York:20270527T150000
DTSTAMP:20240111T150839
CREATED:20220805T160729Z
LAST-MODIFIED:20230906T145306Z
UID:10000725-1811426400-1811430000@actionnetwork.blog
SUMMARY:104 - Mobile Messaging
DESCRIPTION:Action Network is making mass mobile messaging as easy as sending email. Learn how to get started with Mobile Messaging in this training where we will cover how to create a mobile message\, how to use ladders and how to set up a call campaign.
URL:https://actionnetwork.blog/event/104-mobile-messaging/2027-05-27/
END:VEVENT
BEGIN:VEVENT
DTSTART;TZID=America/New_York:20270624T140000
DTEND;TZID=America/New_York:20270624T150000
DTSTAMP:20240111T150839
CREATED:20220805T160729Z
LAST-MODIFIED:20230906T145306Z
UID:10000726-1813845600-1813849200@actionnetwork.blog
SUMMARY:104 - Mobile Messaging
DESCRIPTION:Action Network is making mass mobile messaging as easy as sending email. Learn how to get started with Mobile Messaging in this training where we will cover how to create a mobile message\, how to use ladders and how to set up a call campaign.
URL:https://actionnetwork.blog/event/104-mobile-messaging/2027-06-24/
END:VEVENT
END:VCALENDAR