BEGIN:VCALENDAR
VERSION:2.0
PRODID:-//Action Network Blog - ECPv6.2.9//NONSGML v1.0//EN
CALSCALE:GREGORIAN
METHOD:PUBLISH
X-ORIGINAL-URL:https://actionnetwork.blog
X-WR-CALDESC:Events for Action Network Blog
REFRESH-INTERVAL;VALUE=DURATION:PT1H
X-Robots-Tag:noindex
X-PUBLISHED-TTL:PT1H
BEGIN:VTIMEZONE
TZID:America/New_York
BEGIN:DAYLIGHT
TZOFFSETFROM:-0500
TZOFFSETTO:-0400
TZNAME:EDT
DTSTART:20250309T070000
END:DAYLIGHT
BEGIN:STANDARD
TZOFFSETFROM:-0400
TZOFFSETTO:-0500
TZNAME:EST
DTSTART:20251102T060000
END:STANDARD
BEGIN:DAYLIGHT
TZOFFSETFROM:-0500
TZOFFSETTO:-0400
TZNAME:EDT
DTSTART:20260308T070000
END:DAYLIGHT
BEGIN:STANDARD
TZOFFSETFROM:-0400
TZOFFSETTO:-0500
TZNAME:EST
DTSTART:20261101T060000
END:STANDARD
BEGIN:DAYLIGHT
TZOFFSETFROM:-0500
TZOFFSETTO:-0400
TZNAME:EDT
DTSTART:20270314T070000
END:DAYLIGHT
BEGIN:STANDARD
TZOFFSETFROM:-0400
TZOFFSETTO:-0500
TZNAME:EST
DTSTART:20271107T060000
END:STANDARD
END:VTIMEZONE
BEGIN:VEVENT
DTSTART;TZID=America/New_York:20250213T140000
DTEND;TZID=America/New_York:20250213T150000
DTSTAMP:20240111T150740
CREATED:20220805T160237Z
LAST-MODIFIED:20230906T145238Z
UID:10000578-1739455200-1739458800@actionnetwork.blog
SUMMARY:102 - Actions\, Mobilizing & Growing Your Activist List
DESCRIPTION:The essence of Action Network! Petitions\, letter campaigns\, events\, fundraisers and much more. Join us each month as we rotate through action types and talk through best practices in creating engaging actions.
URL:https://actionnetwork.blog/event/102-actions-mobilizing-growing-your-activist-list/2025-02-13/
END:VEVENT
BEGIN:VEVENT
DTSTART;TZID=America/New_York:20250313T140000
DTEND;TZID=America/New_York:20250313T150000
DTSTAMP:20240111T150740
CREATED:20220805T160237Z
LAST-MODIFIED:20230906T145238Z
UID:10000579-1741874400-1741878000@actionnetwork.blog
SUMMARY:102 - Actions\, Mobilizing & Growing Your Activist List
DESCRIPTION:The essence of Action Network! Petitions\, letter campaigns\, events\, fundraisers and much more. Join us each month as we rotate through action types and talk through best practices in creating engaging actions.
URL:https://actionnetwork.blog/event/102-actions-mobilizing-growing-your-activist-list/2025-03-13/
END:VEVENT
BEGIN:VEVENT
DTSTART;TZID=America/New_York:20250410T140000
DTEND;TZID=America/New_York:20250410T150000
DTSTAMP:20240111T150740
CREATED:20220805T160237Z
LAST-MODIFIED:20230906T145238Z
UID:10000580-1744293600-1744297200@actionnetwork.blog
SUMMARY:102 - Actions\, Mobilizing & Growing Your Activist List
DESCRIPTION:The essence of Action Network! Petitions\, letter campaigns\, events\, fundraisers and much more. Join us each month as we rotate through action types and talk through best practices in creating engaging actions.
URL:https://actionnetwork.blog/event/102-actions-mobilizing-growing-your-activist-list/2025-04-10/
END:VEVENT
BEGIN:VEVENT
DTSTART;TZID=America/New_York:20250508T140000
DTEND;TZID=America/New_York:20250508T150000
DTSTAMP:20240111T150740
CREATED:20220805T160237Z
LAST-MODIFIED:20230906T145238Z
UID:10000581-1746712800-1746716400@actionnetwork.blog
SUMMARY:102 - Actions\, Mobilizing & Growing Your Activist List
DESCRIPTION:The essence of Action Network! Petitions\, letter campaigns\, events\, fundraisers and much more. Join us each month as we rotate through action types and talk through best practices in creating engaging actions.
URL:https://actionnetwork.blog/event/102-actions-mobilizing-growing-your-activist-list/2025-05-08/
END:VEVENT
BEGIN:VEVENT
DTSTART;TZID=America/New_York:20250612T140000
DTEND;TZID=America/New_York:20250612T150000
DTSTAMP:20240111T150740
CREATED:20220805T160237Z
LAST-MODIFIED:20230906T145238Z
UID:10000582-1749736800-1749740400@actionnetwork.blog
SUMMARY:102 - Actions\, Mobilizing & Growing Your Activist List
DESCRIPTION:The essence of Action Network! Petitions\, letter campaigns\, events\, fundraisers and much more. Join us each month as we rotate through action types and talk through best practices in creating engaging actions.
URL:https://actionnetwork.blog/event/102-actions-mobilizing-growing-your-activist-list/2025-06-12/
END:VEVENT
BEGIN:VEVENT
DTSTART;TZID=America/New_York:20250710T140000
DTEND;TZID=America/New_York:20250710T150000
DTSTAMP:20240111T150740
CREATED:20220805T160237Z
LAST-MODIFIED:20230906T145238Z
UID:10000583-1752156000-1752159600@actionnetwork.blog
SUMMARY:102 - Actions\, Mobilizing & Growing Your Activist List
DESCRIPTION:The essence of Action Network! Petitions\, letter campaigns\, events\, fundraisers and much more. Join us each month as we rotate through action types and talk through best practices in creating engaging actions.
URL:https://actionnetwork.blog/event/102-actions-mobilizing-growing-your-activist-list/2025-07-10/
END:VEVENT
BEGIN:VEVENT
DTSTART;TZID=America/New_York:20250814T140000
DTEND;TZID=America/New_York:20250814T150000
DTSTAMP:20240111T150740
CREATED:20220805T160237Z
LAST-MODIFIED:20230906T145238Z
UID:10000584-1755180000-1755183600@actionnetwork.blog
SUMMARY:102 - Actions\, Mobilizing & Growing Your Activist List
DESCRIPTION:The essence of Action Network! Petitions\, letter campaigns\, events\, fundraisers and much more. Join us each month as we rotate through action types and talk through best practices in creating engaging actions.
URL:https://actionnetwork.blog/event/102-actions-mobilizing-growing-your-activist-list/2025-08-14/
END:VEVENT
BEGIN:VEVENT
DTSTART;TZID=America/New_York:20250911T140000
DTEND;TZID=America/New_York:20250911T150000
DTSTAMP:20240111T150740
CREATED:20220805T160237Z
LAST-MODIFIED:20230906T145238Z
UID:10000585-1757599200-1757602800@actionnetwork.blog
SUMMARY:102 - Actions\, Mobilizing & Growing Your Activist List
DESCRIPTION:The essence of Action Network! Petitions\, letter campaigns\, events\, fundraisers and much more. Join us each month as we rotate through action types and talk through best practices in creating engaging actions.
URL:https://actionnetwork.blog/event/102-actions-mobilizing-growing-your-activist-list/2025-09-11/
END:VEVENT
BEGIN:VEVENT
DTSTART;TZID=America/New_York:20251009T140000
DTEND;TZID=America/New_York:20251009T150000
DTSTAMP:20240111T150740
CREATED:20220805T160237Z
LAST-MODIFIED:20230906T145238Z
UID:10000586-1760018400-1760022000@actionnetwork.blog
SUMMARY:102 - Actions\, Mobilizing & Growing Your Activist List
DESCRIPTION:The essence of Action Network! Petitions\, letter campaigns\, events\, fundraisers and much more. Join us each month as we rotate through action types and talk through best practices in creating engaging actions.
URL:https://actionnetwork.blog/event/102-actions-mobilizing-growing-your-activist-list/2025-10-09/
END:VEVENT
BEGIN:VEVENT
DTSTART;TZID=America/New_York:20251113T140000
DTEND;TZID=America/New_York:20251113T150000
DTSTAMP:20240111T150740
CREATED:20220805T160237Z
LAST-MODIFIED:20230906T145238Z
UID:10000587-1763042400-1763046000@actionnetwork.blog
SUMMARY:102 - Actions\, Mobilizing & Growing Your Activist List
DESCRIPTION:The essence of Action Network! Petitions\, letter campaigns\, events\, fundraisers and much more. Join us each month as we rotate through action types and talk through best practices in creating engaging actions.
URL:https://actionnetwork.blog/event/102-actions-mobilizing-growing-your-activist-list/2025-11-13/
END:VEVENT
BEGIN:VEVENT
DTSTART;TZID=America/New_York:20251211T140000
DTEND;TZID=America/New_York:20251211T150000
DTSTAMP:20240111T150740
CREATED:20220805T160237Z
LAST-MODIFIED:20230906T145238Z
UID:10000588-1765461600-1765465200@actionnetwork.blog
SUMMARY:102 - Actions\, Mobilizing & Growing Your Activist List
DESCRIPTION:The essence of Action Network! Petitions\, letter campaigns\, events\, fundraisers and much more. Join us each month as we rotate through action types and talk through best practices in creating engaging actions.
URL:https://actionnetwork.blog/event/102-actions-mobilizing-growing-your-activist-list/2025-12-11/
END:VEVENT
BEGIN:VEVENT
DTSTART;TZID=America/New_York:20260108T140000
DTEND;TZID=America/New_York:20260108T150000
DTSTAMP:20240111T150740
CREATED:20220805T160237Z
LAST-MODIFIED:20230906T145238Z
UID:10000589-1767880800-1767884400@actionnetwork.blog
SUMMARY:102 - Actions\, Mobilizing & Growing Your Activist List
DESCRIPTION:The essence of Action Network! Petitions\, letter campaigns\, events\, fundraisers and much more. Join us each month as we rotate through action types and talk through best practices in creating engaging actions.
URL:https://actionnetwork.blog/event/102-actions-mobilizing-growing-your-activist-list/2026-01-08/
END:VEVENT
BEGIN:VEVENT
DTSTART;TZID=America/New_York:20260212T140000
DTEND;TZID=America/New_York:20260212T150000
DTSTAMP:20240111T150740
CREATED:20220805T160237Z
LAST-MODIFIED:20230906T145238Z
UID:10000590-1770904800-1770908400@actionnetwork.blog
SUMMARY:102 - Actions\, Mobilizing & Growing Your Activist List
DESCRIPTION:The essence of Action Network! Petitions\, letter campaigns\, events\, fundraisers and much more. Join us each month as we rotate through action types and talk through best practices in creating engaging actions.
URL:https://actionnetwork.blog/event/102-actions-mobilizing-growing-your-activist-list/2026-02-12/
END:VEVENT
BEGIN:VEVENT
DTSTART;TZID=America/New_York:20260312T140000
DTEND;TZID=America/New_York:20260312T150000
DTSTAMP:20240111T150740
CREATED:20220805T160237Z
LAST-MODIFIED:20230906T145238Z
UID:10000591-1773324000-1773327600@actionnetwork.blog
SUMMARY:102 - Actions\, Mobilizing & Growing Your Activist List
DESCRIPTION:The essence of Action Network! Petitions\, letter campaigns\, events\, fundraisers and much more. Join us each month as we rotate through action types and talk through best practices in creating engaging actions.
URL:https://actionnetwork.blog/event/102-actions-mobilizing-growing-your-activist-list/2026-03-12/
END:VEVENT
BEGIN:VEVENT
DTSTART;TZID=America/New_York:20260409T140000
DTEND;TZID=America/New_York:20260409T150000
DTSTAMP:20240111T150740
CREATED:20220805T160237Z
LAST-MODIFIED:20230906T145238Z
UID:10000592-1775743200-1775746800@actionnetwork.blog
SUMMARY:102 - Actions\, Mobilizing & Growing Your Activist List
DESCRIPTION:The essence of Action Network! Petitions\, letter campaigns\, events\, fundraisers and much more. Join us each month as we rotate through action types and talk through best practices in creating engaging actions.
URL:https://actionnetwork.blog/event/102-actions-mobilizing-growing-your-activist-list/2026-04-09/
END:VEVENT
BEGIN:VEVENT
DTSTART;TZID=America/New_York:20260514T140000
DTEND;TZID=America/New_York:20260514T150000
DTSTAMP:20240111T150740
CREATED:20220805T160237Z
LAST-MODIFIED:20230906T145238Z
UID:10000593-1778767200-1778770800@actionnetwork.blog
SUMMARY:102 - Actions\, Mobilizing & Growing Your Activist List
DESCRIPTION:The essence of Action Network! Petitions\, letter campaigns\, events\, fundraisers and much more. Join us each month as we rotate through action types and talk through best practices in creating engaging actions.
URL:https://actionnetwork.blog/event/102-actions-mobilizing-growing-your-activist-list/2026-05-14/
END:VEVENT
BEGIN:VEVENT
DTSTART;TZID=America/New_York:20260611T140000
DTEND;TZID=America/New_York:20260611T150000
DTSTAMP:20240111T150740
CREATED:20220805T160237Z
LAST-MODIFIED:20230906T145238Z
UID:10000594-1781186400-1781190000@actionnetwork.blog
SUMMARY:102 - Actions\, Mobilizing & Growing Your Activist List
DESCRIPTION:The essence of Action Network! Petitions\, letter campaigns\, events\, fundraisers and much more. Join us each month as we rotate through action types and talk through best practices in creating engaging actions.
URL:https://actionnetwork.blog/event/102-actions-mobilizing-growing-your-activist-list/2026-06-11/
END:VEVENT
BEGIN:VEVENT
DTSTART;TZID=America/New_York:20260709T140000
DTEND;TZID=America/New_York:20260709T150000
DTSTAMP:20240111T150740
CREATED:20220805T160237Z
LAST-MODIFIED:20230906T145238Z
UID:10000595-1783605600-1783609200@actionnetwork.blog
SUMMARY:102 - Actions\, Mobilizing & Growing Your Activist List
DESCRIPTION:The essence of Action Network! Petitions\, letter campaigns\, events\, fundraisers and much more. Join us each month as we rotate through action types and talk through best practices in creating engaging actions.
URL:https://actionnetwork.blog/event/102-actions-mobilizing-growing-your-activist-list/2026-07-09/
END:VEVENT
BEGIN:VEVENT
DTSTART;TZID=America/New_York:20260813T140000
DTEND;TZID=America/New_York:20260813T150000
DTSTAMP:20240111T150740
CREATED:20220805T160237Z
LAST-MODIFIED:20230906T145238Z
UID:10000596-1786629600-1786633200@actionnetwork.blog
SUMMARY:102 - Actions\, Mobilizing & Growing Your Activist List
DESCRIPTION:The essence of Action Network! Petitions\, letter campaigns\, events\, fundraisers and much more. Join us each month as we rotate through action types and talk through best practices in creating engaging actions.
URL:https://actionnetwork.blog/event/102-actions-mobilizing-growing-your-activist-list/2026-08-13/
END:VEVENT
BEGIN:VEVENT
DTSTART;TZID=America/New_York:20260910T140000
DTEND;TZID=America/New_York:20260910T150000
DTSTAMP:20240111T150740
CREATED:20220805T160237Z
LAST-MODIFIED:20230906T145238Z
UID:10000597-1789048800-1789052400@actionnetwork.blog
SUMMARY:102 - Actions\, Mobilizing & Growing Your Activist List
DESCRIPTION:The essence of Action Network! Petitions\, letter campaigns\, events\, fundraisers and much more. Join us each month as we rotate through action types and talk through best practices in creating engaging actions.
URL:https://actionnetwork.blog/event/102-actions-mobilizing-growing-your-activist-list/2026-09-10/
END:VEVENT
BEGIN:VEVENT
DTSTART;TZID=America/New_York:20261008T140000
DTEND;TZID=America/New_York:20261008T150000
DTSTAMP:20240111T150740
CREATED:20220805T160237Z
LAST-MODIFIED:20230906T145238Z
UID:10000598-1791468000-1791471600@actionnetwork.blog
SUMMARY:102 - Actions\, Mobilizing & Growing Your Activist List
DESCRIPTION:The essence of Action Network! Petitions\, letter campaigns\, events\, fundraisers and much more. Join us each month as we rotate through action types and talk through best practices in creating engaging actions.
URL:https://actionnetwork.blog/event/102-actions-mobilizing-growing-your-activist-list/2026-10-08/
END:VEVENT
BEGIN:VEVENT
DTSTART;TZID=America/New_York:20261112T140000
DTEND;TZID=America/New_York:20261112T150000
DTSTAMP:20240111T150740
CREATED:20220805T160237Z
LAST-MODIFIED:20230906T145238Z
UID:10000599-1794492000-1794495600@actionnetwork.blog
SUMMARY:102 - Actions\, Mobilizing & Growing Your Activist List
DESCRIPTION:The essence of Action Network! Petitions\, letter campaigns\, events\, fundraisers and much more. Join us each month as we rotate through action types and talk through best practices in creating engaging actions.
URL:https://actionnetwork.blog/event/102-actions-mobilizing-growing-your-activist-list/2026-11-12/
END:VEVENT
BEGIN:VEVENT
DTSTART;TZID=America/New_York:20261210T140000
DTEND;TZID=America/New_York:20261210T150000
DTSTAMP:20240111T150740
CREATED:20220805T160237Z
LAST-MODIFIED:20230906T145238Z
UID:10000600-1796911200-1796914800@actionnetwork.blog
SUMMARY:102 - Actions\, Mobilizing & Growing Your Activist List
DESCRIPTION:The essence of Action Network! Petitions\, letter campaigns\, events\, fundraisers and much more. Join us each month as we rotate through action types and talk through best practices in creating engaging actions.
URL:https://actionnetwork.blog/event/102-actions-mobilizing-growing-your-activist-list/2026-12-10/
END:VEVENT
BEGIN:VEVENT
DTSTART;TZID=America/New_York:20270114T140000
DTEND;TZID=America/New_York:20270114T150000
DTSTAMP:20240111T150740
CREATED:20220805T160237Z
LAST-MODIFIED:20230906T145238Z
UID:10000601-1799935200-1799938800@actionnetwork.blog
SUMMARY:102 - Actions\, Mobilizing & Growing Your Activist List
DESCRIPTION:The essence of Action Network! Petitions\, letter campaigns\, events\, fundraisers and much more. Join us each month as we rotate through action types and talk through best practices in creating engaging actions.
URL:https://actionnetwork.blog/event/102-actions-mobilizing-growing-your-activist-list/2027-01-14/
END:VEVENT
BEGIN:VEVENT
DTSTART;TZID=America/New_York:20270211T140000
DTEND;TZID=America/New_York:20270211T150000
DTSTAMP:20240111T150740
CREATED:20220805T160237Z
LAST-MODIFIED:20230906T145238Z
UID:10000602-1802354400-1802358000@actionnetwork.blog
SUMMARY:102 - Actions\, Mobilizing & Growing Your Activist List
DESCRIPTION:The essence of Action Network! Petitions\, letter campaigns\, events\, fundraisers and much more. Join us each month as we rotate through action types and talk through best practices in creating engaging actions.
URL:https://actionnetwork.blog/event/102-actions-mobilizing-growing-your-activist-list/2027-02-11/
END:VEVENT
BEGIN:VEVENT
DTSTART;TZID=America/New_York:20270311T140000
DTEND;TZID=America/New_York:20270311T150000
DTSTAMP:20240111T150740
CREATED:20220805T160237Z
LAST-MODIFIED:20230906T145238Z
UID:10000603-1804773600-1804777200@actionnetwork.blog
SUMMARY:102 - Actions\, Mobilizing & Growing Your Activist List
DESCRIPTION:The essence of Action Network! Petitions\, letter campaigns\, events\, fundraisers and much more. Join us each month as we rotate through action types and talk through best practices in creating engaging actions.
URL:https://actionnetwork.blog/event/102-actions-mobilizing-growing-your-activist-list/2027-03-11/
END:VEVENT
BEGIN:VEVENT
DTSTART;TZID=America/New_York:20270408T140000
DTEND;TZID=America/New_York:20270408T150000
DTSTAMP:20240111T150740
CREATED:20220805T160237Z
LAST-MODIFIED:20230906T145238Z
UID:10000604-1807192800-1807196400@actionnetwork.blog
SUMMARY:102 - Actions\, Mobilizing & Growing Your Activist List
DESCRIPTION:The essence of Action Network! Petitions\, letter campaigns\, events\, fundraisers and much more. Join us each month as we rotate through action types and talk through best practices in creating engaging actions.
URL:https://actionnetwork.blog/event/102-actions-mobilizing-growing-your-activist-list/2027-04-08/
END:VEVENT
BEGIN:VEVENT
DTSTART;TZID=America/New_York:20270513T140000
DTEND;TZID=America/New_York:20270513T150000
DTSTAMP:20240111T150740
CREATED:20220805T160237Z
LAST-MODIFIED:20230906T145238Z
UID:10000605-1810216800-1810220400@actionnetwork.blog
SUMMARY:102 - Actions\, Mobilizing & Growing Your Activist List
DESCRIPTION:The essence of Action Network! Petitions\, letter campaigns\, events\, fundraisers and much more. Join us each month as we rotate through action types and talk through best practices in creating engaging actions.
URL:https://actionnetwork.blog/event/102-actions-mobilizing-growing-your-activist-list/2027-05-13/
END:VEVENT
BEGIN:VEVENT
DTSTART;TZID=America/New_York:20270610T140000
DTEND;TZID=America/New_York:20270610T150000
DTSTAMP:20240111T150740
CREATED:20220805T160237Z
LAST-MODIFIED:20230906T145238Z
UID:10000606-1812636000-1812639600@actionnetwork.blog
SUMMARY:102 - Actions\, Mobilizing & Growing Your Activist List
DESCRIPTION:The essence of Action Network! Petitions\, letter campaigns\, events\, fundraisers and much more. Join us each month as we rotate through action types and talk through best practices in creating engaging actions.
URL:https://actionnetwork.blog/event/102-actions-mobilizing-growing-your-activist-list/2027-06-10/
END:VEVENT
BEGIN:VEVENT
DTSTART;TZID=America/New_York:20270708T140000
DTEND;TZID=America/New_York:20270708T150000
DTSTAMP:20240111T150740
CREATED:20220805T160237Z
LAST-MODIFIED:20230906T145238Z
UID:10000607-1815055200-1815058800@actionnetwork.blog
SUMMARY:102 - Actions\, Mobilizing & Growing Your Activist List
DESCRIPTION:The essence of Action Network! Petitions\, letter campaigns\, events\, fundraisers and much more. Join us each month as we rotate through action types and talk through best practices in creating engaging actions.
URL:https://actionnetwork.blog/event/102-actions-mobilizing-growing-your-activist-list/2027-07-08/
END:VEVENT
END:VCALENDAR