BEGIN:VCALENDAR
VERSION:2.0
PRODID:-//Action Network Blog - ECPv6.2.9//NONSGML v1.0//EN
CALSCALE:GREGORIAN
METHOD:PUBLISH
X-ORIGINAL-URL:https://actionnetwork.blog
X-WR-CALDESC:Events for Action Network Blog
REFRESH-INTERVAL;VALUE=DURATION:PT1H
X-Robots-Tag:noindex
X-PUBLISHED-TTL:PT1H
BEGIN:VTIMEZONE
TZID:America/New_York
BEGIN:DAYLIGHT
TZOFFSETFROM:-0500
TZOFFSETTO:-0400
TZNAME:EDT
DTSTART:20260308T070000
END:DAYLIGHT
BEGIN:STANDARD
TZOFFSETFROM:-0400
TZOFFSETTO:-0500
TZNAME:EST
DTSTART:20261101T060000
END:STANDARD
BEGIN:DAYLIGHT
TZOFFSETFROM:-0500
TZOFFSETTO:-0400
TZNAME:EDT
DTSTART:20270314T070000
END:DAYLIGHT
BEGIN:STANDARD
TZOFFSETFROM:-0400
TZOFFSETTO:-0500
TZNAME:EST
DTSTART:20271107T060000
END:STANDARD
BEGIN:DAYLIGHT
TZOFFSETFROM:-0500
TZOFFSETTO:-0400
TZNAME:EDT
DTSTART:20280312T070000
END:DAYLIGHT
BEGIN:STANDARD
TZOFFSETFROM:-0400
TZOFFSETTO:-0500
TZNAME:EST
DTSTART:20281105T060000
END:STANDARD
END:VTIMEZONE
BEGIN:VEVENT
DTSTART;TZID=America/New_York:20261231T130000
DTEND;TZID=America/New_York:20261231T140000
DTSTAMP:20240111T154140
CREATED:20230906T194736Z
LAST-MODIFIED:20230906T194736Z
UID:10000756-1798722000-1798725600@actionnetwork.blog
SUMMARY:105 - Deliverability
DESCRIPTION:Do you find a lot of emails end up in spam? Are your open rates suddenly tanking? Do you want to avoid these issues altogether? You’ll need to learn about deliverability! \nBy the end of this training\, you will know the best delivery practices to protect your email program and help your emails end up in inboxes and avoid spam folders. You’ll also learn how to improve your deliverability and reputation if it’s taken a hit.
URL:https://actionnetwork.blog/event/105-deliverability-2/2026-12-31/
END:VEVENT
BEGIN:VEVENT
DTSTART;TZID=America/New_York:20270429T130000
DTEND;TZID=America/New_York:20270429T140000
DTSTAMP:20240111T154140
CREATED:20230906T194736Z
LAST-MODIFIED:20230906T194736Z
UID:10000757-1809003600-1809007200@actionnetwork.blog
SUMMARY:105 - Deliverability
DESCRIPTION:Do you find a lot of emails end up in spam? Are your open rates suddenly tanking? Do you want to avoid these issues altogether? You’ll need to learn about deliverability! \nBy the end of this training\, you will know the best delivery practices to protect your email program and help your emails end up in inboxes and avoid spam folders. You’ll also learn how to improve your deliverability and reputation if it’s taken a hit.
URL:https://actionnetwork.blog/event/105-deliverability-2/2027-04-29/
END:VEVENT
BEGIN:VEVENT
DTSTART;TZID=America/New_York:20270729T130000
DTEND;TZID=America/New_York:20270729T140000
DTSTAMP:20240111T154140
CREATED:20230906T194736Z
LAST-MODIFIED:20230906T194736Z
UID:10000758-1816866000-1816869600@actionnetwork.blog
SUMMARY:105 - Deliverability
DESCRIPTION:Do you find a lot of emails end up in spam? Are your open rates suddenly tanking? Do you want to avoid these issues altogether? You’ll need to learn about deliverability! \nBy the end of this training\, you will know the best delivery practices to protect your email program and help your emails end up in inboxes and avoid spam folders. You’ll also learn how to improve your deliverability and reputation if it’s taken a hit.
URL:https://actionnetwork.blog/event/105-deliverability-2/2027-07-29/
END:VEVENT
BEGIN:VEVENT
DTSTART;TZID=America/New_York:20270930T130000
DTEND;TZID=America/New_York:20270930T140000
DTSTAMP:20240111T154140
CREATED:20230906T194736Z
LAST-MODIFIED:20230906T194736Z
UID:10000759-1822309200-1822312800@actionnetwork.blog
SUMMARY:105 - Deliverability
DESCRIPTION:Do you find a lot of emails end up in spam? Are your open rates suddenly tanking? Do you want to avoid these issues altogether? You’ll need to learn about deliverability! \nBy the end of this training\, you will know the best delivery practices to protect your email program and help your emails end up in inboxes and avoid spam folders. You’ll also learn how to improve your deliverability and reputation if it’s taken a hit.
URL:https://actionnetwork.blog/event/105-deliverability-2/2027-09-30/
END:VEVENT
BEGIN:VEVENT
DTSTART;TZID=America/New_York:20271230T130000
DTEND;TZID=America/New_York:20271230T140000
DTSTAMP:20240111T154140
CREATED:20230906T194736Z
LAST-MODIFIED:20230906T194736Z
UID:10000760-1830171600-1830175200@actionnetwork.blog
SUMMARY:105 - Deliverability
DESCRIPTION:Do you find a lot of emails end up in spam? Are your open rates suddenly tanking? Do you want to avoid these issues altogether? You’ll need to learn about deliverability! \nBy the end of this training\, you will know the best delivery practices to protect your email program and help your emails end up in inboxes and avoid spam folders. You’ll also learn how to improve your deliverability and reputation if it’s taken a hit.
URL:https://actionnetwork.blog/event/105-deliverability-2/2027-12-30/
END:VEVENT
BEGIN:VEVENT
DTSTART;TZID=America/New_York:20280330T130000
DTEND;TZID=America/New_York:20280330T140000
DTSTAMP:20240111T154140
CREATED:20230906T194736Z
LAST-MODIFIED:20230906T194736Z
UID:10000761-1838034000-1838037600@actionnetwork.blog
SUMMARY:105 - Deliverability
DESCRIPTION:Do you find a lot of emails end up in spam? Are your open rates suddenly tanking? Do you want to avoid these issues altogether? You’ll need to learn about deliverability! \nBy the end of this training\, you will know the best delivery practices to protect your email program and help your emails end up in inboxes and avoid spam folders. You’ll also learn how to improve your deliverability and reputation if it’s taken a hit.
URL:https://actionnetwork.blog/event/105-deliverability-2/2028-03-30/
END:VEVENT
BEGIN:VEVENT
DTSTART;TZID=America/New_York:20280629T130000
DTEND;TZID=America/New_York:20280629T140000
DTSTAMP:20240111T154140
CREATED:20230906T194736Z
LAST-MODIFIED:20230906T194736Z
UID:10000762-1845896400-1845900000@actionnetwork.blog
SUMMARY:105 - Deliverability
DESCRIPTION:Do you find a lot of emails end up in spam? Are your open rates suddenly tanking? Do you want to avoid these issues altogether? You’ll need to learn about deliverability! \nBy the end of this training\, you will know the best delivery practices to protect your email program and help your emails end up in inboxes and avoid spam folders. You’ll also learn how to improve your deliverability and reputation if it’s taken a hit.
URL:https://actionnetwork.blog/event/105-deliverability-2/2028-06-29/
END:VEVENT
BEGIN:VEVENT
DTSTART;TZID=America/New_York:20280831T130000
DTEND;TZID=America/New_York:20280831T140000
DTSTAMP:20240111T154140
CREATED:20230906T194736Z
LAST-MODIFIED:20230906T194736Z
UID:10000763-1851339600-1851343200@actionnetwork.blog
SUMMARY:105 - Deliverability
DESCRIPTION:Do you find a lot of emails end up in spam? Are your open rates suddenly tanking? Do you want to avoid these issues altogether? You’ll need to learn about deliverability! \nBy the end of this training\, you will know the best delivery practices to protect your email program and help your emails end up in inboxes and avoid spam folders. You’ll also learn how to improve your deliverability and reputation if it’s taken a hit.
URL:https://actionnetwork.blog/event/105-deliverability-2/2028-08-31/
END:VEVENT
END:VCALENDAR