BEGIN:VCALENDAR
VERSION:2.0
PRODID:-//Action Network Blog - ECPv6.2.9//NONSGML v1.0//EN
CALSCALE:GREGORIAN
METHOD:PUBLISH
X-ORIGINAL-URL:https://actionnetwork.blog
X-WR-CALDESC:Events for Action Network Blog
REFRESH-INTERVAL;VALUE=DURATION:PT1H
X-Robots-Tag:noindex
X-PUBLISHED-TTL:PT1H
BEGIN:VTIMEZONE
TZID:America/New_York
BEGIN:DAYLIGHT
TZOFFSETFROM:-0500
TZOFFSETTO:-0400
TZNAME:EDT
DTSTART:20250309T070000
END:DAYLIGHT
BEGIN:STANDARD
TZOFFSETFROM:-0400
TZOFFSETTO:-0500
TZNAME:EST
DTSTART:20251102T060000
END:STANDARD
BEGIN:DAYLIGHT
TZOFFSETFROM:-0500
TZOFFSETTO:-0400
TZNAME:EDT
DTSTART:20260308T070000
END:DAYLIGHT
BEGIN:STANDARD
TZOFFSETFROM:-0400
TZOFFSETTO:-0500
TZNAME:EST
DTSTART:20261101T060000
END:STANDARD
BEGIN:DAYLIGHT
TZOFFSETFROM:-0500
TZOFFSETTO:-0400
TZNAME:EDT
DTSTART:20270314T070000
END:DAYLIGHT
BEGIN:STANDARD
TZOFFSETFROM:-0400
TZOFFSETTO:-0500
TZNAME:EST
DTSTART:20271107T060000
END:STANDARD
END:VTIMEZONE
BEGIN:VEVENT
DTSTART;TZID=America/New_York:20250109T150000
DTEND;TZID=America/New_York:20250109T160000
DTSTAMP:20240111T150721
CREATED:20230403T183656Z
LAST-MODIFIED:20230615T141526Z
UID:10000403-1736434800-1736438400@actionnetwork.blog
SUMMARY:AB 102 - Tasks
DESCRIPTION:Ready to get to work organizing? Join us for a live training where we will dig into our Tasks feature. Learn how Action Builder can make completing follow up tasks\, in the office or in the field\, quick and easy! From this training\, you can expect to learn how to: \n\nCreate\, edit\, and manage tasks\nAdd task due dates\, descriptions\, and To-Dos\nCreate targets for your tasks\nCreate turfs manually and with the Auto-create feature\nAssign turf to individuals and teams\nView and complete your own tasks
URL:https://actionnetwork.blog/event/ab-102-tasks/2025-01-09/
END:VEVENT
BEGIN:VEVENT
DTSTART;TZID=America/New_York:20250213T150000
DTEND;TZID=America/New_York:20250213T160000
DTSTAMP:20240111T150721
CREATED:20230403T183656Z
LAST-MODIFIED:20230615T141526Z
UID:10000404-1739458800-1739462400@actionnetwork.blog
SUMMARY:AB 102 - Tasks
DESCRIPTION:Ready to get to work organizing? Join us for a live training where we will dig into our Tasks feature. Learn how Action Builder can make completing follow up tasks\, in the office or in the field\, quick and easy! From this training\, you can expect to learn how to: \n\nCreate\, edit\, and manage tasks\nAdd task due dates\, descriptions\, and To-Dos\nCreate targets for your tasks\nCreate turfs manually and with the Auto-create feature\nAssign turf to individuals and teams\nView and complete your own tasks
URL:https://actionnetwork.blog/event/ab-102-tasks/2025-02-13/
END:VEVENT
BEGIN:VEVENT
DTSTART;TZID=America/New_York:20250313T150000
DTEND;TZID=America/New_York:20250313T160000
DTSTAMP:20240111T150721
CREATED:20230403T183656Z
LAST-MODIFIED:20230615T141526Z
UID:10000405-1741878000-1741881600@actionnetwork.blog
SUMMARY:AB 102 - Tasks
DESCRIPTION:Ready to get to work organizing? Join us for a live training where we will dig into our Tasks feature. Learn how Action Builder can make completing follow up tasks\, in the office or in the field\, quick and easy! From this training\, you can expect to learn how to: \n\nCreate\, edit\, and manage tasks\nAdd task due dates\, descriptions\, and To-Dos\nCreate targets for your tasks\nCreate turfs manually and with the Auto-create feature\nAssign turf to individuals and teams\nView and complete your own tasks
URL:https://actionnetwork.blog/event/ab-102-tasks/2025-03-13/
END:VEVENT
BEGIN:VEVENT
DTSTART;TZID=America/New_York:20250410T150000
DTEND;TZID=America/New_York:20250410T160000
DTSTAMP:20240111T150721
CREATED:20230403T183656Z
LAST-MODIFIED:20230615T141526Z
UID:10000406-1744297200-1744300800@actionnetwork.blog
SUMMARY:AB 102 - Tasks
DESCRIPTION:Ready to get to work organizing? Join us for a live training where we will dig into our Tasks feature. Learn how Action Builder can make completing follow up tasks\, in the office or in the field\, quick and easy! From this training\, you can expect to learn how to: \n\nCreate\, edit\, and manage tasks\nAdd task due dates\, descriptions\, and To-Dos\nCreate targets for your tasks\nCreate turfs manually and with the Auto-create feature\nAssign turf to individuals and teams\nView and complete your own tasks
URL:https://actionnetwork.blog/event/ab-102-tasks/2025-04-10/
END:VEVENT
BEGIN:VEVENT
DTSTART;TZID=America/New_York:20250508T150000
DTEND;TZID=America/New_York:20250508T160000
DTSTAMP:20240111T150721
CREATED:20230403T183656Z
LAST-MODIFIED:20230615T141526Z
UID:10000407-1746716400-1746720000@actionnetwork.blog
SUMMARY:AB 102 - Tasks
DESCRIPTION:Ready to get to work organizing? Join us for a live training where we will dig into our Tasks feature. Learn how Action Builder can make completing follow up tasks\, in the office or in the field\, quick and easy! From this training\, you can expect to learn how to: \n\nCreate\, edit\, and manage tasks\nAdd task due dates\, descriptions\, and To-Dos\nCreate targets for your tasks\nCreate turfs manually and with the Auto-create feature\nAssign turf to individuals and teams\nView and complete your own tasks
URL:https://actionnetwork.blog/event/ab-102-tasks/2025-05-08/
END:VEVENT
BEGIN:VEVENT
DTSTART;TZID=America/New_York:20250612T150000
DTEND;TZID=America/New_York:20250612T160000
DTSTAMP:20240111T150721
CREATED:20230403T183656Z
LAST-MODIFIED:20230615T141526Z
UID:10000408-1749740400-1749744000@actionnetwork.blog
SUMMARY:AB 102 - Tasks
DESCRIPTION:Ready to get to work organizing? Join us for a live training where we will dig into our Tasks feature. Learn how Action Builder can make completing follow up tasks\, in the office or in the field\, quick and easy! From this training\, you can expect to learn how to: \n\nCreate\, edit\, and manage tasks\nAdd task due dates\, descriptions\, and To-Dos\nCreate targets for your tasks\nCreate turfs manually and with the Auto-create feature\nAssign turf to individuals and teams\nView and complete your own tasks
URL:https://actionnetwork.blog/event/ab-102-tasks/2025-06-12/
END:VEVENT
BEGIN:VEVENT
DTSTART;TZID=America/New_York:20250710T150000
DTEND;TZID=America/New_York:20250710T160000
DTSTAMP:20240111T150721
CREATED:20230403T183656Z
LAST-MODIFIED:20230615T141526Z
UID:10000409-1752159600-1752163200@actionnetwork.blog
SUMMARY:AB 102 - Tasks
DESCRIPTION:Ready to get to work organizing? Join us for a live training where we will dig into our Tasks feature. Learn how Action Builder can make completing follow up tasks\, in the office or in the field\, quick and easy! From this training\, you can expect to learn how to: \n\nCreate\, edit\, and manage tasks\nAdd task due dates\, descriptions\, and To-Dos\nCreate targets for your tasks\nCreate turfs manually and with the Auto-create feature\nAssign turf to individuals and teams\nView and complete your own tasks
URL:https://actionnetwork.blog/event/ab-102-tasks/2025-07-10/
END:VEVENT
BEGIN:VEVENT
DTSTART;TZID=America/New_York:20250814T150000
DTEND;TZID=America/New_York:20250814T160000
DTSTAMP:20240111T150721
CREATED:20230403T183656Z
LAST-MODIFIED:20230615T141526Z
UID:10000410-1755183600-1755187200@actionnetwork.blog
SUMMARY:AB 102 - Tasks
DESCRIPTION:Ready to get to work organizing? Join us for a live training where we will dig into our Tasks feature. Learn how Action Builder can make completing follow up tasks\, in the office or in the field\, quick and easy! From this training\, you can expect to learn how to: \n\nCreate\, edit\, and manage tasks\nAdd task due dates\, descriptions\, and To-Dos\nCreate targets for your tasks\nCreate turfs manually and with the Auto-create feature\nAssign turf to individuals and teams\nView and complete your own tasks
URL:https://actionnetwork.blog/event/ab-102-tasks/2025-08-14/
END:VEVENT
BEGIN:VEVENT
DTSTART;TZID=America/New_York:20250911T150000
DTEND;TZID=America/New_York:20250911T160000
DTSTAMP:20240111T150721
CREATED:20230403T183656Z
LAST-MODIFIED:20230615T141526Z
UID:10000411-1757602800-1757606400@actionnetwork.blog
SUMMARY:AB 102 - Tasks
DESCRIPTION:Ready to get to work organizing? Join us for a live training where we will dig into our Tasks feature. Learn how Action Builder can make completing follow up tasks\, in the office or in the field\, quick and easy! From this training\, you can expect to learn how to: \n\nCreate\, edit\, and manage tasks\nAdd task due dates\, descriptions\, and To-Dos\nCreate targets for your tasks\nCreate turfs manually and with the Auto-create feature\nAssign turf to individuals and teams\nView and complete your own tasks
URL:https://actionnetwork.blog/event/ab-102-tasks/2025-09-11/
END:VEVENT
BEGIN:VEVENT
DTSTART;TZID=America/New_York:20251009T150000
DTEND;TZID=America/New_York:20251009T160000
DTSTAMP:20240111T150721
CREATED:20230403T183656Z
LAST-MODIFIED:20230615T141526Z
UID:10000412-1760022000-1760025600@actionnetwork.blog
SUMMARY:AB 102 - Tasks
DESCRIPTION:Ready to get to work organizing? Join us for a live training where we will dig into our Tasks feature. Learn how Action Builder can make completing follow up tasks\, in the office or in the field\, quick and easy! From this training\, you can expect to learn how to: \n\nCreate\, edit\, and manage tasks\nAdd task due dates\, descriptions\, and To-Dos\nCreate targets for your tasks\nCreate turfs manually and with the Auto-create feature\nAssign turf to individuals and teams\nView and complete your own tasks
URL:https://actionnetwork.blog/event/ab-102-tasks/2025-10-09/
END:VEVENT
BEGIN:VEVENT
DTSTART;TZID=America/New_York:20251113T150000
DTEND;TZID=America/New_York:20251113T160000
DTSTAMP:20240111T150721
CREATED:20230403T183656Z
LAST-MODIFIED:20230615T141526Z
UID:10000413-1763046000-1763049600@actionnetwork.blog
SUMMARY:AB 102 - Tasks
DESCRIPTION:Ready to get to work organizing? Join us for a live training where we will dig into our Tasks feature. Learn how Action Builder can make completing follow up tasks\, in the office or in the field\, quick and easy! From this training\, you can expect to learn how to: \n\nCreate\, edit\, and manage tasks\nAdd task due dates\, descriptions\, and To-Dos\nCreate targets for your tasks\nCreate turfs manually and with the Auto-create feature\nAssign turf to individuals and teams\nView and complete your own tasks
URL:https://actionnetwork.blog/event/ab-102-tasks/2025-11-13/
END:VEVENT
BEGIN:VEVENT
DTSTART;TZID=America/New_York:20251211T150000
DTEND;TZID=America/New_York:20251211T160000
DTSTAMP:20240111T150721
CREATED:20230403T183656Z
LAST-MODIFIED:20230615T141526Z
UID:10000414-1765465200-1765468800@actionnetwork.blog
SUMMARY:AB 102 - Tasks
DESCRIPTION:Ready to get to work organizing? Join us for a live training where we will dig into our Tasks feature. Learn how Action Builder can make completing follow up tasks\, in the office or in the field\, quick and easy! From this training\, you can expect to learn how to: \n\nCreate\, edit\, and manage tasks\nAdd task due dates\, descriptions\, and To-Dos\nCreate targets for your tasks\nCreate turfs manually and with the Auto-create feature\nAssign turf to individuals and teams\nView and complete your own tasks
URL:https://actionnetwork.blog/event/ab-102-tasks/2025-12-11/
END:VEVENT
BEGIN:VEVENT
DTSTART;TZID=America/New_York:20260108T150000
DTEND;TZID=America/New_York:20260108T160000
DTSTAMP:20240111T150721
CREATED:20230403T183656Z
LAST-MODIFIED:20230615T141526Z
UID:10000415-1767884400-1767888000@actionnetwork.blog
SUMMARY:AB 102 - Tasks
DESCRIPTION:Ready to get to work organizing? Join us for a live training where we will dig into our Tasks feature. Learn how Action Builder can make completing follow up tasks\, in the office or in the field\, quick and easy! From this training\, you can expect to learn how to: \n\nCreate\, edit\, and manage tasks\nAdd task due dates\, descriptions\, and To-Dos\nCreate targets for your tasks\nCreate turfs manually and with the Auto-create feature\nAssign turf to individuals and teams\nView and complete your own tasks
URL:https://actionnetwork.blog/event/ab-102-tasks/2026-01-08/
END:VEVENT
BEGIN:VEVENT
DTSTART;TZID=America/New_York:20260212T150000
DTEND;TZID=America/New_York:20260212T160000
DTSTAMP:20240111T150721
CREATED:20230403T183656Z
LAST-MODIFIED:20230615T141526Z
UID:10000416-1770908400-1770912000@actionnetwork.blog
SUMMARY:AB 102 - Tasks
DESCRIPTION:Ready to get to work organizing? Join us for a live training where we will dig into our Tasks feature. Learn how Action Builder can make completing follow up tasks\, in the office or in the field\, quick and easy! From this training\, you can expect to learn how to: \n\nCreate\, edit\, and manage tasks\nAdd task due dates\, descriptions\, and To-Dos\nCreate targets for your tasks\nCreate turfs manually and with the Auto-create feature\nAssign turf to individuals and teams\nView and complete your own tasks
URL:https://actionnetwork.blog/event/ab-102-tasks/2026-02-12/
END:VEVENT
BEGIN:VEVENT
DTSTART;TZID=America/New_York:20260312T150000
DTEND;TZID=America/New_York:20260312T160000
DTSTAMP:20240111T150721
CREATED:20230403T183656Z
LAST-MODIFIED:20230615T141526Z
UID:10000417-1773327600-1773331200@actionnetwork.blog
SUMMARY:AB 102 - Tasks
DESCRIPTION:Ready to get to work organizing? Join us for a live training where we will dig into our Tasks feature. Learn how Action Builder can make completing follow up tasks\, in the office or in the field\, quick and easy! From this training\, you can expect to learn how to: \n\nCreate\, edit\, and manage tasks\nAdd task due dates\, descriptions\, and To-Dos\nCreate targets for your tasks\nCreate turfs manually and with the Auto-create feature\nAssign turf to individuals and teams\nView and complete your own tasks
URL:https://actionnetwork.blog/event/ab-102-tasks/2026-03-12/
END:VEVENT
BEGIN:VEVENT
DTSTART;TZID=America/New_York:20260409T150000
DTEND;TZID=America/New_York:20260409T160000
DTSTAMP:20240111T150721
CREATED:20230403T183656Z
LAST-MODIFIED:20230615T141526Z
UID:10000418-1775746800-1775750400@actionnetwork.blog
SUMMARY:AB 102 - Tasks
DESCRIPTION:Ready to get to work organizing? Join us for a live training where we will dig into our Tasks feature. Learn how Action Builder can make completing follow up tasks\, in the office or in the field\, quick and easy! From this training\, you can expect to learn how to: \n\nCreate\, edit\, and manage tasks\nAdd task due dates\, descriptions\, and To-Dos\nCreate targets for your tasks\nCreate turfs manually and with the Auto-create feature\nAssign turf to individuals and teams\nView and complete your own tasks
URL:https://actionnetwork.blog/event/ab-102-tasks/2026-04-09/
END:VEVENT
BEGIN:VEVENT
DTSTART;TZID=America/New_York:20260514T150000
DTEND;TZID=America/New_York:20260514T160000
DTSTAMP:20240111T150721
CREATED:20230403T183656Z
LAST-MODIFIED:20230615T141526Z
UID:10000419-1778770800-1778774400@actionnetwork.blog
SUMMARY:AB 102 - Tasks
DESCRIPTION:Ready to get to work organizing? Join us for a live training where we will dig into our Tasks feature. Learn how Action Builder can make completing follow up tasks\, in the office or in the field\, quick and easy! From this training\, you can expect to learn how to: \n\nCreate\, edit\, and manage tasks\nAdd task due dates\, descriptions\, and To-Dos\nCreate targets for your tasks\nCreate turfs manually and with the Auto-create feature\nAssign turf to individuals and teams\nView and complete your own tasks
URL:https://actionnetwork.blog/event/ab-102-tasks/2026-05-14/
END:VEVENT
BEGIN:VEVENT
DTSTART;TZID=America/New_York:20260611T150000
DTEND;TZID=America/New_York:20260611T160000
DTSTAMP:20240111T150721
CREATED:20230403T183656Z
LAST-MODIFIED:20230615T141526Z
UID:10000420-1781190000-1781193600@actionnetwork.blog
SUMMARY:AB 102 - Tasks
DESCRIPTION:Ready to get to work organizing? Join us for a live training where we will dig into our Tasks feature. Learn how Action Builder can make completing follow up tasks\, in the office or in the field\, quick and easy! From this training\, you can expect to learn how to: \n\nCreate\, edit\, and manage tasks\nAdd task due dates\, descriptions\, and To-Dos\nCreate targets for your tasks\nCreate turfs manually and with the Auto-create feature\nAssign turf to individuals and teams\nView and complete your own tasks
URL:https://actionnetwork.blog/event/ab-102-tasks/2026-06-11/
END:VEVENT
BEGIN:VEVENT
DTSTART;TZID=America/New_York:20260709T150000
DTEND;TZID=America/New_York:20260709T160000
DTSTAMP:20240111T150721
CREATED:20230403T183656Z
LAST-MODIFIED:20230615T141526Z
UID:10000421-1783609200-1783612800@actionnetwork.blog
SUMMARY:AB 102 - Tasks
DESCRIPTION:Ready to get to work organizing? Join us for a live training where we will dig into our Tasks feature. Learn how Action Builder can make completing follow up tasks\, in the office or in the field\, quick and easy! From this training\, you can expect to learn how to: \n\nCreate\, edit\, and manage tasks\nAdd task due dates\, descriptions\, and To-Dos\nCreate targets for your tasks\nCreate turfs manually and with the Auto-create feature\nAssign turf to individuals and teams\nView and complete your own tasks
URL:https://actionnetwork.blog/event/ab-102-tasks/2026-07-09/
END:VEVENT
BEGIN:VEVENT
DTSTART;TZID=America/New_York:20260813T150000
DTEND;TZID=America/New_York:20260813T160000
DTSTAMP:20240111T150721
CREATED:20230403T183656Z
LAST-MODIFIED:20230615T141526Z
UID:10000422-1786633200-1786636800@actionnetwork.blog
SUMMARY:AB 102 - Tasks
DESCRIPTION:Ready to get to work organizing? Join us for a live training where we will dig into our Tasks feature. Learn how Action Builder can make completing follow up tasks\, in the office or in the field\, quick and easy! From this training\, you can expect to learn how to: \n\nCreate\, edit\, and manage tasks\nAdd task due dates\, descriptions\, and To-Dos\nCreate targets for your tasks\nCreate turfs manually and with the Auto-create feature\nAssign turf to individuals and teams\nView and complete your own tasks
URL:https://actionnetwork.blog/event/ab-102-tasks/2026-08-13/
END:VEVENT
BEGIN:VEVENT
DTSTART;TZID=America/New_York:20260910T150000
DTEND;TZID=America/New_York:20260910T160000
DTSTAMP:20240111T150721
CREATED:20230403T183656Z
LAST-MODIFIED:20230615T141526Z
UID:10000423-1789052400-1789056000@actionnetwork.blog
SUMMARY:AB 102 - Tasks
DESCRIPTION:Ready to get to work organizing? Join us for a live training where we will dig into our Tasks feature. Learn how Action Builder can make completing follow up tasks\, in the office or in the field\, quick and easy! From this training\, you can expect to learn how to: \n\nCreate\, edit\, and manage tasks\nAdd task due dates\, descriptions\, and To-Dos\nCreate targets for your tasks\nCreate turfs manually and with the Auto-create feature\nAssign turf to individuals and teams\nView and complete your own tasks
URL:https://actionnetwork.blog/event/ab-102-tasks/2026-09-10/
END:VEVENT
BEGIN:VEVENT
DTSTART;TZID=America/New_York:20261008T150000
DTEND;TZID=America/New_York:20261008T160000
DTSTAMP:20240111T150721
CREATED:20230403T183656Z
LAST-MODIFIED:20230615T141526Z
UID:10000424-1791471600-1791475200@actionnetwork.blog
SUMMARY:AB 102 - Tasks
DESCRIPTION:Ready to get to work organizing? Join us for a live training where we will dig into our Tasks feature. Learn how Action Builder can make completing follow up tasks\, in the office or in the field\, quick and easy! From this training\, you can expect to learn how to: \n\nCreate\, edit\, and manage tasks\nAdd task due dates\, descriptions\, and To-Dos\nCreate targets for your tasks\nCreate turfs manually and with the Auto-create feature\nAssign turf to individuals and teams\nView and complete your own tasks
URL:https://actionnetwork.blog/event/ab-102-tasks/2026-10-08/
END:VEVENT
BEGIN:VEVENT
DTSTART;TZID=America/New_York:20261112T150000
DTEND;TZID=America/New_York:20261112T160000
DTSTAMP:20240111T150721
CREATED:20230403T183656Z
LAST-MODIFIED:20230615T141526Z
UID:10000425-1794495600-1794499200@actionnetwork.blog
SUMMARY:AB 102 - Tasks
DESCRIPTION:Ready to get to work organizing? Join us for a live training where we will dig into our Tasks feature. Learn how Action Builder can make completing follow up tasks\, in the office or in the field\, quick and easy! From this training\, you can expect to learn how to: \n\nCreate\, edit\, and manage tasks\nAdd task due dates\, descriptions\, and To-Dos\nCreate targets for your tasks\nCreate turfs manually and with the Auto-create feature\nAssign turf to individuals and teams\nView and complete your own tasks
URL:https://actionnetwork.blog/event/ab-102-tasks/2026-11-12/
END:VEVENT
BEGIN:VEVENT
DTSTART;TZID=America/New_York:20261210T150000
DTEND;TZID=America/New_York:20261210T160000
DTSTAMP:20240111T150721
CREATED:20230403T183656Z
LAST-MODIFIED:20230615T141526Z
UID:10000426-1796914800-1796918400@actionnetwork.blog
SUMMARY:AB 102 - Tasks
DESCRIPTION:Ready to get to work organizing? Join us for a live training where we will dig into our Tasks feature. Learn how Action Builder can make completing follow up tasks\, in the office or in the field\, quick and easy! From this training\, you can expect to learn how to: \n\nCreate\, edit\, and manage tasks\nAdd task due dates\, descriptions\, and To-Dos\nCreate targets for your tasks\nCreate turfs manually and with the Auto-create feature\nAssign turf to individuals and teams\nView and complete your own tasks
URL:https://actionnetwork.blog/event/ab-102-tasks/2026-12-10/
END:VEVENT
BEGIN:VEVENT
DTSTART;TZID=America/New_York:20270114T150000
DTEND;TZID=America/New_York:20270114T160000
DTSTAMP:20240111T150721
CREATED:20230403T183656Z
LAST-MODIFIED:20230615T141526Z
UID:10000427-1799938800-1799942400@actionnetwork.blog
SUMMARY:AB 102 - Tasks
DESCRIPTION:Ready to get to work organizing? Join us for a live training where we will dig into our Tasks feature. Learn how Action Builder can make completing follow up tasks\, in the office or in the field\, quick and easy! From this training\, you can expect to learn how to: \n\nCreate\, edit\, and manage tasks\nAdd task due dates\, descriptions\, and To-Dos\nCreate targets for your tasks\nCreate turfs manually and with the Auto-create feature\nAssign turf to individuals and teams\nView and complete your own tasks
URL:https://actionnetwork.blog/event/ab-102-tasks/2027-01-14/
END:VEVENT
BEGIN:VEVENT
DTSTART;TZID=America/New_York:20270211T150000
DTEND;TZID=America/New_York:20270211T160000
DTSTAMP:20240111T150721
CREATED:20230403T183656Z
LAST-MODIFIED:20230615T141526Z
UID:10000428-1802358000-1802361600@actionnetwork.blog
SUMMARY:AB 102 - Tasks
DESCRIPTION:Ready to get to work organizing? Join us for a live training where we will dig into our Tasks feature. Learn how Action Builder can make completing follow up tasks\, in the office or in the field\, quick and easy! From this training\, you can expect to learn how to: \n\nCreate\, edit\, and manage tasks\nAdd task due dates\, descriptions\, and To-Dos\nCreate targets for your tasks\nCreate turfs manually and with the Auto-create feature\nAssign turf to individuals and teams\nView and complete your own tasks
URL:https://actionnetwork.blog/event/ab-102-tasks/2027-02-11/
END:VEVENT
BEGIN:VEVENT
DTSTART;TZID=America/New_York:20270311T150000
DTEND;TZID=America/New_York:20270311T160000
DTSTAMP:20240111T150721
CREATED:20230403T183656Z
LAST-MODIFIED:20230615T141526Z
UID:10000429-1804777200-1804780800@actionnetwork.blog
SUMMARY:AB 102 - Tasks
DESCRIPTION:Ready to get to work organizing? Join us for a live training where we will dig into our Tasks feature. Learn how Action Builder can make completing follow up tasks\, in the office or in the field\, quick and easy! From this training\, you can expect to learn how to: \n\nCreate\, edit\, and manage tasks\nAdd task due dates\, descriptions\, and To-Dos\nCreate targets for your tasks\nCreate turfs manually and with the Auto-create feature\nAssign turf to individuals and teams\nView and complete your own tasks
URL:https://actionnetwork.blog/event/ab-102-tasks/2027-03-11/
END:VEVENT
BEGIN:VEVENT
DTSTART;TZID=America/New_York:20270408T150000
DTEND;TZID=America/New_York:20270408T160000
DTSTAMP:20240111T150721
CREATED:20230403T183656Z
LAST-MODIFIED:20230615T141526Z
UID:10000430-1807196400-1807200000@actionnetwork.blog
SUMMARY:AB 102 - Tasks
DESCRIPTION:Ready to get to work organizing? Join us for a live training where we will dig into our Tasks feature. Learn how Action Builder can make completing follow up tasks\, in the office or in the field\, quick and easy! From this training\, you can expect to learn how to: \n\nCreate\, edit\, and manage tasks\nAdd task due dates\, descriptions\, and To-Dos\nCreate targets for your tasks\nCreate turfs manually and with the Auto-create feature\nAssign turf to individuals and teams\nView and complete your own tasks
URL:https://actionnetwork.blog/event/ab-102-tasks/2027-04-08/
END:VEVENT
BEGIN:VEVENT
DTSTART;TZID=America/New_York:20270513T150000
DTEND;TZID=America/New_York:20270513T160000
DTSTAMP:20240111T150721
CREATED:20230403T183656Z
LAST-MODIFIED:20230615T141526Z
UID:10000431-1810220400-1810224000@actionnetwork.blog
SUMMARY:AB 102 - Tasks
DESCRIPTION:Ready to get to work organizing? Join us for a live training where we will dig into our Tasks feature. Learn how Action Builder can make completing follow up tasks\, in the office or in the field\, quick and easy! From this training\, you can expect to learn how to: \n\nCreate\, edit\, and manage tasks\nAdd task due dates\, descriptions\, and To-Dos\nCreate targets for your tasks\nCreate turfs manually and with the Auto-create feature\nAssign turf to individuals and teams\nView and complete your own tasks
URL:https://actionnetwork.blog/event/ab-102-tasks/2027-05-13/
END:VEVENT
BEGIN:VEVENT
DTSTART;TZID=America/New_York:20270610T150000
DTEND;TZID=America/New_York:20270610T160000
DTSTAMP:20240111T150721
CREATED:20230403T183656Z
LAST-MODIFIED:20230615T141526Z
UID:10000432-1812639600-1812643200@actionnetwork.blog
SUMMARY:AB 102 - Tasks
DESCRIPTION:Ready to get to work organizing? Join us for a live training where we will dig into our Tasks feature. Learn how Action Builder can make completing follow up tasks\, in the office or in the field\, quick and easy! From this training\, you can expect to learn how to: \n\nCreate\, edit\, and manage tasks\nAdd task due dates\, descriptions\, and To-Dos\nCreate targets for your tasks\nCreate turfs manually and with the Auto-create feature\nAssign turf to individuals and teams\nView and complete your own tasks
URL:https://actionnetwork.blog/event/ab-102-tasks/2027-06-10/
END:VEVENT
END:VCALENDAR