BEGIN:VCALENDAR
VERSION:2.0
PRODID:-//Action Network Blog - ECPv6.15.20//NONSGML v1.0//EN
CALSCALE:GREGORIAN
METHOD:PUBLISH
X-WR-CALNAME:Action Network Blog
X-ORIGINAL-URL:https://actionnetwork.blog
X-WR-CALDESC:Events for Action Network Blog
REFRESH-INTERVAL;VALUE=DURATION:PT1H
X-Robots-Tag:noindex
X-PUBLISHED-TTL:PT1H
BEGIN:VTIMEZONE
TZID:America/New_York
BEGIN:DAYLIGHT
TZOFFSETFROM:-0500
TZOFFSETTO:-0400
TZNAME:EDT
DTSTART:20280312T070000
END:DAYLIGHT
BEGIN:STANDARD
TZOFFSETFROM:-0400
TZOFFSETTO:-0500
TZNAME:EST
DTSTART:20281105T060000
END:STANDARD
BEGIN:DAYLIGHT
TZOFFSETFROM:-0500
TZOFFSETTO:-0400
TZNAME:EDT
DTSTART:20290311T070000
END:DAYLIGHT
BEGIN:STANDARD
TZOFFSETFROM:-0400
TZOFFSETTO:-0500
TZNAME:EST
DTSTART:20291104T060000
END:STANDARD
BEGIN:DAYLIGHT
TZOFFSETFROM:-0500
TZOFFSETTO:-0400
TZNAME:EDT
DTSTART:20300310T070000
END:DAYLIGHT
BEGIN:STANDARD
TZOFFSETFROM:-0400
TZOFFSETTO:-0500
TZNAME:EST
DTSTART:20301103T060000
END:STANDARD
BEGIN:DAYLIGHT
TZOFFSETFROM:-0500
TZOFFSETTO:-0400
TZNAME:EDT
DTSTART:20310309T070000
END:DAYLIGHT
BEGIN:STANDARD
TZOFFSETFROM:-0400
TZOFFSETTO:-0500
TZNAME:EST
DTSTART:20311102T060000
END:STANDARD
END:VTIMEZONE
BEGIN:VEVENT
DTSTART;TZID=America/New_York:20290329T130000
DTEND;TZID=America/New_York:20290329T140000
DTSTAMP:20260419T185959
CREATED:20230906T194736Z
LAST-MODIFIED:20230906T194736Z
UID:10000778-1869483600-1869487200@actionnetwork.blog
SUMMARY:105 - Deliverability
DESCRIPTION:Do you find a lot of emails end up in spam? Are your open rates suddenly tanking? Do you want to avoid these issues altogether? You’ll need to learn about deliverability! \nBy the end of this training\, you will know the best delivery practices to protect your email program and help your emails end up in inboxes and avoid spam folders. You’ll also learn how to improve your deliverability and reputation if it’s taken a hit.
URL:https://actionnetwork.blog/event/105-deliverability-2/2029-03-29/
END:VEVENT
BEGIN:VEVENT
DTSTART;TZID=America/New_York:20290531T130000
DTEND;TZID=America/New_York:20290531T140000
DTSTAMP:20260419T185959
CREATED:20230906T194736Z
LAST-MODIFIED:20230906T194736Z
UID:10000779-1874926800-1874930400@actionnetwork.blog
SUMMARY:105 - Deliverability
DESCRIPTION:Do you find a lot of emails end up in spam? Are your open rates suddenly tanking? Do you want to avoid these issues altogether? You’ll need to learn about deliverability! \nBy the end of this training\, you will know the best delivery practices to protect your email program and help your emails end up in inboxes and avoid spam folders. You’ll also learn how to improve your deliverability and reputation if it’s taken a hit.
URL:https://actionnetwork.blog/event/105-deliverability-2/2029-05-31/
END:VEVENT
BEGIN:VEVENT
DTSTART;TZID=America/New_York:20290830T130000
DTEND;TZID=America/New_York:20290830T140000
DTSTAMP:20260419T185959
CREATED:20230906T194736Z
LAST-MODIFIED:20230906T194736Z
UID:10000780-1882789200-1882792800@actionnetwork.blog
SUMMARY:105 - Deliverability
DESCRIPTION:Do you find a lot of emails end up in spam? Are your open rates suddenly tanking? Do you want to avoid these issues altogether? You’ll need to learn about deliverability! \nBy the end of this training\, you will know the best delivery practices to protect your email program and help your emails end up in inboxes and avoid spam folders. You’ll also learn how to improve your deliverability and reputation if it’s taken a hit.
URL:https://actionnetwork.blog/event/105-deliverability-2/2029-08-30/
END:VEVENT
BEGIN:VEVENT
DTSTART;TZID=America/New_York:20291129T130000
DTEND;TZID=America/New_York:20291129T140000
DTSTAMP:20260419T185959
CREATED:20230906T194736Z
LAST-MODIFIED:20230906T194736Z
UID:10000781-1890651600-1890655200@actionnetwork.blog
SUMMARY:105 - Deliverability
DESCRIPTION:Do you find a lot of emails end up in spam? Are your open rates suddenly tanking? Do you want to avoid these issues altogether? You’ll need to learn about deliverability! \nBy the end of this training\, you will know the best delivery practices to protect your email program and help your emails end up in inboxes and avoid spam folders. You’ll also learn how to improve your deliverability and reputation if it’s taken a hit.
URL:https://actionnetwork.blog/event/105-deliverability-2/2029-11-29/
END:VEVENT
BEGIN:VEVENT
DTSTART;TZID=America/New_York:20300131T130000
DTEND;TZID=America/New_York:20300131T140000
DTSTAMP:20260419T185959
CREATED:20230906T194736Z
LAST-MODIFIED:20230906T194736Z
UID:10000782-1896094800-1896098400@actionnetwork.blog
SUMMARY:105 - Deliverability
DESCRIPTION:Do you find a lot of emails end up in spam? Are your open rates suddenly tanking? Do you want to avoid these issues altogether? You’ll need to learn about deliverability! \nBy the end of this training\, you will know the best delivery practices to protect your email program and help your emails end up in inboxes and avoid spam folders. You’ll also learn how to improve your deliverability and reputation if it’s taken a hit.
URL:https://actionnetwork.blog/event/105-deliverability-2/2030-01-31/
END:VEVENT
END:VCALENDAR