BEGIN:VCALENDAR
VERSION:2.0
PRODID:-//Action Network Blog - ECPv6.2.9//NONSGML v1.0//EN
CALSCALE:GREGORIAN
METHOD:PUBLISH
X-WR-CALNAME:Action Network Blog
X-ORIGINAL-URL:https://actionnetwork.blog
X-WR-CALDESC:Events for Action Network Blog
REFRESH-INTERVAL;VALUE=DURATION:PT1H
X-Robots-Tag:noindex
X-PUBLISHED-TTL:PT1H
BEGIN:VTIMEZONE
TZID:America/New_York
BEGIN:DAYLIGHT
TZOFFSETFROM:-0500
TZOFFSETTO:-0400
TZNAME:EDT
DTSTART:20240310T070000
END:DAYLIGHT
BEGIN:STANDARD
TZOFFSETFROM:-0400
TZOFFSETTO:-0500
TZNAME:EST
DTSTART:20241103T060000
END:STANDARD
BEGIN:DAYLIGHT
TZOFFSETFROM:-0500
TZOFFSETTO:-0400
TZNAME:EDT
DTSTART:20250309T070000
END:DAYLIGHT
BEGIN:STANDARD
TZOFFSETFROM:-0400
TZOFFSETTO:-0500
TZNAME:EST
DTSTART:20251102T060000
END:STANDARD
BEGIN:DAYLIGHT
TZOFFSETFROM:-0500
TZOFFSETTO:-0400
TZNAME:EDT
DTSTART:20260308T070000
END:DAYLIGHT
BEGIN:STANDARD
TZOFFSETFROM:-0400
TZOFFSETTO:-0500
TZNAME:EST
DTSTART:20261101T060000
END:STANDARD
END:VTIMEZONE
BEGIN:VEVENT
DTSTART;TZID=America/New_York:20240201T140000
DTEND;TZID=America/New_York:20240201T150000
DTSTAMP:20240111T150524
CREATED:20230615T134903Z
LAST-MODIFIED:20230906T145146Z
UID:10000506-1706796000-1706799600@actionnetwork.blog
SUMMARY:101 - Data\, Understanding Your Activist List
DESCRIPTION:  \n\n\n\nLearn how to set up your data in Action Network. We’ll cover gathering activist data\, uploading\, segmenting\, and downloading your list\, as well as how to keep your data organized as you grow.
URL:https://actionnetwork.blog/event/101-data-understanding-your-activist-list-2-2/2024-02-01/
END:VEVENT
BEGIN:VEVENT
DTSTART;TZID=America/New_York:20240307T140000
DTEND;TZID=America/New_York:20240307T150000
DTSTAMP:20240111T150524
CREATED:20230615T134903Z
LAST-MODIFIED:20230906T145146Z
UID:10000507-1709820000-1709823600@actionnetwork.blog
SUMMARY:101 - Data\, Understanding Your Activist List
DESCRIPTION:  \n\n\n\nLearn how to set up your data in Action Network. We’ll cover gathering activist data\, uploading\, segmenting\, and downloading your list\, as well as how to keep your data organized as you grow.
URL:https://actionnetwork.blog/event/101-data-understanding-your-activist-list-2-2/2024-03-07/
END:VEVENT
BEGIN:VEVENT
DTSTART;TZID=America/New_York:20240404T140000
DTEND;TZID=America/New_York:20240404T150000
DTSTAMP:20240111T150524
CREATED:20230615T134903Z
LAST-MODIFIED:20230906T145146Z
UID:10000508-1712239200-1712242800@actionnetwork.blog
SUMMARY:101 - Data\, Understanding Your Activist List
DESCRIPTION:  \n\n\n\nLearn how to set up your data in Action Network. We’ll cover gathering activist data\, uploading\, segmenting\, and downloading your list\, as well as how to keep your data organized as you grow.
URL:https://actionnetwork.blog/event/101-data-understanding-your-activist-list-2-2/2024-04-04/
END:VEVENT
BEGIN:VEVENT
DTSTART;TZID=America/New_York:20240502T140000
DTEND;TZID=America/New_York:20240502T150000
DTSTAMP:20240111T150524
CREATED:20230615T134903Z
LAST-MODIFIED:20230906T145146Z
UID:10000509-1714658400-1714662000@actionnetwork.blog
SUMMARY:101 - Data\, Understanding Your Activist List
DESCRIPTION:  \n\n\n\nLearn how to set up your data in Action Network. We’ll cover gathering activist data\, uploading\, segmenting\, and downloading your list\, as well as how to keep your data organized as you grow.
URL:https://actionnetwork.blog/event/101-data-understanding-your-activist-list-2-2/2024-05-02/
END:VEVENT
BEGIN:VEVENT
DTSTART;TZID=America/New_York:20240606T140000
DTEND;TZID=America/New_York:20240606T150000
DTSTAMP:20240111T150524
CREATED:20230615T134903Z
LAST-MODIFIED:20230906T145146Z
UID:10000510-1717682400-1717686000@actionnetwork.blog
SUMMARY:101 - Data\, Understanding Your Activist List
DESCRIPTION:  \n\n\n\nLearn how to set up your data in Action Network. We’ll cover gathering activist data\, uploading\, segmenting\, and downloading your list\, as well as how to keep your data organized as you grow.
URL:https://actionnetwork.blog/event/101-data-understanding-your-activist-list-2-2/2024-06-06/
END:VEVENT
BEGIN:VEVENT
DTSTART;TZID=America/New_York:20240704T140000
DTEND;TZID=America/New_York:20240704T150000
DTSTAMP:20240111T150524
CREATED:20230615T134903Z
LAST-MODIFIED:20230906T145146Z
UID:10000511-1720101600-1720105200@actionnetwork.blog
SUMMARY:101 - Data\, Understanding Your Activist List
DESCRIPTION:  \n\n\n\nLearn how to set up your data in Action Network. We’ll cover gathering activist data\, uploading\, segmenting\, and downloading your list\, as well as how to keep your data organized as you grow.
URL:https://actionnetwork.blog/event/101-data-understanding-your-activist-list-2-2/2024-07-04/
END:VEVENT
BEGIN:VEVENT
DTSTART;TZID=America/New_York:20240801T140000
DTEND;TZID=America/New_York:20240801T150000
DTSTAMP:20240111T150524
CREATED:20230615T134903Z
LAST-MODIFIED:20230906T145146Z
UID:10000512-1722520800-1722524400@actionnetwork.blog
SUMMARY:101 - Data\, Understanding Your Activist List
DESCRIPTION:  \n\n\n\nLearn how to set up your data in Action Network. We’ll cover gathering activist data\, uploading\, segmenting\, and downloading your list\, as well as how to keep your data organized as you grow.
URL:https://actionnetwork.blog/event/101-data-understanding-your-activist-list-2-2/2024-08-01/
END:VEVENT
BEGIN:VEVENT
DTSTART;TZID=America/New_York:20240905T140000
DTEND;TZID=America/New_York:20240905T150000
DTSTAMP:20240111T150524
CREATED:20230615T134903Z
LAST-MODIFIED:20230906T145146Z
UID:10000513-1725544800-1725548400@actionnetwork.blog
SUMMARY:101 - Data\, Understanding Your Activist List
DESCRIPTION:  \n\n\n\nLearn how to set up your data in Action Network. We’ll cover gathering activist data\, uploading\, segmenting\, and downloading your list\, as well as how to keep your data organized as you grow.
URL:https://actionnetwork.blog/event/101-data-understanding-your-activist-list-2-2/2024-09-05/
END:VEVENT
BEGIN:VEVENT
DTSTART;TZID=America/New_York:20241003T140000
DTEND;TZID=America/New_York:20241003T150000
DTSTAMP:20240111T150524
CREATED:20230615T134903Z
LAST-MODIFIED:20230906T145146Z
UID:10000514-1727964000-1727967600@actionnetwork.blog
SUMMARY:101 - Data\, Understanding Your Activist List
DESCRIPTION:  \n\n\n\nLearn how to set up your data in Action Network. We’ll cover gathering activist data\, uploading\, segmenting\, and downloading your list\, as well as how to keep your data organized as you grow.
URL:https://actionnetwork.blog/event/101-data-understanding-your-activist-list-2-2/2024-10-03/
END:VEVENT
BEGIN:VEVENT
DTSTART;TZID=America/New_York:20241107T140000
DTEND;TZID=America/New_York:20241107T150000
DTSTAMP:20240111T150524
CREATED:20230615T134903Z
LAST-MODIFIED:20230906T145146Z
UID:10000515-1730988000-1730991600@actionnetwork.blog
SUMMARY:101 - Data\, Understanding Your Activist List
DESCRIPTION:  \n\n\n\nLearn how to set up your data in Action Network. We’ll cover gathering activist data\, uploading\, segmenting\, and downloading your list\, as well as how to keep your data organized as you grow.
URL:https://actionnetwork.blog/event/101-data-understanding-your-activist-list-2-2/2024-11-07/
END:VEVENT
BEGIN:VEVENT
DTSTART;TZID=America/New_York:20241205T140000
DTEND;TZID=America/New_York:20241205T150000
DTSTAMP:20240111T150524
CREATED:20230615T134903Z
LAST-MODIFIED:20230906T145146Z
UID:10000516-1733407200-1733410800@actionnetwork.blog
SUMMARY:101 - Data\, Understanding Your Activist List
DESCRIPTION:  \n\n\n\nLearn how to set up your data in Action Network. We’ll cover gathering activist data\, uploading\, segmenting\, and downloading your list\, as well as how to keep your data organized as you grow.
URL:https://actionnetwork.blog/event/101-data-understanding-your-activist-list-2-2/2024-12-05/
END:VEVENT
BEGIN:VEVENT
DTSTART;TZID=America/New_York:20250102T140000
DTEND;TZID=America/New_York:20250102T150000
DTSTAMP:20240111T150524
CREATED:20230615T134903Z
LAST-MODIFIED:20230906T145146Z
UID:10000517-1735826400-1735830000@actionnetwork.blog
SUMMARY:101 - Data\, Understanding Your Activist List
DESCRIPTION:  \n\n\n\nLearn how to set up your data in Action Network. We’ll cover gathering activist data\, uploading\, segmenting\, and downloading your list\, as well as how to keep your data organized as you grow.
URL:https://actionnetwork.blog/event/101-data-understanding-your-activist-list-2-2/2025-01-02/
END:VEVENT
BEGIN:VEVENT
DTSTART;TZID=America/New_York:20250206T140000
DTEND;TZID=America/New_York:20250206T150000
DTSTAMP:20240111T150524
CREATED:20230615T134903Z
LAST-MODIFIED:20230906T145146Z
UID:10000518-1738850400-1738854000@actionnetwork.blog
SUMMARY:101 - Data\, Understanding Your Activist List
DESCRIPTION:  \n\n\n\nLearn how to set up your data in Action Network. We’ll cover gathering activist data\, uploading\, segmenting\, and downloading your list\, as well as how to keep your data organized as you grow.
URL:https://actionnetwork.blog/event/101-data-understanding-your-activist-list-2-2/2025-02-06/
END:VEVENT
BEGIN:VEVENT
DTSTART;TZID=America/New_York:20250306T140000
DTEND;TZID=America/New_York:20250306T150000
DTSTAMP:20240111T150524
CREATED:20230615T134903Z
LAST-MODIFIED:20230906T145146Z
UID:10000519-1741269600-1741273200@actionnetwork.blog
SUMMARY:101 - Data\, Understanding Your Activist List
DESCRIPTION:  \n\n\n\nLearn how to set up your data in Action Network. We’ll cover gathering activist data\, uploading\, segmenting\, and downloading your list\, as well as how to keep your data organized as you grow.
URL:https://actionnetwork.blog/event/101-data-understanding-your-activist-list-2-2/2025-03-06/
END:VEVENT
BEGIN:VEVENT
DTSTART;TZID=America/New_York:20250403T140000
DTEND;TZID=America/New_York:20250403T150000
DTSTAMP:20240111T150524
CREATED:20230615T134903Z
LAST-MODIFIED:20230906T145146Z
UID:10000520-1743688800-1743692400@actionnetwork.blog
SUMMARY:101 - Data\, Understanding Your Activist List
DESCRIPTION:  \n\n\n\nLearn how to set up your data in Action Network. We’ll cover gathering activist data\, uploading\, segmenting\, and downloading your list\, as well as how to keep your data organized as you grow.
URL:https://actionnetwork.blog/event/101-data-understanding-your-activist-list-2-2/2025-04-03/
END:VEVENT
BEGIN:VEVENT
DTSTART;TZID=America/New_York:20250501T140000
DTEND;TZID=America/New_York:20250501T150000
DTSTAMP:20240111T150524
CREATED:20230615T134903Z
LAST-MODIFIED:20230906T145146Z
UID:10000521-1746108000-1746111600@actionnetwork.blog
SUMMARY:101 - Data\, Understanding Your Activist List
DESCRIPTION:  \n\n\n\nLearn how to set up your data in Action Network. We’ll cover gathering activist data\, uploading\, segmenting\, and downloading your list\, as well as how to keep your data organized as you grow.
URL:https://actionnetwork.blog/event/101-data-understanding-your-activist-list-2-2/2025-05-01/
END:VEVENT
BEGIN:VEVENT
DTSTART;TZID=America/New_York:20250605T140000
DTEND;TZID=America/New_York:20250605T150000
DTSTAMP:20240111T150524
CREATED:20230615T134903Z
LAST-MODIFIED:20230906T145146Z
UID:10000522-1749132000-1749135600@actionnetwork.blog
SUMMARY:101 - Data\, Understanding Your Activist List
DESCRIPTION:  \n\n\n\nLearn how to set up your data in Action Network. We’ll cover gathering activist data\, uploading\, segmenting\, and downloading your list\, as well as how to keep your data organized as you grow.
URL:https://actionnetwork.blog/event/101-data-understanding-your-activist-list-2-2/2025-06-05/
END:VEVENT
BEGIN:VEVENT
DTSTART;TZID=America/New_York:20250703T140000
DTEND;TZID=America/New_York:20250703T150000
DTSTAMP:20240111T150524
CREATED:20230615T134903Z
LAST-MODIFIED:20230906T145146Z
UID:10000523-1751551200-1751554800@actionnetwork.blog
SUMMARY:101 - Data\, Understanding Your Activist List
DESCRIPTION:  \n\n\n\nLearn how to set up your data in Action Network. We’ll cover gathering activist data\, uploading\, segmenting\, and downloading your list\, as well as how to keep your data organized as you grow.
URL:https://actionnetwork.blog/event/101-data-understanding-your-activist-list-2-2/2025-07-03/
END:VEVENT
BEGIN:VEVENT
DTSTART;TZID=America/New_York:20250807T140000
DTEND;TZID=America/New_York:20250807T150000
DTSTAMP:20240111T150524
CREATED:20230615T134903Z
LAST-MODIFIED:20230906T145146Z
UID:10000524-1754575200-1754578800@actionnetwork.blog
SUMMARY:101 - Data\, Understanding Your Activist List
DESCRIPTION:  \n\n\n\nLearn how to set up your data in Action Network. We’ll cover gathering activist data\, uploading\, segmenting\, and downloading your list\, as well as how to keep your data organized as you grow.
URL:https://actionnetwork.blog/event/101-data-understanding-your-activist-list-2-2/2025-08-07/
END:VEVENT
BEGIN:VEVENT
DTSTART;TZID=America/New_York:20250904T140000
DTEND;TZID=America/New_York:20250904T150000
DTSTAMP:20240111T150524
CREATED:20230615T134903Z
LAST-MODIFIED:20230906T145146Z
UID:10000525-1756994400-1756998000@actionnetwork.blog
SUMMARY:101 - Data\, Understanding Your Activist List
DESCRIPTION:  \n\n\n\nLearn how to set up your data in Action Network. We’ll cover gathering activist data\, uploading\, segmenting\, and downloading your list\, as well as how to keep your data organized as you grow.
URL:https://actionnetwork.blog/event/101-data-understanding-your-activist-list-2-2/2025-09-04/
END:VEVENT
BEGIN:VEVENT
DTSTART;TZID=America/New_York:20251002T140000
DTEND;TZID=America/New_York:20251002T150000
DTSTAMP:20240111T150524
CREATED:20230615T134903Z
LAST-MODIFIED:20230906T145146Z
UID:10000526-1759413600-1759417200@actionnetwork.blog
SUMMARY:101 - Data\, Understanding Your Activist List
DESCRIPTION:  \n\n\n\nLearn how to set up your data in Action Network. We’ll cover gathering activist data\, uploading\, segmenting\, and downloading your list\, as well as how to keep your data organized as you grow.
URL:https://actionnetwork.blog/event/101-data-understanding-your-activist-list-2-2/2025-10-02/
END:VEVENT
BEGIN:VEVENT
DTSTART;TZID=America/New_York:20251106T140000
DTEND;TZID=America/New_York:20251106T150000
DTSTAMP:20240111T150524
CREATED:20230615T134903Z
LAST-MODIFIED:20230906T145146Z
UID:10000527-1762437600-1762441200@actionnetwork.blog
SUMMARY:101 - Data\, Understanding Your Activist List
DESCRIPTION:  \n\n\n\nLearn how to set up your data in Action Network. We’ll cover gathering activist data\, uploading\, segmenting\, and downloading your list\, as well as how to keep your data organized as you grow.
URL:https://actionnetwork.blog/event/101-data-understanding-your-activist-list-2-2/2025-11-06/
END:VEVENT
BEGIN:VEVENT
DTSTART;TZID=America/New_York:20251204T140000
DTEND;TZID=America/New_York:20251204T150000
DTSTAMP:20240111T150524
CREATED:20230615T134903Z
LAST-MODIFIED:20230906T145146Z
UID:10000528-1764856800-1764860400@actionnetwork.blog
SUMMARY:101 - Data\, Understanding Your Activist List
DESCRIPTION:  \n\n\n\nLearn how to set up your data in Action Network. We’ll cover gathering activist data\, uploading\, segmenting\, and downloading your list\, as well as how to keep your data organized as you grow.
URL:https://actionnetwork.blog/event/101-data-understanding-your-activist-list-2-2/2025-12-04/
END:VEVENT
BEGIN:VEVENT
DTSTART;TZID=America/New_York:20260101T140000
DTEND;TZID=America/New_York:20260101T150000
DTSTAMP:20240111T150524
CREATED:20230615T134903Z
LAST-MODIFIED:20230906T145146Z
UID:10000529-1767276000-1767279600@actionnetwork.blog
SUMMARY:101 - Data\, Understanding Your Activist List
DESCRIPTION:  \n\n\n\nLearn how to set up your data in Action Network. We’ll cover gathering activist data\, uploading\, segmenting\, and downloading your list\, as well as how to keep your data organized as you grow.
URL:https://actionnetwork.blog/event/101-data-understanding-your-activist-list-2-2/2026-01-01/
END:VEVENT
BEGIN:VEVENT
DTSTART;TZID=America/New_York:20260205T140000
DTEND;TZID=America/New_York:20260205T150000
DTSTAMP:20240111T150524
CREATED:20230615T134903Z
LAST-MODIFIED:20230906T145146Z
UID:10000530-1770300000-1770303600@actionnetwork.blog
SUMMARY:101 - Data\, Understanding Your Activist List
DESCRIPTION:  \n\n\n\nLearn how to set up your data in Action Network. We’ll cover gathering activist data\, uploading\, segmenting\, and downloading your list\, as well as how to keep your data organized as you grow.
URL:https://actionnetwork.blog/event/101-data-understanding-your-activist-list-2-2/2026-02-05/
END:VEVENT
BEGIN:VEVENT
DTSTART;TZID=America/New_York:20260305T140000
DTEND;TZID=America/New_York:20260305T150000
DTSTAMP:20240111T150524
CREATED:20230615T134903Z
LAST-MODIFIED:20230906T145146Z
UID:10000531-1772719200-1772722800@actionnetwork.blog
SUMMARY:101 - Data\, Understanding Your Activist List
DESCRIPTION:  \n\n\n\nLearn how to set up your data in Action Network. We’ll cover gathering activist data\, uploading\, segmenting\, and downloading your list\, as well as how to keep your data organized as you grow.
URL:https://actionnetwork.blog/event/101-data-understanding-your-activist-list-2-2/2026-03-05/
END:VEVENT
BEGIN:VEVENT
DTSTART;TZID=America/New_York:20260402T140000
DTEND;TZID=America/New_York:20260402T150000
DTSTAMP:20240111T150524
CREATED:20230615T134903Z
LAST-MODIFIED:20230906T145146Z
UID:10000532-1775138400-1775142000@actionnetwork.blog
SUMMARY:101 - Data\, Understanding Your Activist List
DESCRIPTION:  \n\n\n\nLearn how to set up your data in Action Network. We’ll cover gathering activist data\, uploading\, segmenting\, and downloading your list\, as well as how to keep your data organized as you grow.
URL:https://actionnetwork.blog/event/101-data-understanding-your-activist-list-2-2/2026-04-02/
END:VEVENT
BEGIN:VEVENT
DTSTART;TZID=America/New_York:20260507T140000
DTEND;TZID=America/New_York:20260507T150000
DTSTAMP:20240111T150524
CREATED:20230615T134903Z
LAST-MODIFIED:20230906T145146Z
UID:10000533-1778162400-1778166000@actionnetwork.blog
SUMMARY:101 - Data\, Understanding Your Activist List
DESCRIPTION:  \n\n\n\nLearn how to set up your data in Action Network. We’ll cover gathering activist data\, uploading\, segmenting\, and downloading your list\, as well as how to keep your data organized as you grow.
URL:https://actionnetwork.blog/event/101-data-understanding-your-activist-list-2-2/2026-05-07/
END:VEVENT
BEGIN:VEVENT
DTSTART;TZID=America/New_York:20260604T140000
DTEND;TZID=America/New_York:20260604T150000
DTSTAMP:20240111T150524
CREATED:20230615T134903Z
LAST-MODIFIED:20230906T145146Z
UID:10000534-1780581600-1780585200@actionnetwork.blog
SUMMARY:101 - Data\, Understanding Your Activist List
DESCRIPTION:  \n\n\n\nLearn how to set up your data in Action Network. We’ll cover gathering activist data\, uploading\, segmenting\, and downloading your list\, as well as how to keep your data organized as you grow.
URL:https://actionnetwork.blog/event/101-data-understanding-your-activist-list-2-2/2026-06-04/
END:VEVENT
BEGIN:VEVENT
DTSTART;TZID=America/New_York:20260702T140000
DTEND;TZID=America/New_York:20260702T150000
DTSTAMP:20240111T150524
CREATED:20230615T134903Z
LAST-MODIFIED:20230906T145146Z
UID:10000535-1783000800-1783004400@actionnetwork.blog
SUMMARY:101 - Data\, Understanding Your Activist List
DESCRIPTION:  \n\n\n\nLearn how to set up your data in Action Network. We’ll cover gathering activist data\, uploading\, segmenting\, and downloading your list\, as well as how to keep your data organized as you grow.
URL:https://actionnetwork.blog/event/101-data-understanding-your-activist-list-2-2/2026-07-02/
END:VEVENT
END:VCALENDAR