BEGIN:VCALENDAR
VERSION:2.0
PRODID:-//Action Network Blog - ECPv6.2.9//NONSGML v1.0//EN
CALSCALE:GREGORIAN
METHOD:PUBLISH
X-WR-CALNAME:Action Network Blog
X-ORIGINAL-URL:https://actionnetwork.blog
X-WR-CALDESC:Events for Action Network Blog
REFRESH-INTERVAL;VALUE=DURATION:PT1H
X-Robots-Tag:noindex
X-PUBLISHED-TTL:PT1H
BEGIN:VTIMEZONE
TZID:America/New_York
BEGIN:DAYLIGHT
TZOFFSETFROM:-0500
TZOFFSETTO:-0400
TZNAME:EDT
DTSTART:20240310T070000
END:DAYLIGHT
BEGIN:STANDARD
TZOFFSETFROM:-0400
TZOFFSETTO:-0500
TZNAME:EST
DTSTART:20241103T060000
END:STANDARD
BEGIN:DAYLIGHT
TZOFFSETFROM:-0500
TZOFFSETTO:-0400
TZNAME:EDT
DTSTART:20250309T070000
END:DAYLIGHT
BEGIN:STANDARD
TZOFFSETFROM:-0400
TZOFFSETTO:-0500
TZNAME:EST
DTSTART:20251102T060000
END:STANDARD
BEGIN:DAYLIGHT
TZOFFSETFROM:-0500
TZOFFSETTO:-0400
TZNAME:EDT
DTSTART:20260308T070000
END:DAYLIGHT
BEGIN:STANDARD
TZOFFSETFROM:-0400
TZOFFSETTO:-0500
TZNAME:EST
DTSTART:20261101T060000
END:STANDARD
END:VTIMEZONE
BEGIN:VEVENT
DTSTART;TZID=America/New_York:20240118T150000
DTEND;TZID=America/New_York:20240118T160000
DTSTAMP:20240111T145727
CREATED:20230403T183828Z
LAST-MODIFIED:20230615T141654Z
UID:10000448-1705590000-1705593600@actionnetwork.blog
SUMMARY:AB 103 - Data Structures and Uploads
DESCRIPTION:Are you an Admin responsible for getting lists into Action Builder? Then this training is for you! Join us for a live training where we will cover data structures\, uploading lists\, and creating and managing fields and responses. From this training\, you can expect to learn how to: \n\nCreate a section and add fields and responses\nUtilize templates to create an upload file for entities\, info\, connections and shifts\nTroubleshoot common .CSV file issues on uploads\nManage\, edit\, and archive fields and responses\nAdd and manage entities and connections
URL:https://actionnetwork.blog/event/ab-103-data-structures-and-uploads/2024-01-18/
END:VEVENT
BEGIN:VEVENT
DTSTART;TZID=America/New_York:20240215T150000
DTEND;TZID=America/New_York:20240215T160000
DTSTAMP:20240111T145727
CREATED:20230403T183828Z
LAST-MODIFIED:20230615T141654Z
UID:10000449-1708009200-1708012800@actionnetwork.blog
SUMMARY:AB 103 - Data Structures and Uploads
DESCRIPTION:Are you an Admin responsible for getting lists into Action Builder? Then this training is for you! Join us for a live training where we will cover data structures\, uploading lists\, and creating and managing fields and responses. From this training\, you can expect to learn how to: \n\nCreate a section and add fields and responses\nUtilize templates to create an upload file for entities\, info\, connections and shifts\nTroubleshoot common .CSV file issues on uploads\nManage\, edit\, and archive fields and responses\nAdd and manage entities and connections
URL:https://actionnetwork.blog/event/ab-103-data-structures-and-uploads/2024-02-15/
END:VEVENT
BEGIN:VEVENT
DTSTART;TZID=America/New_York:20240321T150000
DTEND;TZID=America/New_York:20240321T160000
DTSTAMP:20240111T145727
CREATED:20230403T183828Z
LAST-MODIFIED:20230615T141654Z
UID:10000450-1711033200-1711036800@actionnetwork.blog
SUMMARY:AB 103 - Data Structures and Uploads
DESCRIPTION:Are you an Admin responsible for getting lists into Action Builder? Then this training is for you! Join us for a live training where we will cover data structures\, uploading lists\, and creating and managing fields and responses. From this training\, you can expect to learn how to: \n\nCreate a section and add fields and responses\nUtilize templates to create an upload file for entities\, info\, connections and shifts\nTroubleshoot common .CSV file issues on uploads\nManage\, edit\, and archive fields and responses\nAdd and manage entities and connections
URL:https://actionnetwork.blog/event/ab-103-data-structures-and-uploads/2024-03-21/
END:VEVENT
BEGIN:VEVENT
DTSTART;TZID=America/New_York:20240418T150000
DTEND;TZID=America/New_York:20240418T160000
DTSTAMP:20240111T145727
CREATED:20230403T183828Z
LAST-MODIFIED:20230615T141654Z
UID:10000451-1713452400-1713456000@actionnetwork.blog
SUMMARY:AB 103 - Data Structures and Uploads
DESCRIPTION:Are you an Admin responsible for getting lists into Action Builder? Then this training is for you! Join us for a live training where we will cover data structures\, uploading lists\, and creating and managing fields and responses. From this training\, you can expect to learn how to: \n\nCreate a section and add fields and responses\nUtilize templates to create an upload file for entities\, info\, connections and shifts\nTroubleshoot common .CSV file issues on uploads\nManage\, edit\, and archive fields and responses\nAdd and manage entities and connections
URL:https://actionnetwork.blog/event/ab-103-data-structures-and-uploads/2024-04-18/
END:VEVENT
BEGIN:VEVENT
DTSTART;TZID=America/New_York:20240516T150000
DTEND;TZID=America/New_York:20240516T160000
DTSTAMP:20240111T145727
CREATED:20230403T183828Z
LAST-MODIFIED:20230615T141654Z
UID:10000452-1715871600-1715875200@actionnetwork.blog
SUMMARY:AB 103 - Data Structures and Uploads
DESCRIPTION:Are you an Admin responsible for getting lists into Action Builder? Then this training is for you! Join us for a live training where we will cover data structures\, uploading lists\, and creating and managing fields and responses. From this training\, you can expect to learn how to: \n\nCreate a section and add fields and responses\nUtilize templates to create an upload file for entities\, info\, connections and shifts\nTroubleshoot common .CSV file issues on uploads\nManage\, edit\, and archive fields and responses\nAdd and manage entities and connections
URL:https://actionnetwork.blog/event/ab-103-data-structures-and-uploads/2024-05-16/
END:VEVENT
BEGIN:VEVENT
DTSTART;TZID=America/New_York:20240620T150000
DTEND;TZID=America/New_York:20240620T160000
DTSTAMP:20240111T145727
CREATED:20230403T183828Z
LAST-MODIFIED:20230615T141654Z
UID:10000453-1718895600-1718899200@actionnetwork.blog
SUMMARY:AB 103 - Data Structures and Uploads
DESCRIPTION:Are you an Admin responsible for getting lists into Action Builder? Then this training is for you! Join us for a live training where we will cover data structures\, uploading lists\, and creating and managing fields and responses. From this training\, you can expect to learn how to: \n\nCreate a section and add fields and responses\nUtilize templates to create an upload file for entities\, info\, connections and shifts\nTroubleshoot common .CSV file issues on uploads\nManage\, edit\, and archive fields and responses\nAdd and manage entities and connections
URL:https://actionnetwork.blog/event/ab-103-data-structures-and-uploads/2024-06-20/
END:VEVENT
BEGIN:VEVENT
DTSTART;TZID=America/New_York:20240718T150000
DTEND;TZID=America/New_York:20240718T160000
DTSTAMP:20240111T145727
CREATED:20230403T183828Z
LAST-MODIFIED:20230615T141654Z
UID:10000454-1721314800-1721318400@actionnetwork.blog
SUMMARY:AB 103 - Data Structures and Uploads
DESCRIPTION:Are you an Admin responsible for getting lists into Action Builder? Then this training is for you! Join us for a live training where we will cover data structures\, uploading lists\, and creating and managing fields and responses. From this training\, you can expect to learn how to: \n\nCreate a section and add fields and responses\nUtilize templates to create an upload file for entities\, info\, connections and shifts\nTroubleshoot common .CSV file issues on uploads\nManage\, edit\, and archive fields and responses\nAdd and manage entities and connections
URL:https://actionnetwork.blog/event/ab-103-data-structures-and-uploads/2024-07-18/
END:VEVENT
BEGIN:VEVENT
DTSTART;TZID=America/New_York:20240815T150000
DTEND;TZID=America/New_York:20240815T160000
DTSTAMP:20240111T145727
CREATED:20230403T183828Z
LAST-MODIFIED:20230615T141654Z
UID:10000455-1723734000-1723737600@actionnetwork.blog
SUMMARY:AB 103 - Data Structures and Uploads
DESCRIPTION:Are you an Admin responsible for getting lists into Action Builder? Then this training is for you! Join us for a live training where we will cover data structures\, uploading lists\, and creating and managing fields and responses. From this training\, you can expect to learn how to: \n\nCreate a section and add fields and responses\nUtilize templates to create an upload file for entities\, info\, connections and shifts\nTroubleshoot common .CSV file issues on uploads\nManage\, edit\, and archive fields and responses\nAdd and manage entities and connections
URL:https://actionnetwork.blog/event/ab-103-data-structures-and-uploads/2024-08-15/
END:VEVENT
BEGIN:VEVENT
DTSTART;TZID=America/New_York:20240919T150000
DTEND;TZID=America/New_York:20240919T160000
DTSTAMP:20240111T145727
CREATED:20230403T183828Z
LAST-MODIFIED:20230615T141654Z
UID:10000456-1726758000-1726761600@actionnetwork.blog
SUMMARY:AB 103 - Data Structures and Uploads
DESCRIPTION:Are you an Admin responsible for getting lists into Action Builder? Then this training is for you! Join us for a live training where we will cover data structures\, uploading lists\, and creating and managing fields and responses. From this training\, you can expect to learn how to: \n\nCreate a section and add fields and responses\nUtilize templates to create an upload file for entities\, info\, connections and shifts\nTroubleshoot common .CSV file issues on uploads\nManage\, edit\, and archive fields and responses\nAdd and manage entities and connections
URL:https://actionnetwork.blog/event/ab-103-data-structures-and-uploads/2024-09-19/
END:VEVENT
BEGIN:VEVENT
DTSTART;TZID=America/New_York:20241017T150000
DTEND;TZID=America/New_York:20241017T160000
DTSTAMP:20240111T145727
CREATED:20230403T183828Z
LAST-MODIFIED:20230615T141654Z
UID:10000457-1729177200-1729180800@actionnetwork.blog
SUMMARY:AB 103 - Data Structures and Uploads
DESCRIPTION:Are you an Admin responsible for getting lists into Action Builder? Then this training is for you! Join us for a live training where we will cover data structures\, uploading lists\, and creating and managing fields and responses. From this training\, you can expect to learn how to: \n\nCreate a section and add fields and responses\nUtilize templates to create an upload file for entities\, info\, connections and shifts\nTroubleshoot common .CSV file issues on uploads\nManage\, edit\, and archive fields and responses\nAdd and manage entities and connections
URL:https://actionnetwork.blog/event/ab-103-data-structures-and-uploads/2024-10-17/
END:VEVENT
BEGIN:VEVENT
DTSTART;TZID=America/New_York:20241121T150000
DTEND;TZID=America/New_York:20241121T160000
DTSTAMP:20240111T145727
CREATED:20230403T183828Z
LAST-MODIFIED:20230615T141654Z
UID:10000458-1732201200-1732204800@actionnetwork.blog
SUMMARY:AB 103 - Data Structures and Uploads
DESCRIPTION:Are you an Admin responsible for getting lists into Action Builder? Then this training is for you! Join us for a live training where we will cover data structures\, uploading lists\, and creating and managing fields and responses. From this training\, you can expect to learn how to: \n\nCreate a section and add fields and responses\nUtilize templates to create an upload file for entities\, info\, connections and shifts\nTroubleshoot common .CSV file issues on uploads\nManage\, edit\, and archive fields and responses\nAdd and manage entities and connections
URL:https://actionnetwork.blog/event/ab-103-data-structures-and-uploads/2024-11-21/
END:VEVENT
BEGIN:VEVENT
DTSTART;TZID=America/New_York:20241219T150000
DTEND;TZID=America/New_York:20241219T160000
DTSTAMP:20240111T145727
CREATED:20230403T183828Z
LAST-MODIFIED:20230615T141654Z
UID:10000459-1734620400-1734624000@actionnetwork.blog
SUMMARY:AB 103 - Data Structures and Uploads
DESCRIPTION:Are you an Admin responsible for getting lists into Action Builder? Then this training is for you! Join us for a live training where we will cover data structures\, uploading lists\, and creating and managing fields and responses. From this training\, you can expect to learn how to: \n\nCreate a section and add fields and responses\nUtilize templates to create an upload file for entities\, info\, connections and shifts\nTroubleshoot common .CSV file issues on uploads\nManage\, edit\, and archive fields and responses\nAdd and manage entities and connections
URL:https://actionnetwork.blog/event/ab-103-data-structures-and-uploads/2024-12-19/
END:VEVENT
BEGIN:VEVENT
DTSTART;TZID=America/New_York:20250116T150000
DTEND;TZID=America/New_York:20250116T160000
DTSTAMP:20240111T145727
CREATED:20230403T183828Z
LAST-MODIFIED:20230615T141654Z
UID:10000460-1737039600-1737043200@actionnetwork.blog
SUMMARY:AB 103 - Data Structures and Uploads
DESCRIPTION:Are you an Admin responsible for getting lists into Action Builder? Then this training is for you! Join us for a live training where we will cover data structures\, uploading lists\, and creating and managing fields and responses. From this training\, you can expect to learn how to: \n\nCreate a section and add fields and responses\nUtilize templates to create an upload file for entities\, info\, connections and shifts\nTroubleshoot common .CSV file issues on uploads\nManage\, edit\, and archive fields and responses\nAdd and manage entities and connections
URL:https://actionnetwork.blog/event/ab-103-data-structures-and-uploads/2025-01-16/
END:VEVENT
BEGIN:VEVENT
DTSTART;TZID=America/New_York:20250220T150000
DTEND;TZID=America/New_York:20250220T160000
DTSTAMP:20240111T145727
CREATED:20230403T183828Z
LAST-MODIFIED:20230615T141654Z
UID:10000461-1740063600-1740067200@actionnetwork.blog
SUMMARY:AB 103 - Data Structures and Uploads
DESCRIPTION:Are you an Admin responsible for getting lists into Action Builder? Then this training is for you! Join us for a live training where we will cover data structures\, uploading lists\, and creating and managing fields and responses. From this training\, you can expect to learn how to: \n\nCreate a section and add fields and responses\nUtilize templates to create an upload file for entities\, info\, connections and shifts\nTroubleshoot common .CSV file issues on uploads\nManage\, edit\, and archive fields and responses\nAdd and manage entities and connections
URL:https://actionnetwork.blog/event/ab-103-data-structures-and-uploads/2025-02-20/
END:VEVENT
BEGIN:VEVENT
DTSTART;TZID=America/New_York:20250320T150000
DTEND;TZID=America/New_York:20250320T160000
DTSTAMP:20240111T145727
CREATED:20230403T183828Z
LAST-MODIFIED:20230615T141654Z
UID:10000462-1742482800-1742486400@actionnetwork.blog
SUMMARY:AB 103 - Data Structures and Uploads
DESCRIPTION:Are you an Admin responsible for getting lists into Action Builder? Then this training is for you! Join us for a live training where we will cover data structures\, uploading lists\, and creating and managing fields and responses. From this training\, you can expect to learn how to: \n\nCreate a section and add fields and responses\nUtilize templates to create an upload file for entities\, info\, connections and shifts\nTroubleshoot common .CSV file issues on uploads\nManage\, edit\, and archive fields and responses\nAdd and manage entities and connections
URL:https://actionnetwork.blog/event/ab-103-data-structures-and-uploads/2025-03-20/
END:VEVENT
BEGIN:VEVENT
DTSTART;TZID=America/New_York:20250417T150000
DTEND;TZID=America/New_York:20250417T160000
DTSTAMP:20240111T145727
CREATED:20230403T183828Z
LAST-MODIFIED:20230615T141654Z
UID:10000463-1744902000-1744905600@actionnetwork.blog
SUMMARY:AB 103 - Data Structures and Uploads
DESCRIPTION:Are you an Admin responsible for getting lists into Action Builder? Then this training is for you! Join us for a live training where we will cover data structures\, uploading lists\, and creating and managing fields and responses. From this training\, you can expect to learn how to: \n\nCreate a section and add fields and responses\nUtilize templates to create an upload file for entities\, info\, connections and shifts\nTroubleshoot common .CSV file issues on uploads\nManage\, edit\, and archive fields and responses\nAdd and manage entities and connections
URL:https://actionnetwork.blog/event/ab-103-data-structures-and-uploads/2025-04-17/
END:VEVENT
BEGIN:VEVENT
DTSTART;TZID=America/New_York:20250515T150000
DTEND;TZID=America/New_York:20250515T160000
DTSTAMP:20240111T145727
CREATED:20230403T183828Z
LAST-MODIFIED:20230615T141654Z
UID:10000464-1747321200-1747324800@actionnetwork.blog
SUMMARY:AB 103 - Data Structures and Uploads
DESCRIPTION:Are you an Admin responsible for getting lists into Action Builder? Then this training is for you! Join us for a live training where we will cover data structures\, uploading lists\, and creating and managing fields and responses. From this training\, you can expect to learn how to: \n\nCreate a section and add fields and responses\nUtilize templates to create an upload file for entities\, info\, connections and shifts\nTroubleshoot common .CSV file issues on uploads\nManage\, edit\, and archive fields and responses\nAdd and manage entities and connections
URL:https://actionnetwork.blog/event/ab-103-data-structures-and-uploads/2025-05-15/
END:VEVENT
BEGIN:VEVENT
DTSTART;TZID=America/New_York:20250619T150000
DTEND;TZID=America/New_York:20250619T160000
DTSTAMP:20240111T145727
CREATED:20230403T183828Z
LAST-MODIFIED:20230615T141654Z
UID:10000465-1750345200-1750348800@actionnetwork.blog
SUMMARY:AB 103 - Data Structures and Uploads
DESCRIPTION:Are you an Admin responsible for getting lists into Action Builder? Then this training is for you! Join us for a live training where we will cover data structures\, uploading lists\, and creating and managing fields and responses. From this training\, you can expect to learn how to: \n\nCreate a section and add fields and responses\nUtilize templates to create an upload file for entities\, info\, connections and shifts\nTroubleshoot common .CSV file issues on uploads\nManage\, edit\, and archive fields and responses\nAdd and manage entities and connections
URL:https://actionnetwork.blog/event/ab-103-data-structures-and-uploads/2025-06-19/
END:VEVENT
BEGIN:VEVENT
DTSTART;TZID=America/New_York:20250717T150000
DTEND;TZID=America/New_York:20250717T160000
DTSTAMP:20240111T145727
CREATED:20230403T183828Z
LAST-MODIFIED:20230615T141654Z
UID:10000466-1752764400-1752768000@actionnetwork.blog
SUMMARY:AB 103 - Data Structures and Uploads
DESCRIPTION:Are you an Admin responsible for getting lists into Action Builder? Then this training is for you! Join us for a live training where we will cover data structures\, uploading lists\, and creating and managing fields and responses. From this training\, you can expect to learn how to: \n\nCreate a section and add fields and responses\nUtilize templates to create an upload file for entities\, info\, connections and shifts\nTroubleshoot common .CSV file issues on uploads\nManage\, edit\, and archive fields and responses\nAdd and manage entities and connections
URL:https://actionnetwork.blog/event/ab-103-data-structures-and-uploads/2025-07-17/
END:VEVENT
BEGIN:VEVENT
DTSTART;TZID=America/New_York:20250821T150000
DTEND;TZID=America/New_York:20250821T160000
DTSTAMP:20240111T145727
CREATED:20230403T183828Z
LAST-MODIFIED:20230615T141654Z
UID:10000467-1755788400-1755792000@actionnetwork.blog
SUMMARY:AB 103 - Data Structures and Uploads
DESCRIPTION:Are you an Admin responsible for getting lists into Action Builder? Then this training is for you! Join us for a live training where we will cover data structures\, uploading lists\, and creating and managing fields and responses. From this training\, you can expect to learn how to: \n\nCreate a section and add fields and responses\nUtilize templates to create an upload file for entities\, info\, connections and shifts\nTroubleshoot common .CSV file issues on uploads\nManage\, edit\, and archive fields and responses\nAdd and manage entities and connections
URL:https://actionnetwork.blog/event/ab-103-data-structures-and-uploads/2025-08-21/
END:VEVENT
BEGIN:VEVENT
DTSTART;TZID=America/New_York:20250918T150000
DTEND;TZID=America/New_York:20250918T160000
DTSTAMP:20240111T145727
CREATED:20230403T183828Z
LAST-MODIFIED:20230615T141654Z
UID:10000468-1758207600-1758211200@actionnetwork.blog
SUMMARY:AB 103 - Data Structures and Uploads
DESCRIPTION:Are you an Admin responsible for getting lists into Action Builder? Then this training is for you! Join us for a live training where we will cover data structures\, uploading lists\, and creating and managing fields and responses. From this training\, you can expect to learn how to: \n\nCreate a section and add fields and responses\nUtilize templates to create an upload file for entities\, info\, connections and shifts\nTroubleshoot common .CSV file issues on uploads\nManage\, edit\, and archive fields and responses\nAdd and manage entities and connections
URL:https://actionnetwork.blog/event/ab-103-data-structures-and-uploads/2025-09-18/
END:VEVENT
BEGIN:VEVENT
DTSTART;TZID=America/New_York:20251016T150000
DTEND;TZID=America/New_York:20251016T160000
DTSTAMP:20240111T145727
CREATED:20230403T183828Z
LAST-MODIFIED:20230615T141654Z
UID:10000469-1760626800-1760630400@actionnetwork.blog
SUMMARY:AB 103 - Data Structures and Uploads
DESCRIPTION:Are you an Admin responsible for getting lists into Action Builder? Then this training is for you! Join us for a live training where we will cover data structures\, uploading lists\, and creating and managing fields and responses. From this training\, you can expect to learn how to: \n\nCreate a section and add fields and responses\nUtilize templates to create an upload file for entities\, info\, connections and shifts\nTroubleshoot common .CSV file issues on uploads\nManage\, edit\, and archive fields and responses\nAdd and manage entities and connections
URL:https://actionnetwork.blog/event/ab-103-data-structures-and-uploads/2025-10-16/
END:VEVENT
BEGIN:VEVENT
DTSTART;TZID=America/New_York:20251120T150000
DTEND;TZID=America/New_York:20251120T160000
DTSTAMP:20240111T145727
CREATED:20230403T183828Z
LAST-MODIFIED:20230615T141654Z
UID:10000470-1763650800-1763654400@actionnetwork.blog
SUMMARY:AB 103 - Data Structures and Uploads
DESCRIPTION:Are you an Admin responsible for getting lists into Action Builder? Then this training is for you! Join us for a live training where we will cover data structures\, uploading lists\, and creating and managing fields and responses. From this training\, you can expect to learn how to: \n\nCreate a section and add fields and responses\nUtilize templates to create an upload file for entities\, info\, connections and shifts\nTroubleshoot common .CSV file issues on uploads\nManage\, edit\, and archive fields and responses\nAdd and manage entities and connections
URL:https://actionnetwork.blog/event/ab-103-data-structures-and-uploads/2025-11-20/
END:VEVENT
BEGIN:VEVENT
DTSTART;TZID=America/New_York:20251218T150000
DTEND;TZID=America/New_York:20251218T160000
DTSTAMP:20240111T145727
CREATED:20230403T183828Z
LAST-MODIFIED:20230615T141654Z
UID:10000471-1766070000-1766073600@actionnetwork.blog
SUMMARY:AB 103 - Data Structures and Uploads
DESCRIPTION:Are you an Admin responsible for getting lists into Action Builder? Then this training is for you! Join us for a live training where we will cover data structures\, uploading lists\, and creating and managing fields and responses. From this training\, you can expect to learn how to: \n\nCreate a section and add fields and responses\nUtilize templates to create an upload file for entities\, info\, connections and shifts\nTroubleshoot common .CSV file issues on uploads\nManage\, edit\, and archive fields and responses\nAdd and manage entities and connections
URL:https://actionnetwork.blog/event/ab-103-data-structures-and-uploads/2025-12-18/
END:VEVENT
BEGIN:VEVENT
DTSTART;TZID=America/New_York:20260115T150000
DTEND;TZID=America/New_York:20260115T160000
DTSTAMP:20240111T145727
CREATED:20230403T183828Z
LAST-MODIFIED:20230615T141654Z
UID:10000472-1768489200-1768492800@actionnetwork.blog
SUMMARY:AB 103 - Data Structures and Uploads
DESCRIPTION:Are you an Admin responsible for getting lists into Action Builder? Then this training is for you! Join us for a live training where we will cover data structures\, uploading lists\, and creating and managing fields and responses. From this training\, you can expect to learn how to: \n\nCreate a section and add fields and responses\nUtilize templates to create an upload file for entities\, info\, connections and shifts\nTroubleshoot common .CSV file issues on uploads\nManage\, edit\, and archive fields and responses\nAdd and manage entities and connections
URL:https://actionnetwork.blog/event/ab-103-data-structures-and-uploads/2026-01-15/
END:VEVENT
BEGIN:VEVENT
DTSTART;TZID=America/New_York:20260219T150000
DTEND;TZID=America/New_York:20260219T160000
DTSTAMP:20240111T145727
CREATED:20230403T183828Z
LAST-MODIFIED:20230615T141654Z
UID:10000473-1771513200-1771516800@actionnetwork.blog
SUMMARY:AB 103 - Data Structures and Uploads
DESCRIPTION:Are you an Admin responsible for getting lists into Action Builder? Then this training is for you! Join us for a live training where we will cover data structures\, uploading lists\, and creating and managing fields and responses. From this training\, you can expect to learn how to: \n\nCreate a section and add fields and responses\nUtilize templates to create an upload file for entities\, info\, connections and shifts\nTroubleshoot common .CSV file issues on uploads\nManage\, edit\, and archive fields and responses\nAdd and manage entities and connections
URL:https://actionnetwork.blog/event/ab-103-data-structures-and-uploads/2026-02-19/
END:VEVENT
BEGIN:VEVENT
DTSTART;TZID=America/New_York:20260319T150000
DTEND;TZID=America/New_York:20260319T160000
DTSTAMP:20240111T145727
CREATED:20230403T183828Z
LAST-MODIFIED:20230615T141654Z
UID:10000474-1773932400-1773936000@actionnetwork.blog
SUMMARY:AB 103 - Data Structures and Uploads
DESCRIPTION:Are you an Admin responsible for getting lists into Action Builder? Then this training is for you! Join us for a live training where we will cover data structures\, uploading lists\, and creating and managing fields and responses. From this training\, you can expect to learn how to: \n\nCreate a section and add fields and responses\nUtilize templates to create an upload file for entities\, info\, connections and shifts\nTroubleshoot common .CSV file issues on uploads\nManage\, edit\, and archive fields and responses\nAdd and manage entities and connections
URL:https://actionnetwork.blog/event/ab-103-data-structures-and-uploads/2026-03-19/
END:VEVENT
BEGIN:VEVENT
DTSTART;TZID=America/New_York:20260416T150000
DTEND;TZID=America/New_York:20260416T160000
DTSTAMP:20240111T145727
CREATED:20230403T183828Z
LAST-MODIFIED:20230615T141654Z
UID:10000475-1776351600-1776355200@actionnetwork.blog
SUMMARY:AB 103 - Data Structures and Uploads
DESCRIPTION:Are you an Admin responsible for getting lists into Action Builder? Then this training is for you! Join us for a live training where we will cover data structures\, uploading lists\, and creating and managing fields and responses. From this training\, you can expect to learn how to: \n\nCreate a section and add fields and responses\nUtilize templates to create an upload file for entities\, info\, connections and shifts\nTroubleshoot common .CSV file issues on uploads\nManage\, edit\, and archive fields and responses\nAdd and manage entities and connections
URL:https://actionnetwork.blog/event/ab-103-data-structures-and-uploads/2026-04-16/
END:VEVENT
BEGIN:VEVENT
DTSTART;TZID=America/New_York:20260521T150000
DTEND;TZID=America/New_York:20260521T160000
DTSTAMP:20240111T145727
CREATED:20230403T183828Z
LAST-MODIFIED:20230615T141654Z
UID:10000476-1779375600-1779379200@actionnetwork.blog
SUMMARY:AB 103 - Data Structures and Uploads
DESCRIPTION:Are you an Admin responsible for getting lists into Action Builder? Then this training is for you! Join us for a live training where we will cover data structures\, uploading lists\, and creating and managing fields and responses. From this training\, you can expect to learn how to: \n\nCreate a section and add fields and responses\nUtilize templates to create an upload file for entities\, info\, connections and shifts\nTroubleshoot common .CSV file issues on uploads\nManage\, edit\, and archive fields and responses\nAdd and manage entities and connections
URL:https://actionnetwork.blog/event/ab-103-data-structures-and-uploads/2026-05-21/
END:VEVENT
BEGIN:VEVENT
DTSTART;TZID=America/New_York:20260618T150000
DTEND;TZID=America/New_York:20260618T160000
DTSTAMP:20240111T145727
CREATED:20230403T183828Z
LAST-MODIFIED:20230615T141654Z
UID:10000477-1781794800-1781798400@actionnetwork.blog
SUMMARY:AB 103 - Data Structures and Uploads
DESCRIPTION:Are you an Admin responsible for getting lists into Action Builder? Then this training is for you! Join us for a live training where we will cover data structures\, uploading lists\, and creating and managing fields and responses. From this training\, you can expect to learn how to: \n\nCreate a section and add fields and responses\nUtilize templates to create an upload file for entities\, info\, connections and shifts\nTroubleshoot common .CSV file issues on uploads\nManage\, edit\, and archive fields and responses\nAdd and manage entities and connections
URL:https://actionnetwork.blog/event/ab-103-data-structures-and-uploads/2026-06-18/
END:VEVENT
END:VCALENDAR