BEGIN:VCALENDAR
VERSION:2.0
PRODID:-//Action Network Blog - ECPv6.2.9//NONSGML v1.0//EN
CALSCALE:GREGORIAN
METHOD:PUBLISH
X-ORIGINAL-URL:https://actionnetwork.blog
X-WR-CALDESC:Events for Action Network Blog
REFRESH-INTERVAL;VALUE=DURATION:PT1H
X-Robots-Tag:noindex
X-PUBLISHED-TTL:PT1H
BEGIN:VTIMEZONE
TZID:America/New_York
BEGIN:DAYLIGHT
TZOFFSETFROM:-0500
TZOFFSETTO:-0400
TZNAME:EDT
DTSTART:20240310T070000
END:DAYLIGHT
BEGIN:STANDARD
TZOFFSETFROM:-0400
TZOFFSETTO:-0500
TZNAME:EST
DTSTART:20241103T060000
END:STANDARD
BEGIN:DAYLIGHT
TZOFFSETFROM:-0500
TZOFFSETTO:-0400
TZNAME:EDT
DTSTART:20250309T070000
END:DAYLIGHT
BEGIN:STANDARD
TZOFFSETFROM:-0400
TZOFFSETTO:-0500
TZNAME:EST
DTSTART:20251102T060000
END:STANDARD
BEGIN:DAYLIGHT
TZOFFSETFROM:-0500
TZOFFSETTO:-0400
TZNAME:EDT
DTSTART:20260308T070000
END:DAYLIGHT
BEGIN:STANDARD
TZOFFSETFROM:-0400
TZOFFSETTO:-0500
TZNAME:EST
DTSTART:20261101T060000
END:STANDARD
END:VTIMEZONE
BEGIN:VEVENT
DTSTART;TZID=America/New_York:20240201T150000
DTEND;TZID=America/New_York:20240201T160000
DTSTAMP:20240111T150635
CREATED:20230403T183236Z
LAST-MODIFIED:20230615T141402Z
UID:10000335-1706799600-1706803200@actionnetwork.blog
SUMMARY:AB 101 - Getting Started with Action Builder
DESCRIPTION:New to Action Builder? Then this training is where you start. Join us for a live training where we will explore the core elements of your new organizing tool. From this training\, you can expect to learn how to: \n\nAccept your user account invitation and login\nSave your instance of Action Builder to your phone’s home screen for 1-tap access\nReset a forgotten password\nCreate a new user account\nNavigate the interface and find help resources\nSet-up a new campaign
URL:https://actionnetwork.blog/event/ab-101-getting-started-with-action-builder/2024-02-01/
END:VEVENT
BEGIN:VEVENT
DTSTART;TZID=America/New_York:20240307T150000
DTEND;TZID=America/New_York:20240307T160000
DTSTAMP:20240111T150635
CREATED:20230403T183236Z
LAST-MODIFIED:20230615T141402Z
UID:10000336-1709823600-1709827200@actionnetwork.blog
SUMMARY:AB 101 - Getting Started with Action Builder
DESCRIPTION:New to Action Builder? Then this training is where you start. Join us for a live training where we will explore the core elements of your new organizing tool. From this training\, you can expect to learn how to: \n\nAccept your user account invitation and login\nSave your instance of Action Builder to your phone’s home screen for 1-tap access\nReset a forgotten password\nCreate a new user account\nNavigate the interface and find help resources\nSet-up a new campaign
URL:https://actionnetwork.blog/event/ab-101-getting-started-with-action-builder/2024-03-07/
END:VEVENT
BEGIN:VEVENT
DTSTART;TZID=America/New_York:20240404T150000
DTEND;TZID=America/New_York:20240404T160000
DTSTAMP:20240111T150635
CREATED:20230403T183236Z
LAST-MODIFIED:20230615T141402Z
UID:10000337-1712242800-1712246400@actionnetwork.blog
SUMMARY:AB 101 - Getting Started with Action Builder
DESCRIPTION:New to Action Builder? Then this training is where you start. Join us for a live training where we will explore the core elements of your new organizing tool. From this training\, you can expect to learn how to: \n\nAccept your user account invitation and login\nSave your instance of Action Builder to your phone’s home screen for 1-tap access\nReset a forgotten password\nCreate a new user account\nNavigate the interface and find help resources\nSet-up a new campaign
URL:https://actionnetwork.blog/event/ab-101-getting-started-with-action-builder/2024-04-04/
END:VEVENT
BEGIN:VEVENT
DTSTART;TZID=America/New_York:20240502T150000
DTEND;TZID=America/New_York:20240502T160000
DTSTAMP:20240111T150635
CREATED:20230403T183236Z
LAST-MODIFIED:20230615T141402Z
UID:10000338-1714662000-1714665600@actionnetwork.blog
SUMMARY:AB 101 - Getting Started with Action Builder
DESCRIPTION:New to Action Builder? Then this training is where you start. Join us for a live training where we will explore the core elements of your new organizing tool. From this training\, you can expect to learn how to: \n\nAccept your user account invitation and login\nSave your instance of Action Builder to your phone’s home screen for 1-tap access\nReset a forgotten password\nCreate a new user account\nNavigate the interface and find help resources\nSet-up a new campaign
URL:https://actionnetwork.blog/event/ab-101-getting-started-with-action-builder/2024-05-02/
END:VEVENT
BEGIN:VEVENT
DTSTART;TZID=America/New_York:20240606T150000
DTEND;TZID=America/New_York:20240606T160000
DTSTAMP:20240111T150635
CREATED:20230403T183236Z
LAST-MODIFIED:20230615T141402Z
UID:10000339-1717686000-1717689600@actionnetwork.blog
SUMMARY:AB 101 - Getting Started with Action Builder
DESCRIPTION:New to Action Builder? Then this training is where you start. Join us for a live training where we will explore the core elements of your new organizing tool. From this training\, you can expect to learn how to: \n\nAccept your user account invitation and login\nSave your instance of Action Builder to your phone’s home screen for 1-tap access\nReset a forgotten password\nCreate a new user account\nNavigate the interface and find help resources\nSet-up a new campaign
URL:https://actionnetwork.blog/event/ab-101-getting-started-with-action-builder/2024-06-06/
END:VEVENT
BEGIN:VEVENT
DTSTART;TZID=America/New_York:20240704T150000
DTEND;TZID=America/New_York:20240704T160000
DTSTAMP:20240111T150635
CREATED:20230403T183236Z
LAST-MODIFIED:20230615T141402Z
UID:10000340-1720105200-1720108800@actionnetwork.blog
SUMMARY:AB 101 - Getting Started with Action Builder
DESCRIPTION:New to Action Builder? Then this training is where you start. Join us for a live training where we will explore the core elements of your new organizing tool. From this training\, you can expect to learn how to: \n\nAccept your user account invitation and login\nSave your instance of Action Builder to your phone’s home screen for 1-tap access\nReset a forgotten password\nCreate a new user account\nNavigate the interface and find help resources\nSet-up a new campaign
URL:https://actionnetwork.blog/event/ab-101-getting-started-with-action-builder/2024-07-04/
END:VEVENT
BEGIN:VEVENT
DTSTART;TZID=America/New_York:20240801T150000
DTEND;TZID=America/New_York:20240801T160000
DTSTAMP:20240111T150635
CREATED:20230403T183236Z
LAST-MODIFIED:20230615T141402Z
UID:10000341-1722524400-1722528000@actionnetwork.blog
SUMMARY:AB 101 - Getting Started with Action Builder
DESCRIPTION:New to Action Builder? Then this training is where you start. Join us for a live training where we will explore the core elements of your new organizing tool. From this training\, you can expect to learn how to: \n\nAccept your user account invitation and login\nSave your instance of Action Builder to your phone’s home screen for 1-tap access\nReset a forgotten password\nCreate a new user account\nNavigate the interface and find help resources\nSet-up a new campaign
URL:https://actionnetwork.blog/event/ab-101-getting-started-with-action-builder/2024-08-01/
END:VEVENT
BEGIN:VEVENT
DTSTART;TZID=America/New_York:20240905T150000
DTEND;TZID=America/New_York:20240905T160000
DTSTAMP:20240111T150635
CREATED:20230403T183236Z
LAST-MODIFIED:20230615T141402Z
UID:10000342-1725548400-1725552000@actionnetwork.blog
SUMMARY:AB 101 - Getting Started with Action Builder
DESCRIPTION:New to Action Builder? Then this training is where you start. Join us for a live training where we will explore the core elements of your new organizing tool. From this training\, you can expect to learn how to: \n\nAccept your user account invitation and login\nSave your instance of Action Builder to your phone’s home screen for 1-tap access\nReset a forgotten password\nCreate a new user account\nNavigate the interface and find help resources\nSet-up a new campaign
URL:https://actionnetwork.blog/event/ab-101-getting-started-with-action-builder/2024-09-05/
END:VEVENT
BEGIN:VEVENT
DTSTART;TZID=America/New_York:20241003T150000
DTEND;TZID=America/New_York:20241003T160000
DTSTAMP:20240111T150635
CREATED:20230403T183236Z
LAST-MODIFIED:20230615T141402Z
UID:10000343-1727967600-1727971200@actionnetwork.blog
SUMMARY:AB 101 - Getting Started with Action Builder
DESCRIPTION:New to Action Builder? Then this training is where you start. Join us for a live training where we will explore the core elements of your new organizing tool. From this training\, you can expect to learn how to: \n\nAccept your user account invitation and login\nSave your instance of Action Builder to your phone’s home screen for 1-tap access\nReset a forgotten password\nCreate a new user account\nNavigate the interface and find help resources\nSet-up a new campaign
URL:https://actionnetwork.blog/event/ab-101-getting-started-with-action-builder/2024-10-03/
END:VEVENT
BEGIN:VEVENT
DTSTART;TZID=America/New_York:20241107T150000
DTEND;TZID=America/New_York:20241107T160000
DTSTAMP:20240111T150635
CREATED:20230403T183236Z
LAST-MODIFIED:20230615T141402Z
UID:10000344-1730991600-1730995200@actionnetwork.blog
SUMMARY:AB 101 - Getting Started with Action Builder
DESCRIPTION:New to Action Builder? Then this training is where you start. Join us for a live training where we will explore the core elements of your new organizing tool. From this training\, you can expect to learn how to: \n\nAccept your user account invitation and login\nSave your instance of Action Builder to your phone’s home screen for 1-tap access\nReset a forgotten password\nCreate a new user account\nNavigate the interface and find help resources\nSet-up a new campaign
URL:https://actionnetwork.blog/event/ab-101-getting-started-with-action-builder/2024-11-07/
END:VEVENT
BEGIN:VEVENT
DTSTART;TZID=America/New_York:20241205T150000
DTEND;TZID=America/New_York:20241205T160000
DTSTAMP:20240111T150635
CREATED:20230403T183236Z
LAST-MODIFIED:20230615T141402Z
UID:10000345-1733410800-1733414400@actionnetwork.blog
SUMMARY:AB 101 - Getting Started with Action Builder
DESCRIPTION:New to Action Builder? Then this training is where you start. Join us for a live training where we will explore the core elements of your new organizing tool. From this training\, you can expect to learn how to: \n\nAccept your user account invitation and login\nSave your instance of Action Builder to your phone’s home screen for 1-tap access\nReset a forgotten password\nCreate a new user account\nNavigate the interface and find help resources\nSet-up a new campaign
URL:https://actionnetwork.blog/event/ab-101-getting-started-with-action-builder/2024-12-05/
END:VEVENT
BEGIN:VEVENT
DTSTART;TZID=America/New_York:20250102T150000
DTEND;TZID=America/New_York:20250102T160000
DTSTAMP:20240111T150635
CREATED:20230403T183236Z
LAST-MODIFIED:20230615T141402Z
UID:10000346-1735830000-1735833600@actionnetwork.blog
SUMMARY:AB 101 - Getting Started with Action Builder
DESCRIPTION:New to Action Builder? Then this training is where you start. Join us for a live training where we will explore the core elements of your new organizing tool. From this training\, you can expect to learn how to: \n\nAccept your user account invitation and login\nSave your instance of Action Builder to your phone’s home screen for 1-tap access\nReset a forgotten password\nCreate a new user account\nNavigate the interface and find help resources\nSet-up a new campaign
URL:https://actionnetwork.blog/event/ab-101-getting-started-with-action-builder/2025-01-02/
END:VEVENT
BEGIN:VEVENT
DTSTART;TZID=America/New_York:20250206T150000
DTEND;TZID=America/New_York:20250206T160000
DTSTAMP:20240111T150635
CREATED:20230403T183236Z
LAST-MODIFIED:20230615T141402Z
UID:10000347-1738854000-1738857600@actionnetwork.blog
SUMMARY:AB 101 - Getting Started with Action Builder
DESCRIPTION:New to Action Builder? Then this training is where you start. Join us for a live training where we will explore the core elements of your new organizing tool. From this training\, you can expect to learn how to: \n\nAccept your user account invitation and login\nSave your instance of Action Builder to your phone’s home screen for 1-tap access\nReset a forgotten password\nCreate a new user account\nNavigate the interface and find help resources\nSet-up a new campaign
URL:https://actionnetwork.blog/event/ab-101-getting-started-with-action-builder/2025-02-06/
END:VEVENT
BEGIN:VEVENT
DTSTART;TZID=America/New_York:20250306T150000
DTEND;TZID=America/New_York:20250306T160000
DTSTAMP:20240111T150635
CREATED:20230403T183236Z
LAST-MODIFIED:20230615T141402Z
UID:10000348-1741273200-1741276800@actionnetwork.blog
SUMMARY:AB 101 - Getting Started with Action Builder
DESCRIPTION:New to Action Builder? Then this training is where you start. Join us for a live training where we will explore the core elements of your new organizing tool. From this training\, you can expect to learn how to: \n\nAccept your user account invitation and login\nSave your instance of Action Builder to your phone’s home screen for 1-tap access\nReset a forgotten password\nCreate a new user account\nNavigate the interface and find help resources\nSet-up a new campaign
URL:https://actionnetwork.blog/event/ab-101-getting-started-with-action-builder/2025-03-06/
END:VEVENT
BEGIN:VEVENT
DTSTART;TZID=America/New_York:20250403T150000
DTEND;TZID=America/New_York:20250403T160000
DTSTAMP:20240111T150635
CREATED:20230403T183236Z
LAST-MODIFIED:20230615T141402Z
UID:10000349-1743692400-1743696000@actionnetwork.blog
SUMMARY:AB 101 - Getting Started with Action Builder
DESCRIPTION:New to Action Builder? Then this training is where you start. Join us for a live training where we will explore the core elements of your new organizing tool. From this training\, you can expect to learn how to: \n\nAccept your user account invitation and login\nSave your instance of Action Builder to your phone’s home screen for 1-tap access\nReset a forgotten password\nCreate a new user account\nNavigate the interface and find help resources\nSet-up a new campaign
URL:https://actionnetwork.blog/event/ab-101-getting-started-with-action-builder/2025-04-03/
END:VEVENT
BEGIN:VEVENT
DTSTART;TZID=America/New_York:20250501T150000
DTEND;TZID=America/New_York:20250501T160000
DTSTAMP:20240111T150635
CREATED:20230403T183236Z
LAST-MODIFIED:20230615T141402Z
UID:10000350-1746111600-1746115200@actionnetwork.blog
SUMMARY:AB 101 - Getting Started with Action Builder
DESCRIPTION:New to Action Builder? Then this training is where you start. Join us for a live training where we will explore the core elements of your new organizing tool. From this training\, you can expect to learn how to: \n\nAccept your user account invitation and login\nSave your instance of Action Builder to your phone’s home screen for 1-tap access\nReset a forgotten password\nCreate a new user account\nNavigate the interface and find help resources\nSet-up a new campaign
URL:https://actionnetwork.blog/event/ab-101-getting-started-with-action-builder/2025-05-01/
END:VEVENT
BEGIN:VEVENT
DTSTART;TZID=America/New_York:20250605T150000
DTEND;TZID=America/New_York:20250605T160000
DTSTAMP:20240111T150635
CREATED:20230403T183236Z
LAST-MODIFIED:20230615T141402Z
UID:10000351-1749135600-1749139200@actionnetwork.blog
SUMMARY:AB 101 - Getting Started with Action Builder
DESCRIPTION:New to Action Builder? Then this training is where you start. Join us for a live training where we will explore the core elements of your new organizing tool. From this training\, you can expect to learn how to: \n\nAccept your user account invitation and login\nSave your instance of Action Builder to your phone’s home screen for 1-tap access\nReset a forgotten password\nCreate a new user account\nNavigate the interface and find help resources\nSet-up a new campaign
URL:https://actionnetwork.blog/event/ab-101-getting-started-with-action-builder/2025-06-05/
END:VEVENT
BEGIN:VEVENT
DTSTART;TZID=America/New_York:20250703T150000
DTEND;TZID=America/New_York:20250703T160000
DTSTAMP:20240111T150635
CREATED:20230403T183236Z
LAST-MODIFIED:20230615T141402Z
UID:10000352-1751554800-1751558400@actionnetwork.blog
SUMMARY:AB 101 - Getting Started with Action Builder
DESCRIPTION:New to Action Builder? Then this training is where you start. Join us for a live training where we will explore the core elements of your new organizing tool. From this training\, you can expect to learn how to: \n\nAccept your user account invitation and login\nSave your instance of Action Builder to your phone’s home screen for 1-tap access\nReset a forgotten password\nCreate a new user account\nNavigate the interface and find help resources\nSet-up a new campaign
URL:https://actionnetwork.blog/event/ab-101-getting-started-with-action-builder/2025-07-03/
END:VEVENT
BEGIN:VEVENT
DTSTART;TZID=America/New_York:20250807T150000
DTEND;TZID=America/New_York:20250807T160000
DTSTAMP:20240111T150635
CREATED:20230403T183236Z
LAST-MODIFIED:20230615T141402Z
UID:10000353-1754578800-1754582400@actionnetwork.blog
SUMMARY:AB 101 - Getting Started with Action Builder
DESCRIPTION:New to Action Builder? Then this training is where you start. Join us for a live training where we will explore the core elements of your new organizing tool. From this training\, you can expect to learn how to: \n\nAccept your user account invitation and login\nSave your instance of Action Builder to your phone’s home screen for 1-tap access\nReset a forgotten password\nCreate a new user account\nNavigate the interface and find help resources\nSet-up a new campaign
URL:https://actionnetwork.blog/event/ab-101-getting-started-with-action-builder/2025-08-07/
END:VEVENT
BEGIN:VEVENT
DTSTART;TZID=America/New_York:20250904T150000
DTEND;TZID=America/New_York:20250904T160000
DTSTAMP:20240111T150635
CREATED:20230403T183236Z
LAST-MODIFIED:20230615T141402Z
UID:10000354-1756998000-1757001600@actionnetwork.blog
SUMMARY:AB 101 - Getting Started with Action Builder
DESCRIPTION:New to Action Builder? Then this training is where you start. Join us for a live training where we will explore the core elements of your new organizing tool. From this training\, you can expect to learn how to: \n\nAccept your user account invitation and login\nSave your instance of Action Builder to your phone’s home screen for 1-tap access\nReset a forgotten password\nCreate a new user account\nNavigate the interface and find help resources\nSet-up a new campaign
URL:https://actionnetwork.blog/event/ab-101-getting-started-with-action-builder/2025-09-04/
END:VEVENT
BEGIN:VEVENT
DTSTART;TZID=America/New_York:20251002T150000
DTEND;TZID=America/New_York:20251002T160000
DTSTAMP:20240111T150635
CREATED:20230403T183236Z
LAST-MODIFIED:20230615T141402Z
UID:10000355-1759417200-1759420800@actionnetwork.blog
SUMMARY:AB 101 - Getting Started with Action Builder
DESCRIPTION:New to Action Builder? Then this training is where you start. Join us for a live training where we will explore the core elements of your new organizing tool. From this training\, you can expect to learn how to: \n\nAccept your user account invitation and login\nSave your instance of Action Builder to your phone’s home screen for 1-tap access\nReset a forgotten password\nCreate a new user account\nNavigate the interface and find help resources\nSet-up a new campaign
URL:https://actionnetwork.blog/event/ab-101-getting-started-with-action-builder/2025-10-02/
END:VEVENT
BEGIN:VEVENT
DTSTART;TZID=America/New_York:20251106T150000
DTEND;TZID=America/New_York:20251106T160000
DTSTAMP:20240111T150635
CREATED:20230403T183236Z
LAST-MODIFIED:20230615T141402Z
UID:10000356-1762441200-1762444800@actionnetwork.blog
SUMMARY:AB 101 - Getting Started with Action Builder
DESCRIPTION:New to Action Builder? Then this training is where you start. Join us for a live training where we will explore the core elements of your new organizing tool. From this training\, you can expect to learn how to: \n\nAccept your user account invitation and login\nSave your instance of Action Builder to your phone’s home screen for 1-tap access\nReset a forgotten password\nCreate a new user account\nNavigate the interface and find help resources\nSet-up a new campaign
URL:https://actionnetwork.blog/event/ab-101-getting-started-with-action-builder/2025-11-06/
END:VEVENT
BEGIN:VEVENT
DTSTART;TZID=America/New_York:20251204T150000
DTEND;TZID=America/New_York:20251204T160000
DTSTAMP:20240111T150635
CREATED:20230403T183236Z
LAST-MODIFIED:20230615T141402Z
UID:10000357-1764860400-1764864000@actionnetwork.blog
SUMMARY:AB 101 - Getting Started with Action Builder
DESCRIPTION:New to Action Builder? Then this training is where you start. Join us for a live training where we will explore the core elements of your new organizing tool. From this training\, you can expect to learn how to: \n\nAccept your user account invitation and login\nSave your instance of Action Builder to your phone’s home screen for 1-tap access\nReset a forgotten password\nCreate a new user account\nNavigate the interface and find help resources\nSet-up a new campaign
URL:https://actionnetwork.blog/event/ab-101-getting-started-with-action-builder/2025-12-04/
END:VEVENT
BEGIN:VEVENT
DTSTART;TZID=America/New_York:20260101T150000
DTEND;TZID=America/New_York:20260101T160000
DTSTAMP:20240111T150635
CREATED:20230403T183236Z
LAST-MODIFIED:20230615T141402Z
UID:10000358-1767279600-1767283200@actionnetwork.blog
SUMMARY:AB 101 - Getting Started with Action Builder
DESCRIPTION:New to Action Builder? Then this training is where you start. Join us for a live training where we will explore the core elements of your new organizing tool. From this training\, you can expect to learn how to: \n\nAccept your user account invitation and login\nSave your instance of Action Builder to your phone’s home screen for 1-tap access\nReset a forgotten password\nCreate a new user account\nNavigate the interface and find help resources\nSet-up a new campaign
URL:https://actionnetwork.blog/event/ab-101-getting-started-with-action-builder/2026-01-01/
END:VEVENT
BEGIN:VEVENT
DTSTART;TZID=America/New_York:20260205T150000
DTEND;TZID=America/New_York:20260205T160000
DTSTAMP:20240111T150635
CREATED:20230403T183236Z
LAST-MODIFIED:20230615T141402Z
UID:10000359-1770303600-1770307200@actionnetwork.blog
SUMMARY:AB 101 - Getting Started with Action Builder
DESCRIPTION:New to Action Builder? Then this training is where you start. Join us for a live training where we will explore the core elements of your new organizing tool. From this training\, you can expect to learn how to: \n\nAccept your user account invitation and login\nSave your instance of Action Builder to your phone’s home screen for 1-tap access\nReset a forgotten password\nCreate a new user account\nNavigate the interface and find help resources\nSet-up a new campaign
URL:https://actionnetwork.blog/event/ab-101-getting-started-with-action-builder/2026-02-05/
END:VEVENT
BEGIN:VEVENT
DTSTART;TZID=America/New_York:20260305T150000
DTEND;TZID=America/New_York:20260305T160000
DTSTAMP:20240111T150635
CREATED:20230403T183236Z
LAST-MODIFIED:20230615T141402Z
UID:10000360-1772722800-1772726400@actionnetwork.blog
SUMMARY:AB 101 - Getting Started with Action Builder
DESCRIPTION:New to Action Builder? Then this training is where you start. Join us for a live training where we will explore the core elements of your new organizing tool. From this training\, you can expect to learn how to: \n\nAccept your user account invitation and login\nSave your instance of Action Builder to your phone’s home screen for 1-tap access\nReset a forgotten password\nCreate a new user account\nNavigate the interface and find help resources\nSet-up a new campaign
URL:https://actionnetwork.blog/event/ab-101-getting-started-with-action-builder/2026-03-05/
END:VEVENT
BEGIN:VEVENT
DTSTART;TZID=America/New_York:20260402T150000
DTEND;TZID=America/New_York:20260402T160000
DTSTAMP:20240111T150635
CREATED:20230403T183236Z
LAST-MODIFIED:20230615T141402Z
UID:10000361-1775142000-1775145600@actionnetwork.blog
SUMMARY:AB 101 - Getting Started with Action Builder
DESCRIPTION:New to Action Builder? Then this training is where you start. Join us for a live training where we will explore the core elements of your new organizing tool. From this training\, you can expect to learn how to: \n\nAccept your user account invitation and login\nSave your instance of Action Builder to your phone’s home screen for 1-tap access\nReset a forgotten password\nCreate a new user account\nNavigate the interface and find help resources\nSet-up a new campaign
URL:https://actionnetwork.blog/event/ab-101-getting-started-with-action-builder/2026-04-02/
END:VEVENT
BEGIN:VEVENT
DTSTART;TZID=America/New_York:20260507T150000
DTEND;TZID=America/New_York:20260507T160000
DTSTAMP:20240111T150635
CREATED:20230403T183236Z
LAST-MODIFIED:20230615T141402Z
UID:10000362-1778166000-1778169600@actionnetwork.blog
SUMMARY:AB 101 - Getting Started with Action Builder
DESCRIPTION:New to Action Builder? Then this training is where you start. Join us for a live training where we will explore the core elements of your new organizing tool. From this training\, you can expect to learn how to: \n\nAccept your user account invitation and login\nSave your instance of Action Builder to your phone’s home screen for 1-tap access\nReset a forgotten password\nCreate a new user account\nNavigate the interface and find help resources\nSet-up a new campaign
URL:https://actionnetwork.blog/event/ab-101-getting-started-with-action-builder/2026-05-07/
END:VEVENT
BEGIN:VEVENT
DTSTART;TZID=America/New_York:20260604T150000
DTEND;TZID=America/New_York:20260604T160000
DTSTAMP:20240111T150635
CREATED:20230403T183236Z
LAST-MODIFIED:20230615T141402Z
UID:10000363-1780585200-1780588800@actionnetwork.blog
SUMMARY:AB 101 - Getting Started with Action Builder
DESCRIPTION:New to Action Builder? Then this training is where you start. Join us for a live training where we will explore the core elements of your new organizing tool. From this training\, you can expect to learn how to: \n\nAccept your user account invitation and login\nSave your instance of Action Builder to your phone’s home screen for 1-tap access\nReset a forgotten password\nCreate a new user account\nNavigate the interface and find help resources\nSet-up a new campaign
URL:https://actionnetwork.blog/event/ab-101-getting-started-with-action-builder/2026-06-04/
END:VEVENT
BEGIN:VEVENT
DTSTART;TZID=America/New_York:20260702T150000
DTEND;TZID=America/New_York:20260702T160000
DTSTAMP:20240111T150635
CREATED:20230403T183236Z
LAST-MODIFIED:20230615T141402Z
UID:10000364-1783004400-1783008000@actionnetwork.blog
SUMMARY:AB 101 - Getting Started with Action Builder
DESCRIPTION:New to Action Builder? Then this training is where you start. Join us for a live training where we will explore the core elements of your new organizing tool. From this training\, you can expect to learn how to: \n\nAccept your user account invitation and login\nSave your instance of Action Builder to your phone’s home screen for 1-tap access\nReset a forgotten password\nCreate a new user account\nNavigate the interface and find help resources\nSet-up a new campaign
URL:https://actionnetwork.blog/event/ab-101-getting-started-with-action-builder/2026-07-02/
END:VEVENT
END:VCALENDAR