BEGIN:VCALENDAR
VERSION:2.0
PRODID:-//Action Network Blog - ECPv6.15.20//NONSGML v1.0//EN
CALSCALE:GREGORIAN
METHOD:PUBLISH
X-WR-CALNAME:Action Network Blog
X-ORIGINAL-URL:https://actionnetwork.blog
X-WR-CALDESC:Events for Action Network Blog
REFRESH-INTERVAL;VALUE=DURATION:PT1H
X-Robots-Tag:noindex
X-PUBLISHED-TTL:PT1H
BEGIN:VTIMEZONE
TZID:America/New_York
BEGIN:DAYLIGHT
TZOFFSETFROM:-0500
TZOFFSETTO:-0400
TZNAME:EDT
DTSTART:20250309T070000
END:DAYLIGHT
BEGIN:STANDARD
TZOFFSETFROM:-0400
TZOFFSETTO:-0500
TZNAME:EST
DTSTART:20251102T060000
END:STANDARD
BEGIN:DAYLIGHT
TZOFFSETFROM:-0500
TZOFFSETTO:-0400
TZNAME:EDT
DTSTART:20260308T070000
END:DAYLIGHT
BEGIN:STANDARD
TZOFFSETFROM:-0400
TZOFFSETTO:-0500
TZNAME:EST
DTSTART:20261101T060000
END:STANDARD
BEGIN:DAYLIGHT
TZOFFSETFROM:-0500
TZOFFSETTO:-0400
TZNAME:EDT
DTSTART:20270314T070000
END:DAYLIGHT
BEGIN:STANDARD
TZOFFSETFROM:-0400
TZOFFSETTO:-0500
TZNAME:EST
DTSTART:20271107T060000
END:STANDARD
BEGIN:DAYLIGHT
TZOFFSETFROM:-0500
TZOFFSETTO:-0400
TZNAME:EDT
DTSTART:20280312T070000
END:DAYLIGHT
BEGIN:STANDARD
TZOFFSETFROM:-0400
TZOFFSETTO:-0500
TZNAME:EST
DTSTART:20281105T060000
END:STANDARD
BEGIN:DAYLIGHT
TZOFFSETFROM:-0500
TZOFFSETTO:-0400
TZNAME:EDT
DTSTART:20290311T070000
END:DAYLIGHT
BEGIN:STANDARD
TZOFFSETFROM:-0400
TZOFFSETTO:-0500
TZNAME:EST
DTSTART:20291104T060000
END:STANDARD
END:VTIMEZONE
BEGIN:VEVENT
DTSTART;TZID=America/New_York:20260507T150000
DTEND;TZID=America/New_York:20260507T160000
DTSTAMP:20260419T185858
CREATED:20230403T183236Z
LAST-MODIFIED:20250902T194050Z
UID:10000362-1778166000-1778169600@actionnetwork.blog
SUMMARY:AB 101 - Getting Started with Action Builder
DESCRIPTION:New to Action Builder? Then this training is where you start. Join us for a live training where we will explore the core elements of your new organizing tool. From this training\, you can expect to learn how to: \n\nAccept your user account invitation and login\nSave your instance of Action Builder to your phone’s home screen for 1-tap access\nReset a forgotten password\nCreate a new user account\nNavigate the interface and find help resources\nSet-up a new campaign
URL:https://actionnetwork.blog/event/ab-101-getting-started-with-action-builder/2026-05-07/
END:VEVENT
BEGIN:VEVENT
DTSTART;TZID=America/New_York:20260604T150000
DTEND;TZID=America/New_York:20260604T160000
DTSTAMP:20260419T185858
CREATED:20230403T183236Z
LAST-MODIFIED:20250902T194050Z
UID:10000363-1780585200-1780588800@actionnetwork.blog
SUMMARY:AB 101 - Getting Started with Action Builder
DESCRIPTION:New to Action Builder? Then this training is where you start. Join us for a live training where we will explore the core elements of your new organizing tool. From this training\, you can expect to learn how to: \n\nAccept your user account invitation and login\nSave your instance of Action Builder to your phone’s home screen for 1-tap access\nReset a forgotten password\nCreate a new user account\nNavigate the interface and find help resources\nSet-up a new campaign
URL:https://actionnetwork.blog/event/ab-101-getting-started-with-action-builder/2026-06-04/
END:VEVENT
BEGIN:VEVENT
DTSTART;TZID=America/New_York:20260702T150000
DTEND;TZID=America/New_York:20260702T160000
DTSTAMP:20260419T185858
CREATED:20230403T183236Z
LAST-MODIFIED:20250902T194050Z
UID:10000364-1783004400-1783008000@actionnetwork.blog
SUMMARY:AB 101 - Getting Started with Action Builder
DESCRIPTION:New to Action Builder? Then this training is where you start. Join us for a live training where we will explore the core elements of your new organizing tool. From this training\, you can expect to learn how to: \n\nAccept your user account invitation and login\nSave your instance of Action Builder to your phone’s home screen for 1-tap access\nReset a forgotten password\nCreate a new user account\nNavigate the interface and find help resources\nSet-up a new campaign
URL:https://actionnetwork.blog/event/ab-101-getting-started-with-action-builder/2026-07-02/
END:VEVENT
BEGIN:VEVENT
DTSTART;TZID=America/New_York:20260806T150000
DTEND;TZID=America/New_York:20260806T160000
DTSTAMP:20260419T185858
CREATED:20230403T183236Z
LAST-MODIFIED:20250902T194050Z
UID:10000365-1786028400-1786032000@actionnetwork.blog
SUMMARY:AB 101 - Getting Started with Action Builder
DESCRIPTION:New to Action Builder? Then this training is where you start. Join us for a live training where we will explore the core elements of your new organizing tool. From this training\, you can expect to learn how to: \n\nAccept your user account invitation and login\nSave your instance of Action Builder to your phone’s home screen for 1-tap access\nReset a forgotten password\nCreate a new user account\nNavigate the interface and find help resources\nSet-up a new campaign
URL:https://actionnetwork.blog/event/ab-101-getting-started-with-action-builder/2026-08-06/
END:VEVENT
BEGIN:VEVENT
DTSTART;TZID=America/New_York:20260903T150000
DTEND;TZID=America/New_York:20260903T160000
DTSTAMP:20260419T185858
CREATED:20230403T183236Z
LAST-MODIFIED:20250902T194050Z
UID:10000366-1788447600-1788451200@actionnetwork.blog
SUMMARY:AB 101 - Getting Started with Action Builder
DESCRIPTION:New to Action Builder? Then this training is where you start. Join us for a live training where we will explore the core elements of your new organizing tool. From this training\, you can expect to learn how to: \n\nAccept your user account invitation and login\nSave your instance of Action Builder to your phone’s home screen for 1-tap access\nReset a forgotten password\nCreate a new user account\nNavigate the interface and find help resources\nSet-up a new campaign
URL:https://actionnetwork.blog/event/ab-101-getting-started-with-action-builder/2026-09-03/
END:VEVENT
BEGIN:VEVENT
DTSTART;TZID=America/New_York:20261001T150000
DTEND;TZID=America/New_York:20261001T160000
DTSTAMP:20260419T185858
CREATED:20230403T183236Z
LAST-MODIFIED:20250902T194050Z
UID:10000367-1790866800-1790870400@actionnetwork.blog
SUMMARY:AB 101 - Getting Started with Action Builder
DESCRIPTION:New to Action Builder? Then this training is where you start. Join us for a live training where we will explore the core elements of your new organizing tool. From this training\, you can expect to learn how to: \n\nAccept your user account invitation and login\nSave your instance of Action Builder to your phone’s home screen for 1-tap access\nReset a forgotten password\nCreate a new user account\nNavigate the interface and find help resources\nSet-up a new campaign
URL:https://actionnetwork.blog/event/ab-101-getting-started-with-action-builder/2026-10-01/
END:VEVENT
BEGIN:VEVENT
DTSTART;TZID=America/New_York:20261105T150000
DTEND;TZID=America/New_York:20261105T160000
DTSTAMP:20260419T185858
CREATED:20230403T183236Z
LAST-MODIFIED:20250902T194050Z
UID:10000368-1793890800-1793894400@actionnetwork.blog
SUMMARY:AB 101 - Getting Started with Action Builder
DESCRIPTION:New to Action Builder? Then this training is where you start. Join us for a live training where we will explore the core elements of your new organizing tool. From this training\, you can expect to learn how to: \n\nAccept your user account invitation and login\nSave your instance of Action Builder to your phone’s home screen for 1-tap access\nReset a forgotten password\nCreate a new user account\nNavigate the interface and find help resources\nSet-up a new campaign
URL:https://actionnetwork.blog/event/ab-101-getting-started-with-action-builder/2026-11-05/
END:VEVENT
BEGIN:VEVENT
DTSTART;TZID=America/New_York:20261203T150000
DTEND;TZID=America/New_York:20261203T160000
DTSTAMP:20260419T185858
CREATED:20230403T183236Z
LAST-MODIFIED:20250902T194050Z
UID:10000369-1796310000-1796313600@actionnetwork.blog
SUMMARY:AB 101 - Getting Started with Action Builder
DESCRIPTION:New to Action Builder? Then this training is where you start. Join us for a live training where we will explore the core elements of your new organizing tool. From this training\, you can expect to learn how to: \n\nAccept your user account invitation and login\nSave your instance of Action Builder to your phone’s home screen for 1-tap access\nReset a forgotten password\nCreate a new user account\nNavigate the interface and find help resources\nSet-up a new campaign
URL:https://actionnetwork.blog/event/ab-101-getting-started-with-action-builder/2026-12-03/
END:VEVENT
BEGIN:VEVENT
DTSTART;TZID=America/New_York:20270107T150000
DTEND;TZID=America/New_York:20270107T160000
DTSTAMP:20260419T185858
CREATED:20230403T183236Z
LAST-MODIFIED:20250902T194050Z
UID:10000370-1799334000-1799337600@actionnetwork.blog
SUMMARY:AB 101 - Getting Started with Action Builder
DESCRIPTION:New to Action Builder? Then this training is where you start. Join us for a live training where we will explore the core elements of your new organizing tool. From this training\, you can expect to learn how to: \n\nAccept your user account invitation and login\nSave your instance of Action Builder to your phone’s home screen for 1-tap access\nReset a forgotten password\nCreate a new user account\nNavigate the interface and find help resources\nSet-up a new campaign
URL:https://actionnetwork.blog/event/ab-101-getting-started-with-action-builder/2027-01-07/
END:VEVENT
BEGIN:VEVENT
DTSTART;TZID=America/New_York:20270204T150000
DTEND;TZID=America/New_York:20270204T160000
DTSTAMP:20260419T185858
CREATED:20230403T183236Z
LAST-MODIFIED:20250902T194050Z
UID:10000371-1801753200-1801756800@actionnetwork.blog
SUMMARY:AB 101 - Getting Started with Action Builder
DESCRIPTION:New to Action Builder? Then this training is where you start. Join us for a live training where we will explore the core elements of your new organizing tool. From this training\, you can expect to learn how to: \n\nAccept your user account invitation and login\nSave your instance of Action Builder to your phone’s home screen for 1-tap access\nReset a forgotten password\nCreate a new user account\nNavigate the interface and find help resources\nSet-up a new campaign
URL:https://actionnetwork.blog/event/ab-101-getting-started-with-action-builder/2027-02-04/
END:VEVENT
BEGIN:VEVENT
DTSTART;TZID=America/New_York:20270304T150000
DTEND;TZID=America/New_York:20270304T160000
DTSTAMP:20260419T185858
CREATED:20230403T183236Z
LAST-MODIFIED:20250902T194050Z
UID:10000372-1804172400-1804176000@actionnetwork.blog
SUMMARY:AB 101 - Getting Started with Action Builder
DESCRIPTION:New to Action Builder? Then this training is where you start. Join us for a live training where we will explore the core elements of your new organizing tool. From this training\, you can expect to learn how to: \n\nAccept your user account invitation and login\nSave your instance of Action Builder to your phone’s home screen for 1-tap access\nReset a forgotten password\nCreate a new user account\nNavigate the interface and find help resources\nSet-up a new campaign
URL:https://actionnetwork.blog/event/ab-101-getting-started-with-action-builder/2027-03-04/
END:VEVENT
BEGIN:VEVENT
DTSTART;TZID=America/New_York:20270401T150000
DTEND;TZID=America/New_York:20270401T160000
DTSTAMP:20260419T185858
CREATED:20230403T183236Z
LAST-MODIFIED:20250902T194050Z
UID:10000373-1806591600-1806595200@actionnetwork.blog
SUMMARY:AB 101 - Getting Started with Action Builder
DESCRIPTION:New to Action Builder? Then this training is where you start. Join us for a live training where we will explore the core elements of your new organizing tool. From this training\, you can expect to learn how to: \n\nAccept your user account invitation and login\nSave your instance of Action Builder to your phone’s home screen for 1-tap access\nReset a forgotten password\nCreate a new user account\nNavigate the interface and find help resources\nSet-up a new campaign
URL:https://actionnetwork.blog/event/ab-101-getting-started-with-action-builder/2027-04-01/
END:VEVENT
BEGIN:VEVENT
DTSTART;TZID=America/New_York:20270506T150000
DTEND;TZID=America/New_York:20270506T160000
DTSTAMP:20260419T185858
CREATED:20230403T183236Z
LAST-MODIFIED:20250902T194050Z
UID:10000374-1809615600-1809619200@actionnetwork.blog
SUMMARY:AB 101 - Getting Started with Action Builder
DESCRIPTION:New to Action Builder? Then this training is where you start. Join us for a live training where we will explore the core elements of your new organizing tool. From this training\, you can expect to learn how to: \n\nAccept your user account invitation and login\nSave your instance of Action Builder to your phone’s home screen for 1-tap access\nReset a forgotten password\nCreate a new user account\nNavigate the interface and find help resources\nSet-up a new campaign
URL:https://actionnetwork.blog/event/ab-101-getting-started-with-action-builder/2027-05-06/
END:VEVENT
BEGIN:VEVENT
DTSTART;TZID=America/New_York:20270603T150000
DTEND;TZID=America/New_York:20270603T160000
DTSTAMP:20260419T185858
CREATED:20230403T183236Z
LAST-MODIFIED:20250902T194050Z
UID:10000375-1812034800-1812038400@actionnetwork.blog
SUMMARY:AB 101 - Getting Started with Action Builder
DESCRIPTION:New to Action Builder? Then this training is where you start. Join us for a live training where we will explore the core elements of your new organizing tool. From this training\, you can expect to learn how to: \n\nAccept your user account invitation and login\nSave your instance of Action Builder to your phone’s home screen for 1-tap access\nReset a forgotten password\nCreate a new user account\nNavigate the interface and find help resources\nSet-up a new campaign
URL:https://actionnetwork.blog/event/ab-101-getting-started-with-action-builder/2027-06-03/
END:VEVENT
BEGIN:VEVENT
DTSTART;TZID=America/New_York:20270701T150000
DTEND;TZID=America/New_York:20270701T160000
DTSTAMP:20260419T185858
CREATED:20230403T183236Z
LAST-MODIFIED:20250902T194050Z
UID:10000376-1814454000-1814457600@actionnetwork.blog
SUMMARY:AB 101 - Getting Started with Action Builder
DESCRIPTION:New to Action Builder? Then this training is where you start. Join us for a live training where we will explore the core elements of your new organizing tool. From this training\, you can expect to learn how to: \n\nAccept your user account invitation and login\nSave your instance of Action Builder to your phone’s home screen for 1-tap access\nReset a forgotten password\nCreate a new user account\nNavigate the interface and find help resources\nSet-up a new campaign
URL:https://actionnetwork.blog/event/ab-101-getting-started-with-action-builder/2027-07-01/
END:VEVENT
BEGIN:VEVENT
DTSTART;TZID=America/New_York:20270805T150000
DTEND;TZID=America/New_York:20270805T160000
DTSTAMP:20260419T185858
CREATED:20230403T183236Z
LAST-MODIFIED:20250902T194050Z
UID:10000377-1817478000-1817481600@actionnetwork.blog
SUMMARY:AB 101 - Getting Started with Action Builder
DESCRIPTION:New to Action Builder? Then this training is where you start. Join us for a live training where we will explore the core elements of your new organizing tool. From this training\, you can expect to learn how to: \n\nAccept your user account invitation and login\nSave your instance of Action Builder to your phone’s home screen for 1-tap access\nReset a forgotten password\nCreate a new user account\nNavigate the interface and find help resources\nSet-up a new campaign
URL:https://actionnetwork.blog/event/ab-101-getting-started-with-action-builder/2027-08-05/
END:VEVENT
BEGIN:VEVENT
DTSTART;TZID=America/New_York:20270902T150000
DTEND;TZID=America/New_York:20270902T160000
DTSTAMP:20260419T185858
CREATED:20230403T183236Z
LAST-MODIFIED:20250902T194050Z
UID:10000378-1819897200-1819900800@actionnetwork.blog
SUMMARY:AB 101 - Getting Started with Action Builder
DESCRIPTION:New to Action Builder? Then this training is where you start. Join us for a live training where we will explore the core elements of your new organizing tool. From this training\, you can expect to learn how to: \n\nAccept your user account invitation and login\nSave your instance of Action Builder to your phone’s home screen for 1-tap access\nReset a forgotten password\nCreate a new user account\nNavigate the interface and find help resources\nSet-up a new campaign
URL:https://actionnetwork.blog/event/ab-101-getting-started-with-action-builder/2027-09-02/
END:VEVENT
BEGIN:VEVENT
DTSTART;TZID=America/New_York:20271007T150000
DTEND;TZID=America/New_York:20271007T160000
DTSTAMP:20260419T185858
CREATED:20230403T183236Z
LAST-MODIFIED:20250902T194050Z
UID:10000379-1822921200-1822924800@actionnetwork.blog
SUMMARY:AB 101 - Getting Started with Action Builder
DESCRIPTION:New to Action Builder? Then this training is where you start. Join us for a live training where we will explore the core elements of your new organizing tool. From this training\, you can expect to learn how to: \n\nAccept your user account invitation and login\nSave your instance of Action Builder to your phone’s home screen for 1-tap access\nReset a forgotten password\nCreate a new user account\nNavigate the interface and find help resources\nSet-up a new campaign
URL:https://actionnetwork.blog/event/ab-101-getting-started-with-action-builder/2027-10-07/
END:VEVENT
BEGIN:VEVENT
DTSTART;TZID=America/New_York:20271104T150000
DTEND;TZID=America/New_York:20271104T160000
DTSTAMP:20260419T185858
CREATED:20230403T183236Z
LAST-MODIFIED:20250902T194050Z
UID:10000380-1825340400-1825344000@actionnetwork.blog
SUMMARY:AB 101 - Getting Started with Action Builder
DESCRIPTION:New to Action Builder? Then this training is where you start. Join us for a live training where we will explore the core elements of your new organizing tool. From this training\, you can expect to learn how to: \n\nAccept your user account invitation and login\nSave your instance of Action Builder to your phone’s home screen for 1-tap access\nReset a forgotten password\nCreate a new user account\nNavigate the interface and find help resources\nSet-up a new campaign
URL:https://actionnetwork.blog/event/ab-101-getting-started-with-action-builder/2027-11-04/
END:VEVENT
BEGIN:VEVENT
DTSTART;TZID=America/New_York:20271202T150000
DTEND;TZID=America/New_York:20271202T160000
DTSTAMP:20260419T185858
CREATED:20230403T183236Z
LAST-MODIFIED:20250902T194050Z
UID:10000381-1827759600-1827763200@actionnetwork.blog
SUMMARY:AB 101 - Getting Started with Action Builder
DESCRIPTION:New to Action Builder? Then this training is where you start. Join us for a live training where we will explore the core elements of your new organizing tool. From this training\, you can expect to learn how to: \n\nAccept your user account invitation and login\nSave your instance of Action Builder to your phone’s home screen for 1-tap access\nReset a forgotten password\nCreate a new user account\nNavigate the interface and find help resources\nSet-up a new campaign
URL:https://actionnetwork.blog/event/ab-101-getting-started-with-action-builder/2027-12-02/
END:VEVENT
BEGIN:VEVENT
DTSTART;TZID=America/New_York:20280106T150000
DTEND;TZID=America/New_York:20280106T160000
DTSTAMP:20260419T185858
CREATED:20230403T183236Z
LAST-MODIFIED:20250902T194050Z
UID:10000382-1830783600-1830787200@actionnetwork.blog
SUMMARY:AB 101 - Getting Started with Action Builder
DESCRIPTION:New to Action Builder? Then this training is where you start. Join us for a live training where we will explore the core elements of your new organizing tool. From this training\, you can expect to learn how to: \n\nAccept your user account invitation and login\nSave your instance of Action Builder to your phone’s home screen for 1-tap access\nReset a forgotten password\nCreate a new user account\nNavigate the interface and find help resources\nSet-up a new campaign
URL:https://actionnetwork.blog/event/ab-101-getting-started-with-action-builder/2028-01-06/
END:VEVENT
BEGIN:VEVENT
DTSTART;TZID=America/New_York:20280203T150000
DTEND;TZID=America/New_York:20280203T160000
DTSTAMP:20260419T185858
CREATED:20230403T183236Z
LAST-MODIFIED:20250902T194050Z
UID:10000383-1833202800-1833206400@actionnetwork.blog
SUMMARY:AB 101 - Getting Started with Action Builder
DESCRIPTION:New to Action Builder? Then this training is where you start. Join us for a live training where we will explore the core elements of your new organizing tool. From this training\, you can expect to learn how to: \n\nAccept your user account invitation and login\nSave your instance of Action Builder to your phone’s home screen for 1-tap access\nReset a forgotten password\nCreate a new user account\nNavigate the interface and find help resources\nSet-up a new campaign
URL:https://actionnetwork.blog/event/ab-101-getting-started-with-action-builder/2028-02-03/
END:VEVENT
BEGIN:VEVENT
DTSTART;TZID=America/New_York:20280302T150000
DTEND;TZID=America/New_York:20280302T160000
DTSTAMP:20260419T185858
CREATED:20230403T183236Z
LAST-MODIFIED:20250902T194050Z
UID:10000384-1835622000-1835625600@actionnetwork.blog
SUMMARY:AB 101 - Getting Started with Action Builder
DESCRIPTION:New to Action Builder? Then this training is where you start. Join us for a live training where we will explore the core elements of your new organizing tool. From this training\, you can expect to learn how to: \n\nAccept your user account invitation and login\nSave your instance of Action Builder to your phone’s home screen for 1-tap access\nReset a forgotten password\nCreate a new user account\nNavigate the interface and find help resources\nSet-up a new campaign
URL:https://actionnetwork.blog/event/ab-101-getting-started-with-action-builder/2028-03-02/
END:VEVENT
BEGIN:VEVENT
DTSTART;TZID=America/New_York:20280406T150000
DTEND;TZID=America/New_York:20280406T160000
DTSTAMP:20260419T185858
CREATED:20230403T183236Z
LAST-MODIFIED:20250902T194050Z
UID:10000385-1838646000-1838649600@actionnetwork.blog
SUMMARY:AB 101 - Getting Started with Action Builder
DESCRIPTION:New to Action Builder? Then this training is where you start. Join us for a live training where we will explore the core elements of your new organizing tool. From this training\, you can expect to learn how to: \n\nAccept your user account invitation and login\nSave your instance of Action Builder to your phone’s home screen for 1-tap access\nReset a forgotten password\nCreate a new user account\nNavigate the interface and find help resources\nSet-up a new campaign
URL:https://actionnetwork.blog/event/ab-101-getting-started-with-action-builder/2028-04-06/
END:VEVENT
BEGIN:VEVENT
DTSTART;TZID=America/New_York:20280504T150000
DTEND;TZID=America/New_York:20280504T160000
DTSTAMP:20260419T185858
CREATED:20230403T183236Z
LAST-MODIFIED:20250902T194050Z
UID:10000386-1841065200-1841068800@actionnetwork.blog
SUMMARY:AB 101 - Getting Started with Action Builder
DESCRIPTION:New to Action Builder? Then this training is where you start. Join us for a live training where we will explore the core elements of your new organizing tool. From this training\, you can expect to learn how to: \n\nAccept your user account invitation and login\nSave your instance of Action Builder to your phone’s home screen for 1-tap access\nReset a forgotten password\nCreate a new user account\nNavigate the interface and find help resources\nSet-up a new campaign
URL:https://actionnetwork.blog/event/ab-101-getting-started-with-action-builder/2028-05-04/
END:VEVENT
BEGIN:VEVENT
DTSTART;TZID=America/New_York:20280601T150000
DTEND;TZID=America/New_York:20280601T160000
DTSTAMP:20260419T185858
CREATED:20230403T183236Z
LAST-MODIFIED:20250902T194050Z
UID:10000387-1843484400-1843488000@actionnetwork.blog
SUMMARY:AB 101 - Getting Started with Action Builder
DESCRIPTION:New to Action Builder? Then this training is where you start. Join us for a live training where we will explore the core elements of your new organizing tool. From this training\, you can expect to learn how to: \n\nAccept your user account invitation and login\nSave your instance of Action Builder to your phone’s home screen for 1-tap access\nReset a forgotten password\nCreate a new user account\nNavigate the interface and find help resources\nSet-up a new campaign
URL:https://actionnetwork.blog/event/ab-101-getting-started-with-action-builder/2028-06-01/
END:VEVENT
BEGIN:VEVENT
DTSTART;TZID=America/New_York:20280706T150000
DTEND;TZID=America/New_York:20280706T160000
DTSTAMP:20260419T185858
CREATED:20230403T183236Z
LAST-MODIFIED:20250902T194050Z
UID:10000783-1846508400-1846512000@actionnetwork.blog
SUMMARY:AB 101 - Getting Started with Action Builder
DESCRIPTION:New to Action Builder? Then this training is where you start. Join us for a live training where we will explore the core elements of your new organizing tool. From this training\, you can expect to learn how to: \n\nAccept your user account invitation and login\nSave your instance of Action Builder to your phone’s home screen for 1-tap access\nReset a forgotten password\nCreate a new user account\nNavigate the interface and find help resources\nSet-up a new campaign
URL:https://actionnetwork.blog/event/ab-101-getting-started-with-action-builder/2028-07-06/
END:VEVENT
BEGIN:VEVENT
DTSTART;TZID=America/New_York:20280803T150000
DTEND;TZID=America/New_York:20280803T160000
DTSTAMP:20260419T185859
CREATED:20230403T183236Z
LAST-MODIFIED:20250902T194050Z
UID:10000784-1848927600-1848931200@actionnetwork.blog
SUMMARY:AB 101 - Getting Started with Action Builder
DESCRIPTION:New to Action Builder? Then this training is where you start. Join us for a live training where we will explore the core elements of your new organizing tool. From this training\, you can expect to learn how to: \n\nAccept your user account invitation and login\nSave your instance of Action Builder to your phone’s home screen for 1-tap access\nReset a forgotten password\nCreate a new user account\nNavigate the interface and find help resources\nSet-up a new campaign
URL:https://actionnetwork.blog/event/ab-101-getting-started-with-action-builder/2028-08-03/
END:VEVENT
BEGIN:VEVENT
DTSTART;TZID=America/New_York:20280907T150000
DTEND;TZID=America/New_York:20280907T160000
DTSTAMP:20260419T185859
CREATED:20230403T183236Z
LAST-MODIFIED:20250902T194050Z
UID:10000785-1851951600-1851955200@actionnetwork.blog
SUMMARY:AB 101 - Getting Started with Action Builder
DESCRIPTION:New to Action Builder? Then this training is where you start. Join us for a live training where we will explore the core elements of your new organizing tool. From this training\, you can expect to learn how to: \n\nAccept your user account invitation and login\nSave your instance of Action Builder to your phone’s home screen for 1-tap access\nReset a forgotten password\nCreate a new user account\nNavigate the interface and find help resources\nSet-up a new campaign
URL:https://actionnetwork.blog/event/ab-101-getting-started-with-action-builder/2028-09-07/
END:VEVENT
BEGIN:VEVENT
DTSTART;TZID=America/New_York:20281005T150000
DTEND;TZID=America/New_York:20281005T160000
DTSTAMP:20260419T185859
CREATED:20230403T183236Z
LAST-MODIFIED:20250902T194050Z
UID:10000786-1854370800-1854374400@actionnetwork.blog
SUMMARY:AB 101 - Getting Started with Action Builder
DESCRIPTION:New to Action Builder? Then this training is where you start. Join us for a live training where we will explore the core elements of your new organizing tool. From this training\, you can expect to learn how to: \n\nAccept your user account invitation and login\nSave your instance of Action Builder to your phone’s home screen for 1-tap access\nReset a forgotten password\nCreate a new user account\nNavigate the interface and find help resources\nSet-up a new campaign
URL:https://actionnetwork.blog/event/ab-101-getting-started-with-action-builder/2028-10-05/
END:VEVENT
END:VCALENDAR