BEGIN:VCALENDAR
VERSION:2.0
PRODID:-//Action Network Blog - ECPv6.15.20//NONSGML v1.0//EN
CALSCALE:GREGORIAN
METHOD:PUBLISH
X-WR-CALNAME:Action Network Blog
X-ORIGINAL-URL:https://actionnetwork.blog
X-WR-CALDESC:Events for Action Network Blog
REFRESH-INTERVAL;VALUE=DURATION:PT1H
X-Robots-Tag:noindex
X-PUBLISHED-TTL:PT1H
BEGIN:VTIMEZONE
TZID:America/New_York
BEGIN:DAYLIGHT
TZOFFSETFROM:-0500
TZOFFSETTO:-0400
TZNAME:EDT
DTSTART:20270314T070000
END:DAYLIGHT
BEGIN:STANDARD
TZOFFSETFROM:-0400
TZOFFSETTO:-0500
TZNAME:EST
DTSTART:20271107T060000
END:STANDARD
BEGIN:DAYLIGHT
TZOFFSETFROM:-0500
TZOFFSETTO:-0400
TZNAME:EDT
DTSTART:20280312T070000
END:DAYLIGHT
BEGIN:STANDARD
TZOFFSETFROM:-0400
TZOFFSETTO:-0500
TZNAME:EST
DTSTART:20281105T060000
END:STANDARD
BEGIN:DAYLIGHT
TZOFFSETFROM:-0500
TZOFFSETTO:-0400
TZNAME:EDT
DTSTART:20290311T070000
END:DAYLIGHT
BEGIN:STANDARD
TZOFFSETFROM:-0400
TZOFFSETTO:-0500
TZNAME:EST
DTSTART:20291104T060000
END:STANDARD
END:VTIMEZONE
BEGIN:VEVENT
DTSTART;TZID=America/New_York:20281205T140000
DTEND;TZID=America/New_York:20281205T150000
DTSTAMP:20260420T034012
CREATED:20260409T171840Z
LAST-MODIFIED:20260409T171937Z
UID:10000978-1859637600-1859641200@actionnetwork.blog
SUMMARY:Action Network Demo
DESCRIPTION: \n\n\n\nWant to see how Action Network can help power your team? Join us for a quick but comprehensive online walkthrough of the technology. You’ll be able to ask questions throughout the demo.
URL:https://actionnetwork.blog/event/action-network-demo/2028-12-05/
END:VEVENT
BEGIN:VEVENT
DTSTART;TZID=America/New_York:20281205T150000
DTEND;TZID=America/New_York:20281205T160000
DTSTAMP:20260420T034012
CREATED:20260409T172431Z
LAST-MODIFIED:20260409T172431Z
UID:10001239-1859641200-1859644800@actionnetwork.blog
SUMMARY:Action Builder Demo
DESCRIPTION: \n\n\n\nAttend a guided walk-through and discover the core features that make Action Builder an essential companion tool for organizers. \nLearn more about how Action Builder is designed for organizers on the go\, giving you needed information at your fingertips to grow power and win real change.
URL:https://actionnetwork.blog/event/action-builder-demo/2028-12-05/
END:VEVENT
BEGIN:VEVENT
DTSTART;TZID=America/New_York:20281206T140000
DTEND;TZID=America/New_York:20281206T150000
DTSTAMP:20260420T034012
CREATED:20260409T172903Z
LAST-MODIFIED:20260409T172935Z
UID:10001393-1859724000-1859727600@actionnetwork.blog
SUMMARY:Mobile Messaging Demo
DESCRIPTION:  \n\n\n\nNow mass mobile messaging is as easy as sending email! \n\nIntegrated: All your mobilization tools & data in one place\nIntuitive: Like the Action Network tools you already know\nList Building: Activists can sign up by texting in a keyword\nAdvanced Features: Segmentation\, automation\, & testing\nAccessible: A price point organizations of all sizes will love
URL:https://actionnetwork.blog/event/mobile-messaging-demo/2028-12-06/
END:VEVENT
BEGIN:VEVENT
DTSTART;TZID=America/New_York:20281207T140000
DTEND;TZID=America/New_York:20281207T150000
DTSTAMP:20260420T034012
CREATED:20230615T134903Z
LAST-MODIFIED:20250902T194313Z
UID:10000767-1859810400-1859814000@actionnetwork.blog
SUMMARY:101 - Data\, Understanding Your Activist List
DESCRIPTION:  \n\n\n\nLearn how to set up your data in Action Network. We’ll cover gathering activist data\, uploading\, segmenting\, and downloading your list\, as well as how to keep your data organized as you grow.
URL:https://actionnetwork.blog/event/101-data-understanding-your-activist-list-2-2/2028-12-07/
END:VEVENT
BEGIN:VEVENT
DTSTART;TZID=America/New_York:20281207T150000
DTEND;TZID=America/New_York:20281207T160000
DTSTAMP:20260420T034012
CREATED:20230403T183236Z
LAST-MODIFIED:20250902T194050Z
UID:10000788-1859814000-1859817600@actionnetwork.blog
SUMMARY:AB 101 - Getting Started with Action Builder
DESCRIPTION:New to Action Builder? Then this training is where you start. Join us for a live training where we will explore the core elements of your new organizing tool. From this training\, you can expect to learn how to: \n\nAccept your user account invitation and login\nSave your instance of Action Builder to your phone’s home screen for 1-tap access\nReset a forgotten password\nCreate a new user account\nNavigate the interface and find help resources\nSet-up a new campaign
URL:https://actionnetwork.blog/event/ab-101-getting-started-with-action-builder/2028-12-07/
END:VEVENT
BEGIN:VEVENT
DTSTART;TZID=America/New_York:20281212T140000
DTEND;TZID=America/New_York:20281212T150000
DTSTAMP:20260420T034012
CREATED:20260409T171840Z
LAST-MODIFIED:20260409T171937Z
UID:10000979-1860242400-1860246000@actionnetwork.blog
SUMMARY:Action Network Demo
DESCRIPTION: \n\n\n\nWant to see how Action Network can help power your team? Join us for a quick but comprehensive online walkthrough of the technology. You’ll be able to ask questions throughout the demo.
URL:https://actionnetwork.blog/event/action-network-demo/2028-12-12/
END:VEVENT
BEGIN:VEVENT
DTSTART;TZID=America/New_York:20281212T150000
DTEND;TZID=America/New_York:20281212T160000
DTSTAMP:20260420T034012
CREATED:20260409T172431Z
LAST-MODIFIED:20260409T172431Z
UID:10001240-1860246000-1860249600@actionnetwork.blog
SUMMARY:Action Builder Demo
DESCRIPTION: \n\n\n\nAttend a guided walk-through and discover the core features that make Action Builder an essential companion tool for organizers. \nLearn more about how Action Builder is designed for organizers on the go\, giving you needed information at your fingertips to grow power and win real change.
URL:https://actionnetwork.blog/event/action-builder-demo/2028-12-12/
END:VEVENT
BEGIN:VEVENT
DTSTART;TZID=America/New_York:20281219T140000
DTEND;TZID=America/New_York:20281219T150000
DTSTAMP:20260420T034012
CREATED:20260409T171840Z
LAST-MODIFIED:20260409T171937Z
UID:10000980-1860847200-1860850800@actionnetwork.blog
SUMMARY:Action Network Demo
DESCRIPTION: \n\n\n\nWant to see how Action Network can help power your team? Join us for a quick but comprehensive online walkthrough of the technology. You’ll be able to ask questions throughout the demo.
URL:https://actionnetwork.blog/event/action-network-demo/2028-12-19/
END:VEVENT
BEGIN:VEVENT
DTSTART;TZID=America/New_York:20281219T150000
DTEND;TZID=America/New_York:20281219T160000
DTSTAMP:20260420T034012
CREATED:20260409T172431Z
LAST-MODIFIED:20260409T172431Z
UID:10001241-1860850800-1860854400@actionnetwork.blog
SUMMARY:Action Builder Demo
DESCRIPTION: \n\n\n\nAttend a guided walk-through and discover the core features that make Action Builder an essential companion tool for organizers. \nLearn more about how Action Builder is designed for organizers on the go\, giving you needed information at your fingertips to grow power and win real change.
URL:https://actionnetwork.blog/event/action-builder-demo/2028-12-19/
END:VEVENT
BEGIN:VEVENT
DTSTART;TZID=America/New_York:20281221T140000
DTEND;TZID=America/New_York:20281221T150000
DTSTAMP:20260420T034012
CREATED:20220805T160600Z
LAST-MODIFIED:20240514T153816Z
UID:10000772-1861020000-1861023600@actionnetwork.blog
SUMMARY:103 - Email
DESCRIPTION:Learn how to write\, test\, and target your emails in this 1 hour training. We’ll cover the basics as well as some advanced topics\, including conditional content\, design\, and queries.
URL:https://actionnetwork.blog/event/103-email/2028-12-21/
END:VEVENT
BEGIN:VEVENT
DTSTART;TZID=America/New_York:20281226T140000
DTEND;TZID=America/New_York:20281226T150000
DTSTAMP:20260420T034012
CREATED:20260409T171840Z
LAST-MODIFIED:20260409T171937Z
UID:10000981-1861452000-1861455600@actionnetwork.blog
SUMMARY:Action Network Demo
DESCRIPTION: \n\n\n\nWant to see how Action Network can help power your team? Join us for a quick but comprehensive online walkthrough of the technology. You’ll be able to ask questions throughout the demo.
URL:https://actionnetwork.blog/event/action-network-demo/2028-12-26/
END:VEVENT
BEGIN:VEVENT
DTSTART;TZID=America/New_York:20281226T150000
DTEND;TZID=America/New_York:20281226T160000
DTSTAMP:20260420T034012
CREATED:20260409T172431Z
LAST-MODIFIED:20260409T172431Z
UID:10001242-1861455600-1861459200@actionnetwork.blog
SUMMARY:Action Builder Demo
DESCRIPTION: \n\n\n\nAttend a guided walk-through and discover the core features that make Action Builder an essential companion tool for organizers. \nLearn more about how Action Builder is designed for organizers on the go\, giving you needed information at your fingertips to grow power and win real change.
URL:https://actionnetwork.blog/event/action-builder-demo/2028-12-26/
END:VEVENT
END:VCALENDAR