BEGIN:VCALENDAR
VERSION:2.0
PRODID:-//Action Network Blog - ECPv6.15.20//NONSGML v1.0//EN
CALSCALE:GREGORIAN
METHOD:PUBLISH
X-WR-CALNAME:Action Network Blog
X-ORIGINAL-URL:https://actionnetwork.blog
X-WR-CALDESC:Events for Action Network Blog
REFRESH-INTERVAL;VALUE=DURATION:PT1H
X-Robots-Tag:noindex
X-PUBLISHED-TTL:PT1H
BEGIN:VTIMEZONE
TZID:America/New_York
BEGIN:DAYLIGHT
TZOFFSETFROM:-0500
TZOFFSETTO:-0400
TZNAME:EDT
DTSTART:20270314T070000
END:DAYLIGHT
BEGIN:STANDARD
TZOFFSETFROM:-0400
TZOFFSETTO:-0500
TZNAME:EST
DTSTART:20271107T060000
END:STANDARD
BEGIN:DAYLIGHT
TZOFFSETFROM:-0500
TZOFFSETTO:-0400
TZNAME:EDT
DTSTART:20280312T070000
END:DAYLIGHT
BEGIN:STANDARD
TZOFFSETFROM:-0400
TZOFFSETTO:-0500
TZNAME:EST
DTSTART:20281105T060000
END:STANDARD
BEGIN:DAYLIGHT
TZOFFSETFROM:-0500
TZOFFSETTO:-0400
TZNAME:EDT
DTSTART:20290311T070000
END:DAYLIGHT
BEGIN:STANDARD
TZOFFSETFROM:-0400
TZOFFSETTO:-0500
TZNAME:EST
DTSTART:20291104T060000
END:STANDARD
END:VTIMEZONE
BEGIN:VEVENT
DTSTART;TZID=America/New_York:20280601T140000
DTEND;TZID=America/New_York:20280601T150000
DTSTAMP:20260419T191044
CREATED:20230615T134903Z
LAST-MODIFIED:20250902T194313Z
UID:10000558-1843480800-1843484400@actionnetwork.blog
SUMMARY:101 - Data\, Understanding Your Activist List
DESCRIPTION:  \n\n\n\nLearn how to set up your data in Action Network. We’ll cover gathering activist data\, uploading\, segmenting\, and downloading your list\, as well as how to keep your data organized as you grow.
URL:https://actionnetwork.blog/event/101-data-understanding-your-activist-list-2-2/2028-06-01/
END:VEVENT
BEGIN:VEVENT
DTSTART;TZID=America/New_York:20280601T150000
DTEND;TZID=America/New_York:20280601T160000
DTSTAMP:20260419T191044
CREATED:20230403T183236Z
LAST-MODIFIED:20250902T194050Z
UID:10000387-1843484400-1843488000@actionnetwork.blog
SUMMARY:AB 101 - Getting Started with Action Builder
DESCRIPTION:New to Action Builder? Then this training is where you start. Join us for a live training where we will explore the core elements of your new organizing tool. From this training\, you can expect to learn how to: \n\nAccept your user account invitation and login\nSave your instance of Action Builder to your phone’s home screen for 1-tap access\nReset a forgotten password\nCreate a new user account\nNavigate the interface and find help resources\nSet-up a new campaign
URL:https://actionnetwork.blog/event/ab-101-getting-started-with-action-builder/2028-06-01/
END:VEVENT
BEGIN:VEVENT
DTSTART;TZID=America/New_York:20280606T140000
DTEND;TZID=America/New_York:20280606T150000
DTSTAMP:20260419T191044
CREATED:20260409T171840Z
LAST-MODIFIED:20260409T171937Z
UID:10000952-1843912800-1843916400@actionnetwork.blog
SUMMARY:Action Network Demo
DESCRIPTION: \n\n\n\nWant to see how Action Network can help power your team? Join us for a quick but comprehensive online walkthrough of the technology. You’ll be able to ask questions throughout the demo.
URL:https://actionnetwork.blog/event/action-network-demo/2028-06-06/
END:VEVENT
BEGIN:VEVENT
DTSTART;TZID=America/New_York:20280606T150000
DTEND;TZID=America/New_York:20280606T160000
DTSTAMP:20260419T191044
CREATED:20260409T172431Z
LAST-MODIFIED:20260409T172431Z
UID:10001213-1843916400-1843920000@actionnetwork.blog
SUMMARY:Action Builder Demo
DESCRIPTION: \n\n\n\nAttend a guided walk-through and discover the core features that make Action Builder an essential companion tool for organizers. \nLearn more about how Action Builder is designed for organizers on the go\, giving you needed information at your fingertips to grow power and win real change.
URL:https://actionnetwork.blog/event/action-builder-demo/2028-06-06/
END:VEVENT
BEGIN:VEVENT
DTSTART;TZID=America/New_York:20280607T140000
DTEND;TZID=America/New_York:20280607T150000
DTSTAMP:20260419T191044
CREATED:20260409T172903Z
LAST-MODIFIED:20260409T172935Z
UID:10001387-1843999200-1844002800@actionnetwork.blog
SUMMARY:Mobile Messaging Demo
DESCRIPTION:  \n\n\n\nNow mass mobile messaging is as easy as sending email! \n\nIntegrated: All your mobilization tools & data in one place\nIntuitive: Like the Action Network tools you already know\nList Building: Activists can sign up by texting in a keyword\nAdvanced Features: Segmentation\, automation\, & testing\nAccessible: A price point organizations of all sizes will love
URL:https://actionnetwork.blog/event/mobile-messaging-demo/2028-06-07/
END:VEVENT
BEGIN:VEVENT
DTSTART;TZID=America/New_York:20280608T140000
DTEND;TZID=America/New_York:20280608T150000
DTSTAMP:20260419T191044
CREATED:20220805T160237Z
LAST-MODIFIED:20230906T145238Z
UID:10000618-1844085600-1844089200@actionnetwork.blog
SUMMARY:102 - Actions\, Mobilizing & Growing Your Activist List
DESCRIPTION:The essence of Action Network! Petitions\, letter campaigns\, events\, fundraisers and much more. Join us each month as we rotate through action types and talk through best practices in creating engaging actions.
URL:https://actionnetwork.blog/event/102-actions-mobilizing-growing-your-activist-list/2028-06-08/
END:VEVENT
BEGIN:VEVENT
DTSTART;TZID=America/New_York:20280608T150000
DTEND;TZID=America/New_York:20280608T160000
DTSTAMP:20260419T191044
CREATED:20230403T183656Z
LAST-MODIFIED:20230615T141526Z
UID:10000444-1844089200-1844092800@actionnetwork.blog
SUMMARY:AB 102 - Tasks
DESCRIPTION:Ready to get to work organizing? Join us for a live training where we will dig into our Tasks feature. Learn how Action Builder can make completing follow up tasks\, in the office or in the field\, quick and easy! From this training\, you can expect to learn how to: \n\nCreate\, edit\, and manage tasks\nAdd task due dates\, descriptions\, and To-Dos\nCreate targets for your tasks\nCreate turfs manually and with the Auto-create feature\nAssign turf to individuals and teams\nView and complete your own tasks
URL:https://actionnetwork.blog/event/ab-102-tasks/2028-06-08/
END:VEVENT
BEGIN:VEVENT
DTSTART;TZID=America/New_York:20280613T140000
DTEND;TZID=America/New_York:20280613T150000
DTSTAMP:20260419T191044
CREATED:20260409T171840Z
LAST-MODIFIED:20260409T171937Z
UID:10000953-1844517600-1844521200@actionnetwork.blog
SUMMARY:Action Network Demo
DESCRIPTION: \n\n\n\nWant to see how Action Network can help power your team? Join us for a quick but comprehensive online walkthrough of the technology. You’ll be able to ask questions throughout the demo.
URL:https://actionnetwork.blog/event/action-network-demo/2028-06-13/
END:VEVENT
BEGIN:VEVENT
DTSTART;TZID=America/New_York:20280613T150000
DTEND;TZID=America/New_York:20280613T160000
DTSTAMP:20260419T191044
CREATED:20260409T172431Z
LAST-MODIFIED:20260409T172431Z
UID:10001214-1844521200-1844524800@actionnetwork.blog
SUMMARY:Action Builder Demo
DESCRIPTION: \n\n\n\nAttend a guided walk-through and discover the core features that make Action Builder an essential companion tool for organizers. \nLearn more about how Action Builder is designed for organizers on the go\, giving you needed information at your fingertips to grow power and win real change.
URL:https://actionnetwork.blog/event/action-builder-demo/2028-06-13/
END:VEVENT
BEGIN:VEVENT
DTSTART;TZID=America/New_York:20280615T140000
DTEND;TZID=America/New_York:20280615T150000
DTSTAMP:20260419T191044
CREATED:20220805T160600Z
LAST-MODIFIED:20240514T153816Z
UID:10000678-1844690400-1844694000@actionnetwork.blog
SUMMARY:103 - Email
DESCRIPTION:Learn how to write\, test\, and target your emails in this 1 hour training. We’ll cover the basics as well as some advanced topics\, including conditional content\, design\, and queries.
URL:https://actionnetwork.blog/event/103-email/2028-06-15/
END:VEVENT
BEGIN:VEVENT
DTSTART;TZID=America/New_York:20280615T150000
DTEND;TZID=America/New_York:20280615T160000
DTSTAMP:20260419T191044
CREATED:20230403T183828Z
LAST-MODIFIED:20230615T141654Z
UID:10000501-1844694000-1844697600@actionnetwork.blog
SUMMARY:AB 103 - Data Structures and Uploads
DESCRIPTION:Are you an Admin responsible for getting lists into Action Builder? Then this training is for you! Join us for a live training where we will cover data structures\, uploading lists\, and creating and managing fields and responses. From this training\, you can expect to learn how to: \n\nCreate a section and add fields and responses\nUtilize templates to create an upload file for entities\, info\, connections and shifts\nTroubleshoot common .CSV file issues on uploads\nManage\, edit\, and archive fields and responses\nAdd and manage entities and connections
URL:https://actionnetwork.blog/event/ab-103-data-structures-and-uploads/2028-06-15/
END:VEVENT
BEGIN:VEVENT
DTSTART;TZID=America/New_York:20280620T140000
DTEND;TZID=America/New_York:20280620T150000
DTSTAMP:20260419T191044
CREATED:20260409T171840Z
LAST-MODIFIED:20260409T171937Z
UID:10000954-1845122400-1845126000@actionnetwork.blog
SUMMARY:Action Network Demo
DESCRIPTION: \n\n\n\nWant to see how Action Network can help power your team? Join us for a quick but comprehensive online walkthrough of the technology. You’ll be able to ask questions throughout the demo.
URL:https://actionnetwork.blog/event/action-network-demo/2028-06-20/
END:VEVENT
BEGIN:VEVENT
DTSTART;TZID=America/New_York:20280620T150000
DTEND;TZID=America/New_York:20280620T160000
DTSTAMP:20260419T191044
CREATED:20260409T172431Z
LAST-MODIFIED:20260409T172431Z
UID:10001215-1845126000-1845129600@actionnetwork.blog
SUMMARY:Action Builder Demo
DESCRIPTION: \n\n\n\nAttend a guided walk-through and discover the core features that make Action Builder an essential companion tool for organizers. \nLearn more about how Action Builder is designed for organizers on the go\, giving you needed information at your fingertips to grow power and win real change.
URL:https://actionnetwork.blog/event/action-builder-demo/2028-06-20/
END:VEVENT
BEGIN:VEVENT
DTSTART;TZID=America/New_York:20280622T140000
DTEND;TZID=America/New_York:20280622T150000
DTSTAMP:20260419T191044
CREATED:20220805T160729Z
LAST-MODIFIED:20230906T145306Z
UID:10000738-1845295200-1845298800@actionnetwork.blog
SUMMARY:104 - Mobile Messaging
DESCRIPTION:Action Network is making mass mobile messaging as easy as sending email. Learn how to get started with Mobile Messaging in this training where we will cover how to create a mobile message\, how to use ladders and how to set up a call campaign.
URL:https://actionnetwork.blog/event/104-mobile-messaging/2028-06-22/
END:VEVENT
BEGIN:VEVENT
DTSTART;TZID=America/New_York:20280627T140000
DTEND;TZID=America/New_York:20280627T150000
DTSTAMP:20260419T191044
CREATED:20260409T171840Z
LAST-MODIFIED:20260409T171937Z
UID:10000955-1845727200-1845730800@actionnetwork.blog
SUMMARY:Action Network Demo
DESCRIPTION: \n\n\n\nWant to see how Action Network can help power your team? Join us for a quick but comprehensive online walkthrough of the technology. You’ll be able to ask questions throughout the demo.
URL:https://actionnetwork.blog/event/action-network-demo/2028-06-27/
END:VEVENT
BEGIN:VEVENT
DTSTART;TZID=America/New_York:20280627T150000
DTEND;TZID=America/New_York:20280627T160000
DTSTAMP:20260419T191044
CREATED:20260409T172431Z
LAST-MODIFIED:20260409T172431Z
UID:10001216-1845730800-1845734400@actionnetwork.blog
SUMMARY:Action Builder Demo
DESCRIPTION: \n\n\n\nAttend a guided walk-through and discover the core features that make Action Builder an essential companion tool for organizers. \nLearn more about how Action Builder is designed for organizers on the go\, giving you needed information at your fingertips to grow power and win real change.
URL:https://actionnetwork.blog/event/action-builder-demo/2028-06-27/
END:VEVENT
BEGIN:VEVENT
DTSTART;TZID=America/New_York:20280629T130000
DTEND;TZID=America/New_York:20280629T140000
DTSTAMP:20260419T191044
CREATED:20230906T194736Z
LAST-MODIFIED:20230906T194736Z
UID:10000762-1845896400-1845900000@actionnetwork.blog
SUMMARY:105 - Deliverability
DESCRIPTION:Do you find a lot of emails end up in spam? Are your open rates suddenly tanking? Do you want to avoid these issues altogether? You’ll need to learn about deliverability! \nBy the end of this training\, you will know the best delivery practices to protect your email program and help your emails end up in inboxes and avoid spam folders. You’ll also learn how to improve your deliverability and reputation if it’s taken a hit.
URL:https://actionnetwork.blog/event/105-deliverability-2/2028-06-29/
END:VEVENT
END:VCALENDAR