BEGIN:VCALENDAR
VERSION:2.0
PRODID:-//Action Network Blog - ECPv6.15.20//NONSGML v1.0//EN
CALSCALE:GREGORIAN
METHOD:PUBLISH
X-WR-CALNAME:Action Network Blog
X-ORIGINAL-URL:https://actionnetwork.blog
X-WR-CALDESC:Events for Action Network Blog
REFRESH-INTERVAL;VALUE=DURATION:PT1H
X-Robots-Tag:noindex
X-PUBLISHED-TTL:PT1H
BEGIN:VTIMEZONE
TZID:America/New_York
BEGIN:DAYLIGHT
TZOFFSETFROM:-0500
TZOFFSETTO:-0400
TZNAME:EDT
DTSTART:20220313T070000
END:DAYLIGHT
BEGIN:STANDARD
TZOFFSETFROM:-0400
TZOFFSETTO:-0500
TZNAME:EST
DTSTART:20221106T060000
END:STANDARD
BEGIN:DAYLIGHT
TZOFFSETFROM:-0500
TZOFFSETTO:-0400
TZNAME:EDT
DTSTART:20230312T070000
END:DAYLIGHT
BEGIN:STANDARD
TZOFFSETFROM:-0400
TZOFFSETTO:-0500
TZNAME:EST
DTSTART:20231105T060000
END:STANDARD
BEGIN:DAYLIGHT
TZOFFSETFROM:-0500
TZOFFSETTO:-0400
TZNAME:EDT
DTSTART:20240310T070000
END:DAYLIGHT
BEGIN:STANDARD
TZOFFSETFROM:-0400
TZOFFSETTO:-0500
TZNAME:EST
DTSTART:20241103T060000
END:STANDARD
END:VTIMEZONE
BEGIN:VEVENT
DTSTART;TZID=America/New_York:20230202T140000
DTEND;TZID=America/New_York:20230202T150000
DTSTAMP:20260419T190955
CREATED:20221026T013523Z
LAST-MODIFIED:20240514T153724Z
UID:10000184-1675346400-1675350000@actionnetwork.blog
SUMMARY:101 - Data\, Understanding Your Activist List
DESCRIPTION:Learn how to set up your data in Action Network. We’ll cover gathering activist data\, uploading\, segmenting\, and downloading your list\, as well as how to keep your data organized as you grow.
URL:https://actionnetwork.blog/event/101-data-understanding-your-activist-list-2/2023-02-02/
END:VEVENT
BEGIN:VEVENT
DTSTART;TZID=America/New_York:20230209T140000
DTEND;TZID=America/New_York:20230209T150000
DTSTAMP:20260419T190955
CREATED:20220805T160237Z
LAST-MODIFIED:20230906T145238Z
UID:10000163-1675951200-1675954800@actionnetwork.blog
SUMMARY:102 - Actions\, Mobilizing & Growing Your Activist List
DESCRIPTION:The essence of Action Network! Petitions\, letter campaigns\, events\, fundraisers and much more. Join us each month as we rotate through action types and talk through best practices in creating engaging actions.
URL:https://actionnetwork.blog/event/102-actions-mobilizing-growing-your-activist-list/2023-02-09/
END:VEVENT
BEGIN:VEVENT
DTSTART;TZID=America/New_York:20230216T140000
DTEND;TZID=America/New_York:20230216T150000
DTSTAMP:20260419T190955
CREATED:20220805T160600Z
LAST-MODIFIED:20240514T153816Z
UID:10000211-1676556000-1676559600@actionnetwork.blog
SUMMARY:103 - Email
DESCRIPTION:Learn how to write\, test\, and target your emails in this 1 hour training. We’ll cover the basics as well as some advanced topics\, including conditional content\, design\, and queries.
URL:https://actionnetwork.blog/event/103-email/2023-02-16/
END:VEVENT
BEGIN:VEVENT
DTSTART;TZID=America/New_York:20230223T140000
DTEND;TZID=America/New_York:20230223T150000
DTSTAMP:20260419T190955
CREATED:20220805T160729Z
LAST-MODIFIED:20230906T145306Z
UID:10000237-1677160800-1677164400@actionnetwork.blog
SUMMARY:104 - Mobile Messaging
DESCRIPTION:Action Network is making mass mobile messaging as easy as sending email. Learn how to get started with Mobile Messaging in this training where we will cover how to create a mobile message\, how to use ladders and how to set up a call campaign.
URL:https://actionnetwork.blog/event/104-mobile-messaging/2023-02-23/
END:VEVENT
END:VCALENDAR