BEGIN:VCALENDAR
VERSION:2.0
PRODID:-//Action Network Blog - ECPv6.15.20//NONSGML v1.0//EN
CALSCALE:GREGORIAN
METHOD:PUBLISH
X-WR-CALNAME:Action Network Blog
X-ORIGINAL-URL:https://actionnetwork.blog
X-WR-CALDESC:Events for Action Network Blog
REFRESH-INTERVAL;VALUE=DURATION:PT1H
X-Robots-Tag:noindex
X-PUBLISHED-TTL:PT1H
BEGIN:VTIMEZONE
TZID:America/New_York
BEGIN:DAYLIGHT
TZOFFSETFROM:-0500
TZOFFSETTO:-0400
TZNAME:EDT
DTSTART:20300310T070000
END:DAYLIGHT
BEGIN:STANDARD
TZOFFSETFROM:-0400
TZOFFSETTO:-0500
TZNAME:EST
DTSTART:20301103T060000
END:STANDARD
BEGIN:DAYLIGHT
TZOFFSETFROM:-0500
TZOFFSETTO:-0400
TZNAME:EDT
DTSTART:20310309T070000
END:DAYLIGHT
BEGIN:STANDARD
TZOFFSETFROM:-0400
TZOFFSETTO:-0500
TZNAME:EST
DTSTART:20311102T060000
END:STANDARD
BEGIN:DAYLIGHT
TZOFFSETFROM:-0500
TZOFFSETTO:-0400
TZNAME:EDT
DTSTART:20320314T070000
END:DAYLIGHT
BEGIN:STANDARD
TZOFFSETFROM:-0400
TZOFFSETTO:-0500
TZNAME:EST
DTSTART:20321107T060000
END:STANDARD
END:VTIMEZONE
BEGIN:VEVENT
DTSTART;TZID=America/New_York:20310401T140000
DTEND;TZID=America/New_York:20310401T150000
DTSTAMP:20260422T064900
CREATED:20260409T171840Z
LAST-MODIFIED:20260409T171937Z
UID:10001099-1932818400-1932822000@actionnetwork.blog
SUMMARY:Action Network Demo
DESCRIPTION: \n\n\n\nWant to see how Action Network can help power your team? Join us for a quick but comprehensive online walkthrough of the technology. You’ll be able to ask questions throughout the demo.
URL:https://actionnetwork.blog/event/action-network-demo/2031-04-01/
END:VEVENT
BEGIN:VEVENT
DTSTART;TZID=America/New_York:20310401T150000
DTEND;TZID=America/New_York:20310401T160000
DTSTAMP:20260422T064900
CREATED:20260409T172431Z
LAST-MODIFIED:20260409T172431Z
UID:10001360-1932822000-1932825600@actionnetwork.blog
SUMMARY:Action Builder Demo
DESCRIPTION: \n\n\n\nAttend a guided walk-through and discover the core features that make Action Builder an essential companion tool for organizers. \nLearn more about how Action Builder is designed for organizers on the go\, giving you needed information at your fingertips to grow power and win real change.
URL:https://actionnetwork.blog/event/action-builder-demo/2031-04-01/
END:VEVENT
BEGIN:VEVENT
DTSTART;TZID=America/New_York:20310402T140000
DTEND;TZID=America/New_York:20310402T150000
DTSTAMP:20260422T064900
CREATED:20260409T172903Z
LAST-MODIFIED:20260409T172935Z
UID:10001421-1932904800-1932908400@actionnetwork.blog
SUMMARY:Mobile Messaging Demo
DESCRIPTION:  \n\n\n\nNow mass mobile messaging is as easy as sending email! \n\nIntegrated: All your mobilization tools & data in one place\nIntuitive: Like the Action Network tools you already know\nList Building: Activists can sign up by texting in a keyword\nAdvanced Features: Segmentation\, automation\, & testing\nAccessible: A price point organizations of all sizes will love
URL:https://actionnetwork.blog/event/mobile-messaging-demo/2031-04-02/
END:VEVENT
END:VCALENDAR