BEGIN:VCALENDAR
VERSION:2.0
PRODID:-//Action Network Blog - ECPv6.2.9//NONSGML v1.0//EN
CALSCALE:GREGORIAN
METHOD:PUBLISH
X-WR-CALNAME:Action Network Blog
X-ORIGINAL-URL:https://actionnetwork.blog
X-WR-CALDESC:Events for Action Network Blog
REFRESH-INTERVAL;VALUE=DURATION:PT1H
X-Robots-Tag:noindex
X-PUBLISHED-TTL:PT1H
BEGIN:VTIMEZONE
TZID:America/New_York
BEGIN:DAYLIGHT
TZOFFSETFROM:-0500
TZOFFSETTO:-0400
TZNAME:EDT
DTSTART:20240310T070000
END:DAYLIGHT
BEGIN:STANDARD
TZOFFSETFROM:-0400
TZOFFSETTO:-0500
TZNAME:EST
DTSTART:20241103T060000
END:STANDARD
END:VTIMEZONE
BEGIN:VEVENT
DTSTART;TZID=America/New_York:20240229T130000
DTEND;TZID=America/New_York:20240229T140000
DTSTAMP:20240111T152613
CREATED:20230906T194736Z
LAST-MODIFIED:20230906T194736Z
UID:10000744-1709211600-1709215200@actionnetwork.blog
SUMMARY:105 - Deliverability
DESCRIPTION:Do you find a lot of emails end up in spam? Are your open rates suddenly tanking? Do you want to avoid these issues altogether? You’ll need to learn about deliverability! \nBy the end of this training\, you will know the best delivery practices to protect your email program and help your emails end up in inboxes and avoid spam folders. You’ll also learn how to improve your deliverability and reputation if it’s taken a hit.
URL:https://actionnetwork.blog/event/105-deliverability-2/2024-02-29/
END:VEVENT
END:VCALENDAR