BEGIN:VCALENDAR
VERSION:2.0
PRODID:-//Action Network Blog - ECPv6.2.9//NONSGML v1.0//EN
CALSCALE:GREGORIAN
METHOD:PUBLISH
X-ORIGINAL-URL:https://actionnetwork.blog
X-WR-CALDESC:Events for Action Network Blog
REFRESH-INTERVAL;VALUE=DURATION:PT1H
X-Robots-Tag:noindex
X-PUBLISHED-TTL:PT1H
BEGIN:VTIMEZONE
TZID:America/New_York
BEGIN:DAYLIGHT
TZOFFSETFROM:-0500
TZOFFSETTO:-0400
TZNAME:EDT
DTSTART:20240310T070000
END:DAYLIGHT
BEGIN:STANDARD
TZOFFSETFROM:-0400
TZOFFSETTO:-0500
TZNAME:EST
DTSTART:20241103T060000
END:STANDARD
END:VTIMEZONE
BEGIN:VEVENT
DTSTART;TZID=America/New_York:20240118T140000
DTEND;TZID=America/New_York:20240118T150000
DTSTAMP:20240111T150647
CREATED:20220805T160600Z
LAST-MODIFIED:20230906T162050Z
UID:10000625-1705586400-1705590000@actionnetwork.blog
SUMMARY:103 - Email
DESCRIPTION:Learn how to write\, test\, and target your emails in this 1 hour training. We’ll cover the basics as well as some advanced topics\, including conditional content\, design\, and queries.
URL:https://actionnetwork.blog/event/103-email/2024-01-18/
END:VEVENT
BEGIN:VEVENT
DTSTART;TZID=America/New_York:20240118T150000
DTEND;TZID=America/New_York:20240118T160000
DTSTAMP:20240111T150647
CREATED:20230403T183828Z
LAST-MODIFIED:20230615T141654Z
UID:10000448-1705590000-1705593600@actionnetwork.blog
SUMMARY:AB 103 - Data Structures and Uploads
DESCRIPTION:Are you an Admin responsible for getting lists into Action Builder? Then this training is for you! Join us for a live training where we will cover data structures\, uploading lists\, and creating and managing fields and responses. From this training\, you can expect to learn how to: \n\nCreate a section and add fields and responses\nUtilize templates to create an upload file for entities\, info\, connections and shifts\nTroubleshoot common .CSV file issues on uploads\nManage\, edit\, and archive fields and responses\nAdd and manage entities and connections
URL:https://actionnetwork.blog/event/ab-103-data-structures-and-uploads/2024-01-18/
END:VEVENT
END:VCALENDAR